BEGIN:VCALENDAR
VERSION:2.0
PRODID:-//Restoration Church l Faith-filled Church in Fort Mill SC - ECPv6.15.18//NONSGML v1.0//EN
CALSCALE:GREGORIAN
METHOD:PUBLISH
X-WR-CALNAME:Restoration Church l Faith-filled Church in Fort Mill SC
X-ORIGINAL-URL:https://restorationchurchcarolinas.org
X-WR-CALDESC:Events for Restoration Church l Faith-filled Church in Fort Mill SC
REFRESH-INTERVAL;VALUE=DURATION:PT1H
X-Robots-Tag:noindex
X-PUBLISHED-TTL:PT1H
BEGIN:VTIMEZONE
TZID:America/New_York
BEGIN:DAYLIGHT
TZOFFSETFROM:-0500
TZOFFSETTO:-0400
TZNAME:EDT
DTSTART:20240310T070000
END:DAYLIGHT
BEGIN:STANDARD
TZOFFSETFROM:-0400
TZOFFSETTO:-0500
TZNAME:EST
DTSTART:20241103T060000
END:STANDARD
BEGIN:DAYLIGHT
TZOFFSETFROM:-0500
TZOFFSETTO:-0400
TZNAME:EDT
DTSTART:20250309T070000
END:DAYLIGHT
BEGIN:STANDARD
TZOFFSETFROM:-0400
TZOFFSETTO:-0500
TZNAME:EST
DTSTART:20251102T060000
END:STANDARD
BEGIN:DAYLIGHT
TZOFFSETFROM:-0500
TZOFFSETTO:-0400
TZNAME:EDT
DTSTART:20260308T070000
END:DAYLIGHT
BEGIN:STANDARD
TZOFFSETFROM:-0400
TZOFFSETTO:-0500
TZNAME:EST
DTSTART:20261101T060000
END:STANDARD
BEGIN:DAYLIGHT
TZOFFSETFROM:-0500
TZOFFSETTO:-0400
TZNAME:EDT
DTSTART:20270314T070000
END:DAYLIGHT
BEGIN:STANDARD
TZOFFSETFROM:-0400
TZOFFSETTO:-0500
TZNAME:EST
DTSTART:20271107T060000
END:STANDARD
END:VTIMEZONE
BEGIN:VEVENT
DTSTART;TZID=America/New_York:20260120T110000
DTEND;TZID=America/New_York:20260120T123000
DTSTAMP:20260419T232914
CREATED:20250830T185857Z
LAST-MODIFIED:20250830T185857Z
UID:10002920-1768906800-1768912200@restorationchurchcarolinas.org
SUMMARY:Men's D-Group
DESCRIPTION:Men’s Discipleship Group led by Everett Fletcher will meet in the Youth Building every Tuesday from 11a-12:30p.
URL:https://restorationchurchcarolinas.org/calendar/mens-d-group/2026-01-20/
LOCATION:Youth Bldg.\, 8365 Possum Hollow Rd\, Fort Mill\, SC\, 29707\, United States
CATEGORIES:Men's Ministry
ATTACH;FMTTYPE=image/webp:https://restorationchurchcarolinas.org/wp-content/uploads/2025/08/mens-discipleship-group-fort-mill-sc.webp
ORGANIZER;CN="Men's Ministry":MAILTO:info@restorationchurchcarolinas.com
END:VEVENT
BEGIN:VEVENT
DTSTART;TZID=America/New_York:20260113T110000
DTEND;TZID=America/New_York:20260113T123000
DTSTAMP:20260419T232914
CREATED:20250830T185857Z
LAST-MODIFIED:20250830T185857Z
UID:10002919-1768302000-1768307400@restorationchurchcarolinas.org
SUMMARY:Men's D-Group
DESCRIPTION:Men’s Discipleship Group led by Everett Fletcher will meet in the Youth Building every Tuesday from 11a-12:30p.
URL:https://restorationchurchcarolinas.org/calendar/mens-d-group/2026-01-13/
LOCATION:Youth Bldg.\, 8365 Possum Hollow Rd\, Fort Mill\, SC\, 29707\, United States
CATEGORIES:Men's Ministry
ATTACH;FMTTYPE=image/webp:https://restorationchurchcarolinas.org/wp-content/uploads/2025/08/mens-discipleship-group-fort-mill-sc.webp
ORGANIZER;CN="Men's Ministry":MAILTO:info@restorationchurchcarolinas.com
END:VEVENT
BEGIN:VEVENT
DTSTART;TZID=America/New_York:20260106T110000
DTEND;TZID=America/New_York:20260106T123000
DTSTAMP:20260419T232914
CREATED:20250830T185857Z
LAST-MODIFIED:20250830T185857Z
UID:10002918-1767697200-1767702600@restorationchurchcarolinas.org
SUMMARY:Men's D-Group
DESCRIPTION:Men’s Discipleship Group led by Everett Fletcher will meet in the Youth Building every Tuesday from 11a-12:30p.
URL:https://restorationchurchcarolinas.org/calendar/mens-d-group/2026-01-06/
LOCATION:Youth Bldg.\, 8365 Possum Hollow Rd\, Fort Mill\, SC\, 29707\, United States
CATEGORIES:Men's Ministry
ATTACH;FMTTYPE=image/webp:https://restorationchurchcarolinas.org/wp-content/uploads/2025/08/mens-discipleship-group-fort-mill-sc.webp
ORGANIZER;CN="Men's Ministry":MAILTO:info@restorationchurchcarolinas.com
END:VEVENT
BEGIN:VEVENT
DTSTART;TZID=America/New_York:20251230T110000
DTEND;TZID=America/New_York:20251230T123000
DTSTAMP:20260419T232914
CREATED:20250830T185857Z
LAST-MODIFIED:20250830T185857Z
UID:10002917-1767092400-1767097800@restorationchurchcarolinas.org
SUMMARY:Men's D-Group
DESCRIPTION:Men’s Discipleship Group led by Everett Fletcher will meet in the Youth Building every Tuesday from 11a-12:30p.
URL:https://restorationchurchcarolinas.org/calendar/mens-d-group/2025-12-30/
LOCATION:Youth Bldg.\, 8365 Possum Hollow Rd\, Fort Mill\, SC\, 29707\, United States
CATEGORIES:Men's Ministry
ATTACH;FMTTYPE=image/webp:https://restorationchurchcarolinas.org/wp-content/uploads/2025/08/mens-discipleship-group-fort-mill-sc.webp
ORGANIZER;CN="Men's Ministry":MAILTO:info@restorationchurchcarolinas.com
END:VEVENT
BEGIN:VEVENT
DTSTART;TZID=America/New_York:20251223T110000
DTEND;TZID=America/New_York:20251223T123000
DTSTAMP:20260419T232914
CREATED:20250830T185857Z
LAST-MODIFIED:20250830T185857Z
UID:10002916-1766487600-1766493000@restorationchurchcarolinas.org
SUMMARY:Men's D-Group
DESCRIPTION:Men’s Discipleship Group led by Everett Fletcher will meet in the Youth Building every Tuesday from 11a-12:30p.
URL:https://restorationchurchcarolinas.org/calendar/mens-d-group/2025-12-23/
LOCATION:Youth Bldg.\, 8365 Possum Hollow Rd\, Fort Mill\, SC\, 29707\, United States
CATEGORIES:Men's Ministry
ATTACH;FMTTYPE=image/webp:https://restorationchurchcarolinas.org/wp-content/uploads/2025/08/mens-discipleship-group-fort-mill-sc.webp
ORGANIZER;CN="Men's Ministry":MAILTO:info@restorationchurchcarolinas.com
END:VEVENT
BEGIN:VEVENT
DTSTART;TZID=America/New_York:20251216T110000
DTEND;TZID=America/New_York:20251216T123000
DTSTAMP:20260419T232914
CREATED:20250830T185857Z
LAST-MODIFIED:20250830T185857Z
UID:10002915-1765882800-1765888200@restorationchurchcarolinas.org
SUMMARY:Men's D-Group
DESCRIPTION:Men’s Discipleship Group led by Everett Fletcher will meet in the Youth Building every Tuesday from 11a-12:30p.
URL:https://restorationchurchcarolinas.org/calendar/mens-d-group/2025-12-16/
LOCATION:Youth Bldg.\, 8365 Possum Hollow Rd\, Fort Mill\, SC\, 29707\, United States
CATEGORIES:Men's Ministry
ATTACH;FMTTYPE=image/webp:https://restorationchurchcarolinas.org/wp-content/uploads/2025/08/mens-discipleship-group-fort-mill-sc.webp
ORGANIZER;CN="Men's Ministry":MAILTO:info@restorationchurchcarolinas.com
END:VEVENT
BEGIN:VEVENT
DTSTART;TZID=America/New_York:20251209T110000
DTEND;TZID=America/New_York:20251209T123000
DTSTAMP:20260419T232914
CREATED:20250830T185857Z
LAST-MODIFIED:20250830T185857Z
UID:10002914-1765278000-1765283400@restorationchurchcarolinas.org
SUMMARY:Men's D-Group
DESCRIPTION:Men’s Discipleship Group led by Everett Fletcher will meet in the Youth Building every Tuesday from 11a-12:30p.
URL:https://restorationchurchcarolinas.org/calendar/mens-d-group/2025-12-09/
LOCATION:Youth Bldg.\, 8365 Possum Hollow Rd\, Fort Mill\, SC\, 29707\, United States
CATEGORIES:Men's Ministry
ATTACH;FMTTYPE=image/webp:https://restorationchurchcarolinas.org/wp-content/uploads/2025/08/mens-discipleship-group-fort-mill-sc.webp
ORGANIZER;CN="Men's Ministry":MAILTO:info@restorationchurchcarolinas.com
END:VEVENT
BEGIN:VEVENT
DTSTART;TZID=America/New_York:20251202T110000
DTEND;TZID=America/New_York:20251202T123000
DTSTAMP:20260419T232914
CREATED:20250830T185857Z
LAST-MODIFIED:20250830T185857Z
UID:10002913-1764673200-1764678600@restorationchurchcarolinas.org
SUMMARY:Men's D-Group
DESCRIPTION:Men’s Discipleship Group led by Everett Fletcher will meet in the Youth Building every Tuesday from 11a-12:30p.
URL:https://restorationchurchcarolinas.org/calendar/mens-d-group/2025-12-02/
LOCATION:Youth Bldg.\, 8365 Possum Hollow Rd\, Fort Mill\, SC\, 29707\, United States
CATEGORIES:Men's Ministry
ATTACH;FMTTYPE=image/webp:https://restorationchurchcarolinas.org/wp-content/uploads/2025/08/mens-discipleship-group-fort-mill-sc.webp
ORGANIZER;CN="Men's Ministry":MAILTO:info@restorationchurchcarolinas.com
END:VEVENT
BEGIN:VEVENT
DTSTART;TZID=America/New_York:20251125T110000
DTEND;TZID=America/New_York:20251125T123000
DTSTAMP:20260419T232914
CREATED:20250830T185857Z
LAST-MODIFIED:20250830T185857Z
UID:10002912-1764068400-1764073800@restorationchurchcarolinas.org
SUMMARY:Men's D-Group
DESCRIPTION:Men’s Discipleship Group led by Everett Fletcher will meet in the Youth Building every Tuesday from 11a-12:30p.
URL:https://restorationchurchcarolinas.org/calendar/mens-d-group/2025-11-25/
LOCATION:Youth Bldg.\, 8365 Possum Hollow Rd\, Fort Mill\, SC\, 29707\, United States
CATEGORIES:Men's Ministry
ATTACH;FMTTYPE=image/webp:https://restorationchurchcarolinas.org/wp-content/uploads/2025/08/mens-discipleship-group-fort-mill-sc.webp
ORGANIZER;CN="Men's Ministry":MAILTO:info@restorationchurchcarolinas.com
END:VEVENT
BEGIN:VEVENT
DTSTART;TZID=America/New_York:20251118T110000
DTEND;TZID=America/New_York:20251118T123000
DTSTAMP:20260419T232914
CREATED:20250830T185857Z
LAST-MODIFIED:20250830T185857Z
UID:10002911-1763463600-1763469000@restorationchurchcarolinas.org
SUMMARY:Men's D-Group
DESCRIPTION:Men’s Discipleship Group led by Everett Fletcher will meet in the Youth Building every Tuesday from 11a-12:30p.
URL:https://restorationchurchcarolinas.org/calendar/mens-d-group/2025-11-18/
LOCATION:Youth Bldg.\, 8365 Possum Hollow Rd\, Fort Mill\, SC\, 29707\, United States
CATEGORIES:Men's Ministry
ATTACH;FMTTYPE=image/webp:https://restorationchurchcarolinas.org/wp-content/uploads/2025/08/mens-discipleship-group-fort-mill-sc.webp
ORGANIZER;CN="Men's Ministry":MAILTO:info@restorationchurchcarolinas.com
END:VEVENT
BEGIN:VEVENT
DTSTART;TZID=America/New_York:20251111T110000
DTEND;TZID=America/New_York:20251111T123000
DTSTAMP:20260419T232914
CREATED:20250830T185857Z
LAST-MODIFIED:20250830T185857Z
UID:10002910-1762858800-1762864200@restorationchurchcarolinas.org
SUMMARY:Men's D-Group
DESCRIPTION:Men’s Discipleship Group led by Everett Fletcher will meet in the Youth Building every Tuesday from 11a-12:30p.
URL:https://restorationchurchcarolinas.org/calendar/mens-d-group/2025-11-11/
LOCATION:Youth Bldg.\, 8365 Possum Hollow Rd\, Fort Mill\, SC\, 29707\, United States
CATEGORIES:Men's Ministry
ATTACH;FMTTYPE=image/webp:https://restorationchurchcarolinas.org/wp-content/uploads/2025/08/mens-discipleship-group-fort-mill-sc.webp
ORGANIZER;CN="Men's Ministry":MAILTO:info@restorationchurchcarolinas.com
END:VEVENT
BEGIN:VEVENT
DTSTART;TZID=America/New_York:20251104T110000
DTEND;TZID=America/New_York:20251104T123000
DTSTAMP:20260419T232914
CREATED:20250830T185857Z
LAST-MODIFIED:20250830T185857Z
UID:10002909-1762254000-1762259400@restorationchurchcarolinas.org
SUMMARY:Men's D-Group
DESCRIPTION:Men’s Discipleship Group led by Everett Fletcher will meet in the Youth Building every Tuesday from 11a-12:30p.
URL:https://restorationchurchcarolinas.org/calendar/mens-d-group/2025-11-04/
LOCATION:Youth Bldg.\, 8365 Possum Hollow Rd\, Fort Mill\, SC\, 29707\, United States
CATEGORIES:Men's Ministry
ATTACH;FMTTYPE=image/webp:https://restorationchurchcarolinas.org/wp-content/uploads/2025/08/mens-discipleship-group-fort-mill-sc.webp
ORGANIZER;CN="Men's Ministry":MAILTO:info@restorationchurchcarolinas.com
END:VEVENT
BEGIN:VEVENT
DTSTART;TZID=America/New_York:20251028T110000
DTEND;TZID=America/New_York:20251028T123000
DTSTAMP:20260419T232914
CREATED:20250830T185857Z
LAST-MODIFIED:20250830T185857Z
UID:10002908-1761649200-1761654600@restorationchurchcarolinas.org
SUMMARY:Men's D-Group
DESCRIPTION:Men’s Discipleship Group led by Everett Fletcher will meet in the Youth Building every Tuesday from 11a-12:30p.
URL:https://restorationchurchcarolinas.org/calendar/mens-d-group/2025-10-28/
LOCATION:Youth Bldg.\, 8365 Possum Hollow Rd\, Fort Mill\, SC\, 29707\, United States
CATEGORIES:Men's Ministry
ATTACH;FMTTYPE=image/webp:https://restorationchurchcarolinas.org/wp-content/uploads/2025/08/mens-discipleship-group-fort-mill-sc.webp
ORGANIZER;CN="Men's Ministry":MAILTO:info@restorationchurchcarolinas.com
END:VEVENT
BEGIN:VEVENT
DTSTART;TZID=America/New_York:20251021T110000
DTEND;TZID=America/New_York:20251021T123000
DTSTAMP:20260419T232914
CREATED:20250830T185857Z
LAST-MODIFIED:20250830T185857Z
UID:10002907-1761044400-1761049800@restorationchurchcarolinas.org
SUMMARY:Men's D-Group
DESCRIPTION:Men’s Discipleship Group led by Everett Fletcher will meet in the Youth Building every Tuesday from 11a-12:30p.
URL:https://restorationchurchcarolinas.org/calendar/mens-d-group/2025-10-21/
LOCATION:Youth Bldg.\, 8365 Possum Hollow Rd\, Fort Mill\, SC\, 29707\, United States
CATEGORIES:Men's Ministry
ATTACH;FMTTYPE=image/webp:https://restorationchurchcarolinas.org/wp-content/uploads/2025/08/mens-discipleship-group-fort-mill-sc.webp
ORGANIZER;CN="Men's Ministry":MAILTO:info@restorationchurchcarolinas.com
END:VEVENT
BEGIN:VEVENT
DTSTART;TZID=America/New_York:20251014T110000
DTEND;TZID=America/New_York:20251014T123000
DTSTAMP:20260419T232914
CREATED:20250830T185857Z
LAST-MODIFIED:20250830T185857Z
UID:10002906-1760439600-1760445000@restorationchurchcarolinas.org
SUMMARY:Men's D-Group
DESCRIPTION:Men’s Discipleship Group led by Everett Fletcher will meet in the Youth Building every Tuesday from 11a-12:30p.
URL:https://restorationchurchcarolinas.org/calendar/mens-d-group/2025-10-14/
LOCATION:Youth Bldg.\, 8365 Possum Hollow Rd\, Fort Mill\, SC\, 29707\, United States
CATEGORIES:Men's Ministry
ATTACH;FMTTYPE=image/webp:https://restorationchurchcarolinas.org/wp-content/uploads/2025/08/mens-discipleship-group-fort-mill-sc.webp
ORGANIZER;CN="Men's Ministry":MAILTO:info@restorationchurchcarolinas.com
END:VEVENT
BEGIN:VEVENT
DTSTART;TZID=America/New_York:20251007T110000
DTEND;TZID=America/New_York:20251007T123000
DTSTAMP:20260419T232914
CREATED:20250830T185857Z
LAST-MODIFIED:20250830T185857Z
UID:10002905-1759834800-1759840200@restorationchurchcarolinas.org
SUMMARY:Men's D-Group
DESCRIPTION:Men’s Discipleship Group led by Everett Fletcher will meet in the Youth Building every Tuesday from 11a-12:30p.
URL:https://restorationchurchcarolinas.org/calendar/mens-d-group/2025-10-07/
LOCATION:Youth Bldg.\, 8365 Possum Hollow Rd\, Fort Mill\, SC\, 29707\, United States
CATEGORIES:Men's Ministry
ATTACH;FMTTYPE=image/webp:https://restorationchurchcarolinas.org/wp-content/uploads/2025/08/mens-discipleship-group-fort-mill-sc.webp
ORGANIZER;CN="Men's Ministry":MAILTO:info@restorationchurchcarolinas.com
END:VEVENT
BEGIN:VEVENT
DTSTART;TZID=America/New_York:20250930T110000
DTEND;TZID=America/New_York:20250930T123000
DTSTAMP:20260419T232914
CREATED:20250830T185857Z
LAST-MODIFIED:20250830T185857Z
UID:10002904-1759230000-1759235400@restorationchurchcarolinas.org
SUMMARY:Men's D-Group
DESCRIPTION:Men’s Discipleship Group led by Everett Fletcher will meet in the Youth Building every Tuesday from 11a-12:30p.
URL:https://restorationchurchcarolinas.org/calendar/mens-d-group/2025-09-30/
LOCATION:Youth Bldg.\, 8365 Possum Hollow Rd\, Fort Mill\, SC\, 29707\, United States
CATEGORIES:Men's Ministry
ATTACH;FMTTYPE=image/webp:https://restorationchurchcarolinas.org/wp-content/uploads/2025/08/mens-discipleship-group-fort-mill-sc.webp
ORGANIZER;CN="Men's Ministry":MAILTO:info@restorationchurchcarolinas.com
END:VEVENT
BEGIN:VEVENT
DTSTART;TZID=America/New_York:20250923T110000
DTEND;TZID=America/New_York:20250923T123000
DTSTAMP:20260419T232914
CREATED:20250830T185857Z
LAST-MODIFIED:20250830T185857Z
UID:10002903-1758625200-1758630600@restorationchurchcarolinas.org
SUMMARY:Men's D-Group
DESCRIPTION:Men’s Discipleship Group led by Everett Fletcher will meet in the Youth Building every Tuesday from 11a-12:30p.
URL:https://restorationchurchcarolinas.org/calendar/mens-d-group/2025-09-23/
LOCATION:Youth Bldg.\, 8365 Possum Hollow Rd\, Fort Mill\, SC\, 29707\, United States
CATEGORIES:Men's Ministry
ATTACH;FMTTYPE=image/webp:https://restorationchurchcarolinas.org/wp-content/uploads/2025/08/mens-discipleship-group-fort-mill-sc.webp
ORGANIZER;CN="Men's Ministry":MAILTO:info@restorationchurchcarolinas.com
END:VEVENT
BEGIN:VEVENT
DTSTART;TZID=America/New_York:20250916T110000
DTEND;TZID=America/New_York:20250916T123000
DTSTAMP:20260419T232914
CREATED:20250830T185857Z
LAST-MODIFIED:20250830T185857Z
UID:10002902-1758020400-1758025800@restorationchurchcarolinas.org
SUMMARY:Men's D-Group
DESCRIPTION:Men’s Discipleship Group led by Everett Fletcher will meet in the Youth Building every Tuesday from 11a-12:30p.
URL:https://restorationchurchcarolinas.org/calendar/mens-d-group/2025-09-16/
LOCATION:Youth Bldg.\, 8365 Possum Hollow Rd\, Fort Mill\, SC\, 29707\, United States
CATEGORIES:Men's Ministry
ATTACH;FMTTYPE=image/webp:https://restorationchurchcarolinas.org/wp-content/uploads/2025/08/mens-discipleship-group-fort-mill-sc.webp
ORGANIZER;CN="Men's Ministry":MAILTO:info@restorationchurchcarolinas.com
END:VEVENT
BEGIN:VEVENT
DTSTART;TZID=America/New_York:20250909T110000
DTEND;TZID=America/New_York:20250909T123000
DTSTAMP:20260419T232914
CREATED:20250830T185857Z
LAST-MODIFIED:20250830T185857Z
UID:10002901-1757415600-1757421000@restorationchurchcarolinas.org
SUMMARY:Men's D-Group
DESCRIPTION:Men’s Discipleship Group led by Everett Fletcher will meet in the Youth Building every Tuesday from 11a-12:30p.
URL:https://restorationchurchcarolinas.org/calendar/mens-d-group/2025-09-09/
LOCATION:Youth Bldg.\, 8365 Possum Hollow Rd\, Fort Mill\, SC\, 29707\, United States
CATEGORIES:Men's Ministry
ATTACH;FMTTYPE=image/webp:https://restorationchurchcarolinas.org/wp-content/uploads/2025/08/mens-discipleship-group-fort-mill-sc.webp
ORGANIZER;CN="Men's Ministry":MAILTO:info@restorationchurchcarolinas.com
END:VEVENT
BEGIN:VEVENT
DTSTART;TZID=America/New_York:20250902T110000
DTEND;TZID=America/New_York:20250902T123000
DTSTAMP:20260419T232914
CREATED:20250830T185857Z
LAST-MODIFIED:20250830T185857Z
UID:10002900-1756810800-1756816200@restorationchurchcarolinas.org
SUMMARY:Men's D-Group
DESCRIPTION:Men’s Discipleship Group led by Everett Fletcher will meet in the Youth Building every Tuesday from 11a-12:30p.
URL:https://restorationchurchcarolinas.org/calendar/mens-d-group/2025-09-02/
LOCATION:Youth Bldg.\, 8365 Possum Hollow Rd\, Fort Mill\, SC\, 29707\, United States
CATEGORIES:Men's Ministry
ATTACH;FMTTYPE=image/webp:https://restorationchurchcarolinas.org/wp-content/uploads/2025/08/mens-discipleship-group-fort-mill-sc.webp
ORGANIZER;CN="Men's Ministry":MAILTO:info@restorationchurchcarolinas.com
END:VEVENT
END:VCALENDAR