BEGIN:VCALENDAR
VERSION:2.0
PRODID:-//Restoration Church l Faith-filled Church in Fort Mill SC - ECPv6.15.18//NONSGML v1.0//EN
CALSCALE:GREGORIAN
METHOD:PUBLISH
X-WR-CALNAME:Restoration Church l Faith-filled Church in Fort Mill SC
X-ORIGINAL-URL:https://restorationchurchcarolinas.org
X-WR-CALDESC:Events for Restoration Church l Faith-filled Church in Fort Mill SC
REFRESH-INTERVAL;VALUE=DURATION:PT1H
X-Robots-Tag:noindex
X-PUBLISHED-TTL:PT1H
BEGIN:VTIMEZONE
TZID:America/New_York
BEGIN:DAYLIGHT
TZOFFSETFROM:-0500
TZOFFSETTO:-0400
TZNAME:EDT
DTSTART:20240310T070000
END:DAYLIGHT
BEGIN:STANDARD
TZOFFSETFROM:-0400
TZOFFSETTO:-0500
TZNAME:EST
DTSTART:20241103T060000
END:STANDARD
BEGIN:DAYLIGHT
TZOFFSETFROM:-0500
TZOFFSETTO:-0400
TZNAME:EDT
DTSTART:20250309T070000
END:DAYLIGHT
BEGIN:STANDARD
TZOFFSETFROM:-0400
TZOFFSETTO:-0500
TZNAME:EST
DTSTART:20251102T060000
END:STANDARD
BEGIN:DAYLIGHT
TZOFFSETFROM:-0500
TZOFFSETTO:-0400
TZNAME:EDT
DTSTART:20260308T070000
END:DAYLIGHT
BEGIN:STANDARD
TZOFFSETFROM:-0400
TZOFFSETTO:-0500
TZNAME:EST
DTSTART:20261101T060000
END:STANDARD
BEGIN:DAYLIGHT
TZOFFSETFROM:-0500
TZOFFSETTO:-0400
TZNAME:EDT
DTSTART:20270314T070000
END:DAYLIGHT
BEGIN:STANDARD
TZOFFSETFROM:-0400
TZOFFSETTO:-0500
TZNAME:EST
DTSTART:20271107T060000
END:STANDARD
END:VTIMEZONE
BEGIN:VEVENT
DTSTART;TZID=America/New_York:20260121T190000
DTEND;TZID=America/New_York:20260121T210000
DTSTAMP:20260421T020304
CREATED:20250830T202521Z
LAST-MODIFIED:20250830T202521Z
UID:10003979-1769022000-1769029200@restorationchurchcarolinas.org
SUMMARY:Praise Team/Choir Rehearsal
DESCRIPTION:Praise Team Rehearsal / Choir Rehearsal 7:00 – 9:00 pm in the Sanctuary
URL:https://restorationchurchcarolinas.org/calendar/praise-team-choir-rehearsal-2-2-2-2-2-2-2-2/2026-01-21/
LOCATION:Sanctuary\, 8365 Possum Hollow Rd\, Fort Mill\, SC\, 29707\, United States
CATEGORIES:Music Ministry
ATTACH;FMTTYPE=image/webp:https://restorationchurchcarolinas.org/wp-content/uploads/2025/08/praise-team-rc-scaled.webp
END:VEVENT
BEGIN:VEVENT
DTSTART;TZID=America/New_York:20260114T190000
DTEND;TZID=America/New_York:20260114T210000
DTSTAMP:20260421T020304
CREATED:20250830T202521Z
LAST-MODIFIED:20250830T202521Z
UID:10003978-1768417200-1768424400@restorationchurchcarolinas.org
SUMMARY:Praise Team/Choir Rehearsal
DESCRIPTION:Praise Team Rehearsal / Choir Rehearsal 7:00 – 9:00 pm in the Sanctuary
URL:https://restorationchurchcarolinas.org/calendar/praise-team-choir-rehearsal-2-2-2-2-2-2-2-2/2026-01-14/
LOCATION:Sanctuary\, 8365 Possum Hollow Rd\, Fort Mill\, SC\, 29707\, United States
CATEGORIES:Music Ministry
ATTACH;FMTTYPE=image/webp:https://restorationchurchcarolinas.org/wp-content/uploads/2025/08/praise-team-rc-scaled.webp
END:VEVENT
BEGIN:VEVENT
DTSTART;TZID=America/New_York:20260107T190000
DTEND;TZID=America/New_York:20260107T210000
DTSTAMP:20260421T020304
CREATED:20250830T202521Z
LAST-MODIFIED:20250830T202521Z
UID:10003977-1767812400-1767819600@restorationchurchcarolinas.org
SUMMARY:Praise Team/Choir Rehearsal
DESCRIPTION:Praise Team Rehearsal / Choir Rehearsal 7:00 – 9:00 pm in the Sanctuary
URL:https://restorationchurchcarolinas.org/calendar/praise-team-choir-rehearsal-2-2-2-2-2-2-2-2/2026-01-07/
LOCATION:Sanctuary\, 8365 Possum Hollow Rd\, Fort Mill\, SC\, 29707\, United States
CATEGORIES:Music Ministry
ATTACH;FMTTYPE=image/webp:https://restorationchurchcarolinas.org/wp-content/uploads/2025/08/praise-team-rc-scaled.webp
END:VEVENT
BEGIN:VEVENT
DTSTART;TZID=America/New_York:20251231T190000
DTEND;TZID=America/New_York:20251231T210000
DTSTAMP:20260421T020304
CREATED:20250830T202521Z
LAST-MODIFIED:20250830T202521Z
UID:10003976-1767207600-1767214800@restorationchurchcarolinas.org
SUMMARY:Praise Team/Choir Rehearsal
DESCRIPTION:Praise Team Rehearsal / Choir Rehearsal 7:00 – 9:00 pm in the Sanctuary
URL:https://restorationchurchcarolinas.org/calendar/praise-team-choir-rehearsal-2-2-2-2-2-2-2-2/2025-12-31/
LOCATION:Sanctuary\, 8365 Possum Hollow Rd\, Fort Mill\, SC\, 29707\, United States
CATEGORIES:Music Ministry
ATTACH;FMTTYPE=image/webp:https://restorationchurchcarolinas.org/wp-content/uploads/2025/08/praise-team-rc-scaled.webp
END:VEVENT
BEGIN:VEVENT
DTSTART;TZID=America/New_York:20251224T190000
DTEND;TZID=America/New_York:20251224T210000
DTSTAMP:20260421T020304
CREATED:20250830T202521Z
LAST-MODIFIED:20250830T202521Z
UID:10003975-1766602800-1766610000@restorationchurchcarolinas.org
SUMMARY:Praise Team/Choir Rehearsal
DESCRIPTION:Praise Team Rehearsal / Choir Rehearsal 7:00 – 9:00 pm in the Sanctuary
URL:https://restorationchurchcarolinas.org/calendar/praise-team-choir-rehearsal-2-2-2-2-2-2-2-2/2025-12-24/
LOCATION:Sanctuary\, 8365 Possum Hollow Rd\, Fort Mill\, SC\, 29707\, United States
CATEGORIES:Music Ministry
ATTACH;FMTTYPE=image/webp:https://restorationchurchcarolinas.org/wp-content/uploads/2025/08/praise-team-rc-scaled.webp
END:VEVENT
BEGIN:VEVENT
DTSTART;TZID=America/New_York:20251217T190000
DTEND;TZID=America/New_York:20251217T210000
DTSTAMP:20260421T020304
CREATED:20250830T202521Z
LAST-MODIFIED:20250830T202521Z
UID:10003974-1765998000-1766005200@restorationchurchcarolinas.org
SUMMARY:Praise Team/Choir Rehearsal
DESCRIPTION:Praise Team Rehearsal / Choir Rehearsal 7:00 – 9:00 pm in the Sanctuary
URL:https://restorationchurchcarolinas.org/calendar/praise-team-choir-rehearsal-2-2-2-2-2-2-2-2/2025-12-17/
LOCATION:Sanctuary\, 8365 Possum Hollow Rd\, Fort Mill\, SC\, 29707\, United States
CATEGORIES:Music Ministry
ATTACH;FMTTYPE=image/webp:https://restorationchurchcarolinas.org/wp-content/uploads/2025/08/praise-team-rc-scaled.webp
END:VEVENT
BEGIN:VEVENT
DTSTART;TZID=America/New_York:20251210T190000
DTEND;TZID=America/New_York:20251210T210000
DTSTAMP:20260421T020304
CREATED:20250830T202521Z
LAST-MODIFIED:20250830T202521Z
UID:10003973-1765393200-1765400400@restorationchurchcarolinas.org
SUMMARY:Praise Team/Choir Rehearsal
DESCRIPTION:Praise Team Rehearsal / Choir Rehearsal 7:00 – 9:00 pm in the Sanctuary
URL:https://restorationchurchcarolinas.org/calendar/praise-team-choir-rehearsal-2-2-2-2-2-2-2-2/2025-12-10/
LOCATION:Sanctuary\, 8365 Possum Hollow Rd\, Fort Mill\, SC\, 29707\, United States
CATEGORIES:Music Ministry
ATTACH;FMTTYPE=image/webp:https://restorationchurchcarolinas.org/wp-content/uploads/2025/08/praise-team-rc-scaled.webp
END:VEVENT
BEGIN:VEVENT
DTSTART;TZID=America/New_York:20251203T190000
DTEND;TZID=America/New_York:20251203T210000
DTSTAMP:20260421T020304
CREATED:20250830T202521Z
LAST-MODIFIED:20250830T202521Z
UID:10003972-1764788400-1764795600@restorationchurchcarolinas.org
SUMMARY:Praise Team/Choir Rehearsal
DESCRIPTION:Praise Team Rehearsal / Choir Rehearsal 7:00 – 9:00 pm in the Sanctuary
URL:https://restorationchurchcarolinas.org/calendar/praise-team-choir-rehearsal-2-2-2-2-2-2-2-2/2025-12-03/
LOCATION:Sanctuary\, 8365 Possum Hollow Rd\, Fort Mill\, SC\, 29707\, United States
CATEGORIES:Music Ministry
ATTACH;FMTTYPE=image/webp:https://restorationchurchcarolinas.org/wp-content/uploads/2025/08/praise-team-rc-scaled.webp
END:VEVENT
BEGIN:VEVENT
DTSTART;TZID=America/New_York:20251126T190000
DTEND;TZID=America/New_York:20251126T210000
DTSTAMP:20260421T020304
CREATED:20250830T202521Z
LAST-MODIFIED:20250830T202521Z
UID:10003971-1764183600-1764190800@restorationchurchcarolinas.org
SUMMARY:Praise Team/Choir Rehearsal
DESCRIPTION:Praise Team Rehearsal / Choir Rehearsal 7:00 – 9:00 pm in the Sanctuary
URL:https://restorationchurchcarolinas.org/calendar/praise-team-choir-rehearsal-2-2-2-2-2-2-2-2/2025-11-26/
LOCATION:Sanctuary\, 8365 Possum Hollow Rd\, Fort Mill\, SC\, 29707\, United States
CATEGORIES:Music Ministry
ATTACH;FMTTYPE=image/webp:https://restorationchurchcarolinas.org/wp-content/uploads/2025/08/praise-team-rc-scaled.webp
END:VEVENT
BEGIN:VEVENT
DTSTART;TZID=America/New_York:20251119T190000
DTEND;TZID=America/New_York:20251119T210000
DTSTAMP:20260421T020304
CREATED:20250830T202521Z
LAST-MODIFIED:20250830T202521Z
UID:10003970-1763578800-1763586000@restorationchurchcarolinas.org
SUMMARY:Praise Team/Choir Rehearsal
DESCRIPTION:Praise Team Rehearsal / Choir Rehearsal 7:00 – 9:00 pm in the Sanctuary
URL:https://restorationchurchcarolinas.org/calendar/praise-team-choir-rehearsal-2-2-2-2-2-2-2-2/2025-11-19/
LOCATION:Sanctuary\, 8365 Possum Hollow Rd\, Fort Mill\, SC\, 29707\, United States
CATEGORIES:Music Ministry
ATTACH;FMTTYPE=image/webp:https://restorationchurchcarolinas.org/wp-content/uploads/2025/08/praise-team-rc-scaled.webp
END:VEVENT
BEGIN:VEVENT
DTSTART;TZID=America/New_York:20251112T190000
DTEND;TZID=America/New_York:20251112T210000
DTSTAMP:20260421T020304
CREATED:20250830T202521Z
LAST-MODIFIED:20250830T202521Z
UID:10003969-1762974000-1762981200@restorationchurchcarolinas.org
SUMMARY:Praise Team/Choir Rehearsal
DESCRIPTION:Praise Team Rehearsal / Choir Rehearsal 7:00 – 9:00 pm in the Sanctuary
URL:https://restorationchurchcarolinas.org/calendar/praise-team-choir-rehearsal-2-2-2-2-2-2-2-2/2025-11-12/
LOCATION:Sanctuary\, 8365 Possum Hollow Rd\, Fort Mill\, SC\, 29707\, United States
CATEGORIES:Music Ministry
ATTACH;FMTTYPE=image/webp:https://restorationchurchcarolinas.org/wp-content/uploads/2025/08/praise-team-rc-scaled.webp
END:VEVENT
BEGIN:VEVENT
DTSTART;TZID=America/New_York:20251105T190000
DTEND;TZID=America/New_York:20251105T210000
DTSTAMP:20260421T020304
CREATED:20250830T202521Z
LAST-MODIFIED:20250830T202521Z
UID:10003968-1762369200-1762376400@restorationchurchcarolinas.org
SUMMARY:Praise Team/Choir Rehearsal
DESCRIPTION:Praise Team Rehearsal / Choir Rehearsal 7:00 – 9:00 pm in the Sanctuary
URL:https://restorationchurchcarolinas.org/calendar/praise-team-choir-rehearsal-2-2-2-2-2-2-2-2/2025-11-05/
LOCATION:Sanctuary\, 8365 Possum Hollow Rd\, Fort Mill\, SC\, 29707\, United States
CATEGORIES:Music Ministry
ATTACH;FMTTYPE=image/webp:https://restorationchurchcarolinas.org/wp-content/uploads/2025/08/praise-team-rc-scaled.webp
END:VEVENT
BEGIN:VEVENT
DTSTART;TZID=America/New_York:20251029T190000
DTEND;TZID=America/New_York:20251029T210000
DTSTAMP:20260421T020304
CREATED:20250830T202521Z
LAST-MODIFIED:20250830T202521Z
UID:10003967-1761764400-1761771600@restorationchurchcarolinas.org
SUMMARY:Praise Team/Choir Rehearsal
DESCRIPTION:Praise Team Rehearsal / Choir Rehearsal 7:00 – 9:00 pm in the Sanctuary
URL:https://restorationchurchcarolinas.org/calendar/praise-team-choir-rehearsal-2-2-2-2-2-2-2-2/2025-10-29/
LOCATION:Sanctuary\, 8365 Possum Hollow Rd\, Fort Mill\, SC\, 29707\, United States
CATEGORIES:Music Ministry
ATTACH;FMTTYPE=image/webp:https://restorationchurchcarolinas.org/wp-content/uploads/2025/08/praise-team-rc-scaled.webp
END:VEVENT
BEGIN:VEVENT
DTSTART;TZID=America/New_York:20251022T190000
DTEND;TZID=America/New_York:20251022T210000
DTSTAMP:20260421T020304
CREATED:20250830T202432Z
LAST-MODIFIED:20250830T202432Z
UID:10003966-1761159600-1761166800@restorationchurchcarolinas.org
SUMMARY:Praise Team/Choir Rehearsal
DESCRIPTION:Praise Team Rehearsal / Choir Rehearsal 7:00 – 9:00 pm in the Sanctuary
URL:https://restorationchurchcarolinas.org/calendar/praise-team-choir-rehearsal-2-2-2-2-2-2-2/
LOCATION:Sanctuary\, 8365 Possum Hollow Rd\, Fort Mill\, SC\, 29707\, United States
CATEGORIES:Music Ministry
ATTACH;FMTTYPE=image/webp:https://restorationchurchcarolinas.org/wp-content/uploads/2025/08/join-the-choir-rc-scaled.webp
END:VEVENT
BEGIN:VEVENT
DTSTART;TZID=America/New_York:20251015T190000
DTEND;TZID=America/New_York:20251015T210000
DTSTAMP:20260421T020304
CREATED:20250830T202409Z
LAST-MODIFIED:20250830T202409Z
UID:10003965-1760554800-1760562000@restorationchurchcarolinas.org
SUMMARY:Praise Team/Choir Rehearsal
DESCRIPTION:Praise Team Rehearsal / Choir Rehearsal 7:00 – 9:00 pm in the Sanctuary
URL:https://restorationchurchcarolinas.org/calendar/praise-team-choir-rehearsal-2-2-2-2-2-2/
LOCATION:Sanctuary\, 8365 Possum Hollow Rd\, Fort Mill\, SC\, 29707\, United States
CATEGORIES:Music Ministry
ATTACH;FMTTYPE=image/webp:https://restorationchurchcarolinas.org/wp-content/uploads/2025/08/choir-rehearsal.webp
END:VEVENT
BEGIN:VEVENT
DTSTART;TZID=America/New_York:20251008T190000
DTEND;TZID=America/New_York:20251008T210000
DTSTAMP:20260421T020304
CREATED:20250830T202337Z
LAST-MODIFIED:20250830T202337Z
UID:10003964-1759950000-1759957200@restorationchurchcarolinas.org
SUMMARY:Praise Team/Choir Rehearsal
DESCRIPTION:Praise Team Rehearsal / Choir Rehearsal 7:00 – 9:00 pm in the Sanctuary
URL:https://restorationchurchcarolinas.org/calendar/praise-team-choir-rehearsal-2-2-2-2-2/
LOCATION:Sanctuary\, 8365 Possum Hollow Rd\, Fort Mill\, SC\, 29707\, United States
CATEGORIES:Music Ministry
ATTACH;FMTTYPE=image/webp:https://restorationchurchcarolinas.org/wp-content/uploads/2025/08/choir-rehearsal-rc.webp
END:VEVENT
BEGIN:VEVENT
DTSTART;TZID=America/New_York:20251001T190000
DTEND;TZID=America/New_York:20251001T210000
DTSTAMP:20260421T020304
CREATED:20250830T202312Z
LAST-MODIFIED:20250830T202313Z
UID:10003963-1759345200-1759352400@restorationchurchcarolinas.org
SUMMARY:Praise Team/Choir Rehearsal
DESCRIPTION:Praise Team Rehearsal / Choir Rehearsal 7:00 – 9:00 pm in the Sanctuary
URL:https://restorationchurchcarolinas.org/calendar/praise-team-choir-rehearsal-2-2-2-2/
LOCATION:Sanctuary\, 8365 Possum Hollow Rd\, Fort Mill\, SC\, 29707\, United States
CATEGORIES:Music Ministry
ATTACH;FMTTYPE=image/webp:https://restorationchurchcarolinas.org/wp-content/uploads/2025/08/choir-practice-rc-scaled.webp
END:VEVENT
BEGIN:VEVENT
DTSTART;TZID=America/New_York:20250924T190000
DTEND;TZID=America/New_York:20250924T210000
DTSTAMP:20260421T020304
CREATED:20250830T202245Z
LAST-MODIFIED:20250830T202245Z
UID:10003962-1758740400-1758747600@restorationchurchcarolinas.org
SUMMARY:Praise Team/Choir Rehearsal
DESCRIPTION:Praise Team Rehearsal / Choir Rehearsal 7:00 – 9:00 pm in the Sanctuary
URL:https://restorationchurchcarolinas.org/calendar/praise-team-choir-rehearsal-2-2-2/
LOCATION:Sanctuary\, 8365 Possum Hollow Rd\, Fort Mill\, SC\, 29707\, United States
CATEGORIES:Music Ministry
ATTACH;FMTTYPE=image/webp:https://restorationchurchcarolinas.org/wp-content/uploads/2025/08/worship-team-rc-scaled.webp
END:VEVENT
BEGIN:VEVENT
DTSTART;TZID=America/New_York:20250917T190000
DTEND;TZID=America/New_York:20250917T210000
DTSTAMP:20260421T020304
CREATED:20250830T202213Z
LAST-MODIFIED:20250830T202213Z
UID:10003961-1758135600-1758142800@restorationchurchcarolinas.org
SUMMARY:Praise Team/Choir Rehearsal
DESCRIPTION:Praise Team Rehearsal / Choir Rehearsal 7:00 – 9:00 pm in the Sanctuary
URL:https://restorationchurchcarolinas.org/calendar/praise-team-choir-rehearsal-2-2/
LOCATION:Sanctuary\, 8365 Possum Hollow Rd\, Fort Mill\, SC\, 29707\, United States
CATEGORIES:Music Ministry
ATTACH;FMTTYPE=image/webp:https://restorationchurchcarolinas.org/wp-content/uploads/2025/08/rc-praise-team-rehearsal.webp
END:VEVENT
BEGIN:VEVENT
DTSTART;TZID=America/New_York:20250910T190000
DTEND;TZID=America/New_York:20250910T210000
DTSTAMP:20260421T020304
CREATED:20250830T202145Z
LAST-MODIFIED:20250830T202145Z
UID:10003960-1757530800-1757538000@restorationchurchcarolinas.org
SUMMARY:Praise Team/Choir Rehearsal
DESCRIPTION:Praise Team Rehearsal / Choir Rehearsal 7:00 – 9:00 pm in the Sanctuary
URL:https://restorationchurchcarolinas.org/calendar/praise-team-choir-rehearsal-2/
LOCATION:Sanctuary\, 8365 Possum Hollow Rd\, Fort Mill\, SC\, 29707\, United States
CATEGORIES:Music Ministry
ATTACH;FMTTYPE=image/webp:https://restorationchurchcarolinas.org/wp-content/uploads/2025/08/praise-team-rehearsal.webp
END:VEVENT
BEGIN:VEVENT
DTSTART;TZID=America/New_York:20250903T190000
DTEND;TZID=America/New_York:20250903T210000
DTSTAMP:20260421T020304
CREATED:20250830T202030Z
LAST-MODIFIED:20250830T202030Z
UID:10003959-1756926000-1756933200@restorationchurchcarolinas.org
SUMMARY:Praise Team/Choir Rehearsal
DESCRIPTION:Praise Team Rehearsal / Choir Rehearsal 7:00 – 9:00 pm in the Sanctuary
URL:https://restorationchurchcarolinas.org/calendar/praise-team-choir-rehearsal/
LOCATION:Sanctuary\, 8365 Possum Hollow Rd\, Fort Mill\, SC\, 29707\, United States
CATEGORIES:Music Ministry
ATTACH;FMTTYPE=image/webp:https://restorationchurchcarolinas.org/wp-content/uploads/2025/08/praise-team-rc-scaled.webp
END:VEVENT
END:VCALENDAR