BEGIN:VCALENDAR
VERSION:2.0
PRODID:-//Restoration Church l Faith-filled Church in Fort Mill SC - ECPv6.15.18//NONSGML v1.0//EN
CALSCALE:GREGORIAN
METHOD:PUBLISH
X-ORIGINAL-URL:https://restorationchurchcarolinas.org
X-WR-CALDESC:Events for Restoration Church l Faith-filled Church in Fort Mill SC
REFRESH-INTERVAL;VALUE=DURATION:PT1H
X-Robots-Tag:noindex
X-PUBLISHED-TTL:PT1H
BEGIN:VTIMEZONE
TZID:UTC
BEGIN:STANDARD
TZOFFSETFROM:+0000
TZOFFSETTO:+0000
TZNAME:UTC
DTSTART:20260101T000000
END:STANDARD
END:VTIMEZONE
BEGIN:VEVENT
DTSTART;TZID=UTC:20271129T183000
DTEND;TZID=UTC:20271129T200000
DTSTAMP:20260419T195901
CREATED:20260212T221824Z
LAST-MODIFIED:20260224T194103Z
UID:10004965-1827513000-1827518400@restorationchurchcarolinas.org
SUMMARY:Apologetics Book Club
DESCRIPTION:The Monday night book club meets at 6:30 each week at Panera Bread Indian Land\, SC.
URL:https://restorationchurchcarolinas.org/calendar/apologetics-book-club-2-2-2-2-2-2-2-2-2-2-2-2-2-2-2-2-2-2/2027-11-29/
LOCATION:Panera Bread\, 7756 Charlotte Hwy\, Indian Land\, SC\, 29707\, United States
CATEGORIES:Restoration Church
ATTACH;FMTTYPE=image/webp:https://restorationchurchcarolinas.org/wp-content/uploads/2026/02/RC-Apologetics-Book-Club-Leader-Screwtape-Letters-C-S-Lewis-26leader-2.webp
ORGANIZER;CN="Restoration Church":MAILTO:info@restorationchurchcarolinas.com
END:VEVENT
BEGIN:VEVENT
DTSTART;TZID=UTC:20271206T183000
DTEND;TZID=UTC:20271206T200000
DTSTAMP:20260419T195901
CREATED:20260212T221824Z
LAST-MODIFIED:20260224T194103Z
UID:10004966-1828117800-1828123200@restorationchurchcarolinas.org
SUMMARY:Apologetics Book Club
DESCRIPTION:The Monday night book club meets at 6:30 each week at Panera Bread Indian Land\, SC.
URL:https://restorationchurchcarolinas.org/calendar/apologetics-book-club-2-2-2-2-2-2-2-2-2-2-2-2-2-2-2-2-2-2/2027-12-06/
LOCATION:Panera Bread\, 7756 Charlotte Hwy\, Indian Land\, SC\, 29707\, United States
CATEGORIES:Restoration Church
ATTACH;FMTTYPE=image/webp:https://restorationchurchcarolinas.org/wp-content/uploads/2026/02/RC-Apologetics-Book-Club-Leader-Screwtape-Letters-C-S-Lewis-26leader-2.webp
ORGANIZER;CN="Restoration Church":MAILTO:info@restorationchurchcarolinas.com
END:VEVENT
BEGIN:VEVENT
DTSTART;TZID=UTC:20271213T183000
DTEND;TZID=UTC:20271213T200000
DTSTAMP:20260419T195901
CREATED:20260212T221824Z
LAST-MODIFIED:20260224T194103Z
UID:10004967-1828722600-1828728000@restorationchurchcarolinas.org
SUMMARY:Apologetics Book Club
DESCRIPTION:The Monday night book club meets at 6:30 each week at Panera Bread Indian Land\, SC.
URL:https://restorationchurchcarolinas.org/calendar/apologetics-book-club-2-2-2-2-2-2-2-2-2-2-2-2-2-2-2-2-2-2/2027-12-13/
LOCATION:Panera Bread\, 7756 Charlotte Hwy\, Indian Land\, SC\, 29707\, United States
CATEGORIES:Restoration Church
ATTACH;FMTTYPE=image/webp:https://restorationchurchcarolinas.org/wp-content/uploads/2026/02/RC-Apologetics-Book-Club-Leader-Screwtape-Letters-C-S-Lewis-26leader-2.webp
ORGANIZER;CN="Restoration Church":MAILTO:info@restorationchurchcarolinas.com
END:VEVENT
BEGIN:VEVENT
DTSTART;TZID=UTC:20271220T183000
DTEND;TZID=UTC:20271220T200000
DTSTAMP:20260419T195901
CREATED:20260212T221824Z
LAST-MODIFIED:20260224T194103Z
UID:10004968-1829327400-1829332800@restorationchurchcarolinas.org
SUMMARY:Apologetics Book Club
DESCRIPTION:The Monday night book club meets at 6:30 each week at Panera Bread Indian Land\, SC.
URL:https://restorationchurchcarolinas.org/calendar/apologetics-book-club-2-2-2-2-2-2-2-2-2-2-2-2-2-2-2-2-2-2/2027-12-20/
LOCATION:Panera Bread\, 7756 Charlotte Hwy\, Indian Land\, SC\, 29707\, United States
CATEGORIES:Restoration Church
ATTACH;FMTTYPE=image/webp:https://restorationchurchcarolinas.org/wp-content/uploads/2026/02/RC-Apologetics-Book-Club-Leader-Screwtape-Letters-C-S-Lewis-26leader-2.webp
ORGANIZER;CN="Restoration Church":MAILTO:info@restorationchurchcarolinas.com
END:VEVENT
BEGIN:VEVENT
DTSTART;TZID=UTC:20271227T183000
DTEND;TZID=UTC:20271227T200000
DTSTAMP:20260419T195901
CREATED:20260212T221824Z
LAST-MODIFIED:20260224T194103Z
UID:10004969-1829932200-1829937600@restorationchurchcarolinas.org
SUMMARY:Apologetics Book Club
DESCRIPTION:The Monday night book club meets at 6:30 each week at Panera Bread Indian Land\, SC.
URL:https://restorationchurchcarolinas.org/calendar/apologetics-book-club-2-2-2-2-2-2-2-2-2-2-2-2-2-2-2-2-2-2/2027-12-27/
LOCATION:Panera Bread\, 7756 Charlotte Hwy\, Indian Land\, SC\, 29707\, United States
CATEGORIES:Restoration Church
ATTACH;FMTTYPE=image/webp:https://restorationchurchcarolinas.org/wp-content/uploads/2026/02/RC-Apologetics-Book-Club-Leader-Screwtape-Letters-C-S-Lewis-26leader-2.webp
ORGANIZER;CN="Restoration Church":MAILTO:info@restorationchurchcarolinas.com
END:VEVENT
BEGIN:VEVENT
DTSTART;TZID=UTC:20280103T183000
DTEND;TZID=UTC:20280103T200000
DTSTAMP:20260419T195901
CREATED:20260212T221824Z
LAST-MODIFIED:20260224T194103Z
UID:10004970-1830537000-1830542400@restorationchurchcarolinas.org
SUMMARY:Apologetics Book Club
DESCRIPTION:The Monday night book club meets at 6:30 each week at Panera Bread Indian Land\, SC.
URL:https://restorationchurchcarolinas.org/calendar/apologetics-book-club-2-2-2-2-2-2-2-2-2-2-2-2-2-2-2-2-2-2/2028-01-03/
LOCATION:Panera Bread\, 7756 Charlotte Hwy\, Indian Land\, SC\, 29707\, United States
CATEGORIES:Restoration Church
ATTACH;FMTTYPE=image/webp:https://restorationchurchcarolinas.org/wp-content/uploads/2026/02/RC-Apologetics-Book-Club-Leader-Screwtape-Letters-C-S-Lewis-26leader-2.webp
ORGANIZER;CN="Restoration Church":MAILTO:info@restorationchurchcarolinas.com
END:VEVENT
BEGIN:VEVENT
DTSTART;TZID=UTC:20280110T183000
DTEND;TZID=UTC:20280110T200000
DTSTAMP:20260419T195901
CREATED:20260212T221824Z
LAST-MODIFIED:20260224T194103Z
UID:10004971-1831141800-1831147200@restorationchurchcarolinas.org
SUMMARY:Apologetics Book Club
DESCRIPTION:The Monday night book club meets at 6:30 each week at Panera Bread Indian Land\, SC.
URL:https://restorationchurchcarolinas.org/calendar/apologetics-book-club-2-2-2-2-2-2-2-2-2-2-2-2-2-2-2-2-2-2/2028-01-10/
LOCATION:Panera Bread\, 7756 Charlotte Hwy\, Indian Land\, SC\, 29707\, United States
CATEGORIES:Restoration Church
ATTACH;FMTTYPE=image/webp:https://restorationchurchcarolinas.org/wp-content/uploads/2026/02/RC-Apologetics-Book-Club-Leader-Screwtape-Letters-C-S-Lewis-26leader-2.webp
ORGANIZER;CN="Restoration Church":MAILTO:info@restorationchurchcarolinas.com
END:VEVENT
BEGIN:VEVENT
DTSTART;TZID=UTC:20280117T183000
DTEND;TZID=UTC:20280117T200000
DTSTAMP:20260419T195901
CREATED:20260212T221824Z
LAST-MODIFIED:20260224T194103Z
UID:10004972-1831746600-1831752000@restorationchurchcarolinas.org
SUMMARY:Apologetics Book Club
DESCRIPTION:The Monday night book club meets at 6:30 each week at Panera Bread Indian Land\, SC.
URL:https://restorationchurchcarolinas.org/calendar/apologetics-book-club-2-2-2-2-2-2-2-2-2-2-2-2-2-2-2-2-2-2/2028-01-17/
LOCATION:Panera Bread\, 7756 Charlotte Hwy\, Indian Land\, SC\, 29707\, United States
CATEGORIES:Restoration Church
ATTACH;FMTTYPE=image/webp:https://restorationchurchcarolinas.org/wp-content/uploads/2026/02/RC-Apologetics-Book-Club-Leader-Screwtape-Letters-C-S-Lewis-26leader-2.webp
ORGANIZER;CN="Restoration Church":MAILTO:info@restorationchurchcarolinas.com
END:VEVENT
BEGIN:VEVENT
DTSTART;TZID=UTC:20280124T183000
DTEND;TZID=UTC:20280124T200000
DTSTAMP:20260419T195901
CREATED:20260212T221824Z
LAST-MODIFIED:20260224T194103Z
UID:10004973-1832351400-1832356800@restorationchurchcarolinas.org
SUMMARY:Apologetics Book Club
DESCRIPTION:The Monday night book club meets at 6:30 each week at Panera Bread Indian Land\, SC.
URL:https://restorationchurchcarolinas.org/calendar/apologetics-book-club-2-2-2-2-2-2-2-2-2-2-2-2-2-2-2-2-2-2/2028-01-24/
LOCATION:Panera Bread\, 7756 Charlotte Hwy\, Indian Land\, SC\, 29707\, United States
CATEGORIES:Restoration Church
ATTACH;FMTTYPE=image/webp:https://restorationchurchcarolinas.org/wp-content/uploads/2026/02/RC-Apologetics-Book-Club-Leader-Screwtape-Letters-C-S-Lewis-26leader-2.webp
ORGANIZER;CN="Restoration Church":MAILTO:info@restorationchurchcarolinas.com
END:VEVENT
BEGIN:VEVENT
DTSTART;TZID=UTC:20280131T183000
DTEND;TZID=UTC:20280131T200000
DTSTAMP:20260419T195901
CREATED:20260212T221824Z
LAST-MODIFIED:20260224T194103Z
UID:10004974-1832956200-1832961600@restorationchurchcarolinas.org
SUMMARY:Apologetics Book Club
DESCRIPTION:The Monday night book club meets at 6:30 each week at Panera Bread Indian Land\, SC.
URL:https://restorationchurchcarolinas.org/calendar/apologetics-book-club-2-2-2-2-2-2-2-2-2-2-2-2-2-2-2-2-2-2/2028-01-31/
LOCATION:Panera Bread\, 7756 Charlotte Hwy\, Indian Land\, SC\, 29707\, United States
CATEGORIES:Restoration Church
ATTACH;FMTTYPE=image/webp:https://restorationchurchcarolinas.org/wp-content/uploads/2026/02/RC-Apologetics-Book-Club-Leader-Screwtape-Letters-C-S-Lewis-26leader-2.webp
ORGANIZER;CN="Restoration Church":MAILTO:info@restorationchurchcarolinas.com
END:VEVENT
BEGIN:VEVENT
DTSTART;TZID=UTC:20280207T183000
DTEND;TZID=UTC:20280207T200000
DTSTAMP:20260419T195901
CREATED:20260212T221824Z
LAST-MODIFIED:20260224T194103Z
UID:10004975-1833561000-1833566400@restorationchurchcarolinas.org
SUMMARY:Apologetics Book Club
DESCRIPTION:The Monday night book club meets at 6:30 each week at Panera Bread Indian Land\, SC.
URL:https://restorationchurchcarolinas.org/calendar/apologetics-book-club-2-2-2-2-2-2-2-2-2-2-2-2-2-2-2-2-2-2/2028-02-07/
LOCATION:Panera Bread\, 7756 Charlotte Hwy\, Indian Land\, SC\, 29707\, United States
CATEGORIES:Restoration Church
ATTACH;FMTTYPE=image/webp:https://restorationchurchcarolinas.org/wp-content/uploads/2026/02/RC-Apologetics-Book-Club-Leader-Screwtape-Letters-C-S-Lewis-26leader-2.webp
ORGANIZER;CN="Restoration Church":MAILTO:info@restorationchurchcarolinas.com
END:VEVENT
BEGIN:VEVENT
DTSTART;TZID=UTC:20280214T183000
DTEND;TZID=UTC:20280214T200000
DTSTAMP:20260419T195901
CREATED:20260212T221824Z
LAST-MODIFIED:20260224T194103Z
UID:10004976-1834165800-1834171200@restorationchurchcarolinas.org
SUMMARY:Apologetics Book Club
DESCRIPTION:The Monday night book club meets at 6:30 each week at Panera Bread Indian Land\, SC.
URL:https://restorationchurchcarolinas.org/calendar/apologetics-book-club-2-2-2-2-2-2-2-2-2-2-2-2-2-2-2-2-2-2/2028-02-14/
LOCATION:Panera Bread\, 7756 Charlotte Hwy\, Indian Land\, SC\, 29707\, United States
CATEGORIES:Restoration Church
ATTACH;FMTTYPE=image/webp:https://restorationchurchcarolinas.org/wp-content/uploads/2026/02/RC-Apologetics-Book-Club-Leader-Screwtape-Letters-C-S-Lewis-26leader-2.webp
ORGANIZER;CN="Restoration Church":MAILTO:info@restorationchurchcarolinas.com
END:VEVENT
BEGIN:VEVENT
DTSTART;TZID=UTC:20280221T183000
DTEND;TZID=UTC:20280221T200000
DTSTAMP:20260419T195901
CREATED:20260212T221824Z
LAST-MODIFIED:20260224T194103Z
UID:10004977-1834770600-1834776000@restorationchurchcarolinas.org
SUMMARY:Apologetics Book Club
DESCRIPTION:The Monday night book club meets at 6:30 each week at Panera Bread Indian Land\, SC.
URL:https://restorationchurchcarolinas.org/calendar/apologetics-book-club-2-2-2-2-2-2-2-2-2-2-2-2-2-2-2-2-2-2/2028-02-21/
LOCATION:Panera Bread\, 7756 Charlotte Hwy\, Indian Land\, SC\, 29707\, United States
CATEGORIES:Restoration Church
ATTACH;FMTTYPE=image/webp:https://restorationchurchcarolinas.org/wp-content/uploads/2026/02/RC-Apologetics-Book-Club-Leader-Screwtape-Letters-C-S-Lewis-26leader-2.webp
ORGANIZER;CN="Restoration Church":MAILTO:info@restorationchurchcarolinas.com
END:VEVENT
BEGIN:VEVENT
DTSTART;TZID=UTC:20280228T183000
DTEND;TZID=UTC:20280228T200000
DTSTAMP:20260419T195901
CREATED:20260212T221824Z
LAST-MODIFIED:20260224T194103Z
UID:10004978-1835375400-1835380800@restorationchurchcarolinas.org
SUMMARY:Apologetics Book Club
DESCRIPTION:The Monday night book club meets at 6:30 each week at Panera Bread Indian Land\, SC.
URL:https://restorationchurchcarolinas.org/calendar/apologetics-book-club-2-2-2-2-2-2-2-2-2-2-2-2-2-2-2-2-2-2/2028-02-28/
LOCATION:Panera Bread\, 7756 Charlotte Hwy\, Indian Land\, SC\, 29707\, United States
CATEGORIES:Restoration Church
ATTACH;FMTTYPE=image/webp:https://restorationchurchcarolinas.org/wp-content/uploads/2026/02/RC-Apologetics-Book-Club-Leader-Screwtape-Letters-C-S-Lewis-26leader-2.webp
ORGANIZER;CN="Restoration Church":MAILTO:info@restorationchurchcarolinas.com
END:VEVENT
BEGIN:VEVENT
DTSTART;TZID=UTC:20280306T183000
DTEND;TZID=UTC:20280306T200000
DTSTAMP:20260419T195901
CREATED:20260212T221824Z
LAST-MODIFIED:20260224T194103Z
UID:10004979-1835980200-1835985600@restorationchurchcarolinas.org
SUMMARY:Apologetics Book Club
DESCRIPTION:The Monday night book club meets at 6:30 each week at Panera Bread Indian Land\, SC.
URL:https://restorationchurchcarolinas.org/calendar/apologetics-book-club-2-2-2-2-2-2-2-2-2-2-2-2-2-2-2-2-2-2/2028-03-06/
LOCATION:Panera Bread\, 7756 Charlotte Hwy\, Indian Land\, SC\, 29707\, United States
CATEGORIES:Restoration Church
ATTACH;FMTTYPE=image/webp:https://restorationchurchcarolinas.org/wp-content/uploads/2026/02/RC-Apologetics-Book-Club-Leader-Screwtape-Letters-C-S-Lewis-26leader-2.webp
ORGANIZER;CN="Restoration Church":MAILTO:info@restorationchurchcarolinas.com
END:VEVENT
BEGIN:VEVENT
DTSTART;TZID=UTC:20280313T183000
DTEND;TZID=UTC:20280313T200000
DTSTAMP:20260419T195901
CREATED:20260212T221824Z
LAST-MODIFIED:20260224T194103Z
UID:10004980-1836585000-1836590400@restorationchurchcarolinas.org
SUMMARY:Apologetics Book Club
DESCRIPTION:The Monday night book club meets at 6:30 each week at Panera Bread Indian Land\, SC.
URL:https://restorationchurchcarolinas.org/calendar/apologetics-book-club-2-2-2-2-2-2-2-2-2-2-2-2-2-2-2-2-2-2/2028-03-13/
LOCATION:Panera Bread\, 7756 Charlotte Hwy\, Indian Land\, SC\, 29707\, United States
CATEGORIES:Restoration Church
ATTACH;FMTTYPE=image/webp:https://restorationchurchcarolinas.org/wp-content/uploads/2026/02/RC-Apologetics-Book-Club-Leader-Screwtape-Letters-C-S-Lewis-26leader-2.webp
ORGANIZER;CN="Restoration Church":MAILTO:info@restorationchurchcarolinas.com
END:VEVENT
BEGIN:VEVENT
DTSTART;TZID=UTC:20280320T183000
DTEND;TZID=UTC:20280320T200000
DTSTAMP:20260419T195901
CREATED:20260212T221824Z
LAST-MODIFIED:20260224T194103Z
UID:10004981-1837189800-1837195200@restorationchurchcarolinas.org
SUMMARY:Apologetics Book Club
DESCRIPTION:The Monday night book club meets at 6:30 each week at Panera Bread Indian Land\, SC.
URL:https://restorationchurchcarolinas.org/calendar/apologetics-book-club-2-2-2-2-2-2-2-2-2-2-2-2-2-2-2-2-2-2/2028-03-20/
LOCATION:Panera Bread\, 7756 Charlotte Hwy\, Indian Land\, SC\, 29707\, United States
CATEGORIES:Restoration Church
ATTACH;FMTTYPE=image/webp:https://restorationchurchcarolinas.org/wp-content/uploads/2026/02/RC-Apologetics-Book-Club-Leader-Screwtape-Letters-C-S-Lewis-26leader-2.webp
ORGANIZER;CN="Restoration Church":MAILTO:info@restorationchurchcarolinas.com
END:VEVENT
BEGIN:VEVENT
DTSTART;TZID=UTC:20280327T183000
DTEND;TZID=UTC:20280327T200000
DTSTAMP:20260419T195901
CREATED:20260212T221824Z
LAST-MODIFIED:20260224T194103Z
UID:10004982-1837794600-1837800000@restorationchurchcarolinas.org
SUMMARY:Apologetics Book Club
DESCRIPTION:The Monday night book club meets at 6:30 each week at Panera Bread Indian Land\, SC.
URL:https://restorationchurchcarolinas.org/calendar/apologetics-book-club-2-2-2-2-2-2-2-2-2-2-2-2-2-2-2-2-2-2/2028-03-27/
LOCATION:Panera Bread\, 7756 Charlotte Hwy\, Indian Land\, SC\, 29707\, United States
CATEGORIES:Restoration Church
ATTACH;FMTTYPE=image/webp:https://restorationchurchcarolinas.org/wp-content/uploads/2026/02/RC-Apologetics-Book-Club-Leader-Screwtape-Letters-C-S-Lewis-26leader-2.webp
ORGANIZER;CN="Restoration Church":MAILTO:info@restorationchurchcarolinas.com
END:VEVENT
BEGIN:VEVENT
DTSTART;TZID=UTC:20280403T183000
DTEND;TZID=UTC:20280403T200000
DTSTAMP:20260419T195901
CREATED:20260212T221824Z
LAST-MODIFIED:20260224T194103Z
UID:10004983-1838399400-1838404800@restorationchurchcarolinas.org
SUMMARY:Apologetics Book Club
DESCRIPTION:The Monday night book club meets at 6:30 each week at Panera Bread Indian Land\, SC.
URL:https://restorationchurchcarolinas.org/calendar/apologetics-book-club-2-2-2-2-2-2-2-2-2-2-2-2-2-2-2-2-2-2/2028-04-03/
LOCATION:Panera Bread\, 7756 Charlotte Hwy\, Indian Land\, SC\, 29707\, United States
CATEGORIES:Restoration Church
ATTACH;FMTTYPE=image/webp:https://restorationchurchcarolinas.org/wp-content/uploads/2026/02/RC-Apologetics-Book-Club-Leader-Screwtape-Letters-C-S-Lewis-26leader-2.webp
ORGANIZER;CN="Restoration Church":MAILTO:info@restorationchurchcarolinas.com
END:VEVENT
BEGIN:VEVENT
DTSTART;TZID=UTC:20280410T183000
DTEND;TZID=UTC:20280410T200000
DTSTAMP:20260419T195901
CREATED:20260212T221824Z
LAST-MODIFIED:20260224T194103Z
UID:10004984-1839004200-1839009600@restorationchurchcarolinas.org
SUMMARY:Apologetics Book Club
DESCRIPTION:The Monday night book club meets at 6:30 each week at Panera Bread Indian Land\, SC.
URL:https://restorationchurchcarolinas.org/calendar/apologetics-book-club-2-2-2-2-2-2-2-2-2-2-2-2-2-2-2-2-2-2/2028-04-10/
LOCATION:Panera Bread\, 7756 Charlotte Hwy\, Indian Land\, SC\, 29707\, United States
CATEGORIES:Restoration Church
ATTACH;FMTTYPE=image/webp:https://restorationchurchcarolinas.org/wp-content/uploads/2026/02/RC-Apologetics-Book-Club-Leader-Screwtape-Letters-C-S-Lewis-26leader-2.webp
ORGANIZER;CN="Restoration Church":MAILTO:info@restorationchurchcarolinas.com
END:VEVENT
BEGIN:VEVENT
DTSTART;TZID=UTC:20280417T183000
DTEND;TZID=UTC:20280417T200000
DTSTAMP:20260419T195901
CREATED:20260212T221824Z
LAST-MODIFIED:20260224T194103Z
UID:10004985-1839609000-1839614400@restorationchurchcarolinas.org
SUMMARY:Apologetics Book Club
DESCRIPTION:The Monday night book club meets at 6:30 each week at Panera Bread Indian Land\, SC.
URL:https://restorationchurchcarolinas.org/calendar/apologetics-book-club-2-2-2-2-2-2-2-2-2-2-2-2-2-2-2-2-2-2/2028-04-17/
LOCATION:Panera Bread\, 7756 Charlotte Hwy\, Indian Land\, SC\, 29707\, United States
CATEGORIES:Restoration Church
ATTACH;FMTTYPE=image/webp:https://restorationchurchcarolinas.org/wp-content/uploads/2026/02/RC-Apologetics-Book-Club-Leader-Screwtape-Letters-C-S-Lewis-26leader-2.webp
ORGANIZER;CN="Restoration Church":MAILTO:info@restorationchurchcarolinas.com
END:VEVENT
BEGIN:VEVENT
DTSTART;TZID=UTC:20280424T183000
DTEND;TZID=UTC:20280424T200000
DTSTAMP:20260419T195901
CREATED:20260212T221824Z
LAST-MODIFIED:20260224T194103Z
UID:10004986-1840213800-1840219200@restorationchurchcarolinas.org
SUMMARY:Apologetics Book Club
DESCRIPTION:The Monday night book club meets at 6:30 each week at Panera Bread Indian Land\, SC.
URL:https://restorationchurchcarolinas.org/calendar/apologetics-book-club-2-2-2-2-2-2-2-2-2-2-2-2-2-2-2-2-2-2/2028-04-24/
LOCATION:Panera Bread\, 7756 Charlotte Hwy\, Indian Land\, SC\, 29707\, United States
CATEGORIES:Restoration Church
ATTACH;FMTTYPE=image/webp:https://restorationchurchcarolinas.org/wp-content/uploads/2026/02/RC-Apologetics-Book-Club-Leader-Screwtape-Letters-C-S-Lewis-26leader-2.webp
ORGANIZER;CN="Restoration Church":MAILTO:info@restorationchurchcarolinas.com
END:VEVENT
BEGIN:VEVENT
DTSTART;TZID=UTC:20280501T183000
DTEND;TZID=UTC:20280501T200000
DTSTAMP:20260419T195901
CREATED:20260212T221824Z
LAST-MODIFIED:20260224T194103Z
UID:10004987-1840818600-1840824000@restorationchurchcarolinas.org
SUMMARY:Apologetics Book Club
DESCRIPTION:The Monday night book club meets at 6:30 each week at Panera Bread Indian Land\, SC.
URL:https://restorationchurchcarolinas.org/calendar/apologetics-book-club-2-2-2-2-2-2-2-2-2-2-2-2-2-2-2-2-2-2/2028-05-01/
LOCATION:Panera Bread\, 7756 Charlotte Hwy\, Indian Land\, SC\, 29707\, United States
CATEGORIES:Restoration Church
ATTACH;FMTTYPE=image/webp:https://restorationchurchcarolinas.org/wp-content/uploads/2026/02/RC-Apologetics-Book-Club-Leader-Screwtape-Letters-C-S-Lewis-26leader-2.webp
ORGANIZER;CN="Restoration Church":MAILTO:info@restorationchurchcarolinas.com
END:VEVENT
BEGIN:VEVENT
DTSTART;TZID=UTC:20280508T183000
DTEND;TZID=UTC:20280508T200000
DTSTAMP:20260419T195901
CREATED:20260212T221824Z
LAST-MODIFIED:20260224T194103Z
UID:10004988-1841423400-1841428800@restorationchurchcarolinas.org
SUMMARY:Apologetics Book Club
DESCRIPTION:The Monday night book club meets at 6:30 each week at Panera Bread Indian Land\, SC.
URL:https://restorationchurchcarolinas.org/calendar/apologetics-book-club-2-2-2-2-2-2-2-2-2-2-2-2-2-2-2-2-2-2/2028-05-08/
LOCATION:Panera Bread\, 7756 Charlotte Hwy\, Indian Land\, SC\, 29707\, United States
CATEGORIES:Restoration Church
ATTACH;FMTTYPE=image/webp:https://restorationchurchcarolinas.org/wp-content/uploads/2026/02/RC-Apologetics-Book-Club-Leader-Screwtape-Letters-C-S-Lewis-26leader-2.webp
ORGANIZER;CN="Restoration Church":MAILTO:info@restorationchurchcarolinas.com
END:VEVENT
BEGIN:VEVENT
DTSTART;TZID=UTC:20280515T183000
DTEND;TZID=UTC:20280515T200000
DTSTAMP:20260419T195901
CREATED:20260212T221824Z
LAST-MODIFIED:20260224T194103Z
UID:10004989-1842028200-1842033600@restorationchurchcarolinas.org
SUMMARY:Apologetics Book Club
DESCRIPTION:The Monday night book club meets at 6:30 each week at Panera Bread Indian Land\, SC.
URL:https://restorationchurchcarolinas.org/calendar/apologetics-book-club-2-2-2-2-2-2-2-2-2-2-2-2-2-2-2-2-2-2/2028-05-15/
LOCATION:Panera Bread\, 7756 Charlotte Hwy\, Indian Land\, SC\, 29707\, United States
CATEGORIES:Restoration Church
ATTACH;FMTTYPE=image/webp:https://restorationchurchcarolinas.org/wp-content/uploads/2026/02/RC-Apologetics-Book-Club-Leader-Screwtape-Letters-C-S-Lewis-26leader-2.webp
ORGANIZER;CN="Restoration Church":MAILTO:info@restorationchurchcarolinas.com
END:VEVENT
BEGIN:VEVENT
DTSTART;TZID=UTC:20280522T183000
DTEND;TZID=UTC:20280522T200000
DTSTAMP:20260419T195901
CREATED:20260212T221824Z
LAST-MODIFIED:20260224T194103Z
UID:10004990-1842633000-1842638400@restorationchurchcarolinas.org
SUMMARY:Apologetics Book Club
DESCRIPTION:The Monday night book club meets at 6:30 each week at Panera Bread Indian Land\, SC.
URL:https://restorationchurchcarolinas.org/calendar/apologetics-book-club-2-2-2-2-2-2-2-2-2-2-2-2-2-2-2-2-2-2/2028-05-22/
LOCATION:Panera Bread\, 7756 Charlotte Hwy\, Indian Land\, SC\, 29707\, United States
CATEGORIES:Restoration Church
ATTACH;FMTTYPE=image/webp:https://restorationchurchcarolinas.org/wp-content/uploads/2026/02/RC-Apologetics-Book-Club-Leader-Screwtape-Letters-C-S-Lewis-26leader-2.webp
ORGANIZER;CN="Restoration Church":MAILTO:info@restorationchurchcarolinas.com
END:VEVENT
BEGIN:VEVENT
DTSTART;TZID=UTC:20280529T183000
DTEND;TZID=UTC:20280529T200000
DTSTAMP:20260419T195901
CREATED:20260212T221824Z
LAST-MODIFIED:20260224T194103Z
UID:10004991-1843237800-1843243200@restorationchurchcarolinas.org
SUMMARY:Apologetics Book Club
DESCRIPTION:The Monday night book club meets at 6:30 each week at Panera Bread Indian Land\, SC.
URL:https://restorationchurchcarolinas.org/calendar/apologetics-book-club-2-2-2-2-2-2-2-2-2-2-2-2-2-2-2-2-2-2/2028-05-29/
LOCATION:Panera Bread\, 7756 Charlotte Hwy\, Indian Land\, SC\, 29707\, United States
CATEGORIES:Restoration Church
ATTACH;FMTTYPE=image/webp:https://restorationchurchcarolinas.org/wp-content/uploads/2026/02/RC-Apologetics-Book-Club-Leader-Screwtape-Letters-C-S-Lewis-26leader-2.webp
ORGANIZER;CN="Restoration Church":MAILTO:info@restorationchurchcarolinas.com
END:VEVENT
BEGIN:VEVENT
DTSTART;TZID=UTC:20280605T183000
DTEND;TZID=UTC:20280605T200000
DTSTAMP:20260419T195901
CREATED:20260212T221824Z
LAST-MODIFIED:20260224T194103Z
UID:10004992-1843842600-1843848000@restorationchurchcarolinas.org
SUMMARY:Apologetics Book Club
DESCRIPTION:The Monday night book club meets at 6:30 each week at Panera Bread Indian Land\, SC.
URL:https://restorationchurchcarolinas.org/calendar/apologetics-book-club-2-2-2-2-2-2-2-2-2-2-2-2-2-2-2-2-2-2/2028-06-05/
LOCATION:Panera Bread\, 7756 Charlotte Hwy\, Indian Land\, SC\, 29707\, United States
CATEGORIES:Restoration Church
ATTACH;FMTTYPE=image/webp:https://restorationchurchcarolinas.org/wp-content/uploads/2026/02/RC-Apologetics-Book-Club-Leader-Screwtape-Letters-C-S-Lewis-26leader-2.webp
ORGANIZER;CN="Restoration Church":MAILTO:info@restorationchurchcarolinas.com
END:VEVENT
BEGIN:VEVENT
DTSTART;TZID=UTC:20280612T183000
DTEND;TZID=UTC:20280612T200000
DTSTAMP:20260419T195901
CREATED:20260212T221824Z
LAST-MODIFIED:20260224T194103Z
UID:10004993-1844447400-1844452800@restorationchurchcarolinas.org
SUMMARY:Apologetics Book Club
DESCRIPTION:The Monday night book club meets at 6:30 each week at Panera Bread Indian Land\, SC.
URL:https://restorationchurchcarolinas.org/calendar/apologetics-book-club-2-2-2-2-2-2-2-2-2-2-2-2-2-2-2-2-2-2/2028-06-12/
LOCATION:Panera Bread\, 7756 Charlotte Hwy\, Indian Land\, SC\, 29707\, United States
CATEGORIES:Restoration Church
ATTACH;FMTTYPE=image/webp:https://restorationchurchcarolinas.org/wp-content/uploads/2026/02/RC-Apologetics-Book-Club-Leader-Screwtape-Letters-C-S-Lewis-26leader-2.webp
ORGANIZER;CN="Restoration Church":MAILTO:info@restorationchurchcarolinas.com
END:VEVENT
BEGIN:VEVENT
DTSTART;TZID=UTC:20280619T183000
DTEND;TZID=UTC:20280619T200000
DTSTAMP:20260419T195901
CREATED:20260212T221824Z
LAST-MODIFIED:20260224T194103Z
UID:10004994-1845052200-1845057600@restorationchurchcarolinas.org
SUMMARY:Apologetics Book Club
DESCRIPTION:The Monday night book club meets at 6:30 each week at Panera Bread Indian Land\, SC.
URL:https://restorationchurchcarolinas.org/calendar/apologetics-book-club-2-2-2-2-2-2-2-2-2-2-2-2-2-2-2-2-2-2/2028-06-19/
LOCATION:Panera Bread\, 7756 Charlotte Hwy\, Indian Land\, SC\, 29707\, United States
CATEGORIES:Restoration Church
ATTACH;FMTTYPE=image/webp:https://restorationchurchcarolinas.org/wp-content/uploads/2026/02/RC-Apologetics-Book-Club-Leader-Screwtape-Letters-C-S-Lewis-26leader-2.webp
ORGANIZER;CN="Restoration Church":MAILTO:info@restorationchurchcarolinas.com
END:VEVENT
END:VCALENDAR