BEGIN:VCALENDAR
VERSION:2.0
PRODID:-//Restoration Church l Faith-filled Church in Fort Mill SC - ECPv6.15.18//NONSGML v1.0//EN
CALSCALE:GREGORIAN
METHOD:PUBLISH
X-ORIGINAL-URL:https://restorationchurchcarolinas.org
X-WR-CALDESC:Events for Restoration Church l Faith-filled Church in Fort Mill SC
REFRESH-INTERVAL;VALUE=DURATION:PT1H
X-Robots-Tag:noindex
X-PUBLISHED-TTL:PT1H
BEGIN:VTIMEZONE
TZID:America/New_York
BEGIN:DAYLIGHT
TZOFFSETFROM:-0500
TZOFFSETTO:-0400
TZNAME:EDT
DTSTART:20260308T070000
END:DAYLIGHT
BEGIN:STANDARD
TZOFFSETFROM:-0400
TZOFFSETTO:-0500
TZNAME:EST
DTSTART:20261101T060000
END:STANDARD
BEGIN:DAYLIGHT
TZOFFSETFROM:-0500
TZOFFSETTO:-0400
TZNAME:EDT
DTSTART:20270314T070000
END:DAYLIGHT
BEGIN:STANDARD
TZOFFSETFROM:-0400
TZOFFSETTO:-0500
TZNAME:EST
DTSTART:20271107T060000
END:STANDARD
BEGIN:DAYLIGHT
TZOFFSETFROM:-0500
TZOFFSETTO:-0400
TZNAME:EDT
DTSTART:20280312T070000
END:DAYLIGHT
BEGIN:STANDARD
TZOFFSETFROM:-0400
TZOFFSETTO:-0500
TZNAME:EST
DTSTART:20281105T060000
END:STANDARD
BEGIN:DAYLIGHT
TZOFFSETFROM:-0500
TZOFFSETTO:-0400
TZNAME:EDT
DTSTART:20290311T070000
END:DAYLIGHT
BEGIN:STANDARD
TZOFFSETFROM:-0400
TZOFFSETTO:-0500
TZNAME:EST
DTSTART:20291104T060000
END:STANDARD
END:VTIMEZONE
BEGIN:VEVENT
DTSTART;TZID=America/New_York:20270617T100000
DTEND;TZID=America/New_York:20270617T113000
DTSTAMP:20260421T130031
CREATED:20250830T202830Z
LAST-MODIFIED:20260323T223746Z
UID:10005226-1813226400-1813231800@restorationchurchcarolinas.org
SUMMARY:Women's D-Group
DESCRIPTION:Women’s D-Group 10:00 – 11:30 held in the large modular led by Connie Howard.
URL:https://restorationchurchcarolinas.org/calendar/womens-dgroup/2027-06-17/
LOCATION:Large Modular\, 8365 Possum Hollow Rd\, Fort Mill\, SC\, 29707\, United States
CATEGORIES:Women's Ministry
ATTACH;FMTTYPE=image/webp:https://restorationchurchcarolinas.org/wp-content/uploads/2025/08/womens-discipleship-fort-mill-sc.webp
ORGANIZER;CN="Women's Ministry":MAILTO:info@restorationchurchcarolinas.com
END:VEVENT
BEGIN:VEVENT
DTSTART;TZID=America/New_York:20270624T100000
DTEND;TZID=America/New_York:20270624T113000
DTSTAMP:20260421T130031
CREATED:20250830T202830Z
LAST-MODIFIED:20260323T223746Z
UID:10005227-1813831200-1813836600@restorationchurchcarolinas.org
SUMMARY:Women's D-Group
DESCRIPTION:Women’s D-Group 10:00 – 11:30 held in the large modular led by Connie Howard.
URL:https://restorationchurchcarolinas.org/calendar/womens-dgroup/2027-06-24/
LOCATION:Large Modular\, 8365 Possum Hollow Rd\, Fort Mill\, SC\, 29707\, United States
CATEGORIES:Women's Ministry
ATTACH;FMTTYPE=image/webp:https://restorationchurchcarolinas.org/wp-content/uploads/2025/08/womens-discipleship-fort-mill-sc.webp
ORGANIZER;CN="Women's Ministry":MAILTO:info@restorationchurchcarolinas.com
END:VEVENT
BEGIN:VEVENT
DTSTART;TZID=America/New_York:20270701T100000
DTEND;TZID=America/New_York:20270701T113000
DTSTAMP:20260421T130031
CREATED:20250830T202830Z
LAST-MODIFIED:20260323T223746Z
UID:10005228-1814436000-1814441400@restorationchurchcarolinas.org
SUMMARY:Women's D-Group
DESCRIPTION:Women’s D-Group 10:00 – 11:30 held in the large modular led by Connie Howard.
URL:https://restorationchurchcarolinas.org/calendar/womens-dgroup/2027-07-01/
LOCATION:Large Modular\, 8365 Possum Hollow Rd\, Fort Mill\, SC\, 29707\, United States
CATEGORIES:Women's Ministry
ATTACH;FMTTYPE=image/webp:https://restorationchurchcarolinas.org/wp-content/uploads/2025/08/womens-discipleship-fort-mill-sc.webp
ORGANIZER;CN="Women's Ministry":MAILTO:info@restorationchurchcarolinas.com
END:VEVENT
BEGIN:VEVENT
DTSTART;TZID=America/New_York:20270708T100000
DTEND;TZID=America/New_York:20270708T113000
DTSTAMP:20260421T130031
CREATED:20250830T202830Z
LAST-MODIFIED:20260323T223746Z
UID:10005229-1815040800-1815046200@restorationchurchcarolinas.org
SUMMARY:Women's D-Group
DESCRIPTION:Women’s D-Group 10:00 – 11:30 held in the large modular led by Connie Howard.
URL:https://restorationchurchcarolinas.org/calendar/womens-dgroup/2027-07-08/
LOCATION:Large Modular\, 8365 Possum Hollow Rd\, Fort Mill\, SC\, 29707\, United States
CATEGORIES:Women's Ministry
ATTACH;FMTTYPE=image/webp:https://restorationchurchcarolinas.org/wp-content/uploads/2025/08/womens-discipleship-fort-mill-sc.webp
ORGANIZER;CN="Women's Ministry":MAILTO:info@restorationchurchcarolinas.com
END:VEVENT
BEGIN:VEVENT
DTSTART;TZID=America/New_York:20270715T100000
DTEND;TZID=America/New_York:20270715T113000
DTSTAMP:20260421T130031
CREATED:20250830T202830Z
LAST-MODIFIED:20260323T223746Z
UID:10005230-1815645600-1815651000@restorationchurchcarolinas.org
SUMMARY:Women's D-Group
DESCRIPTION:Women’s D-Group 10:00 – 11:30 held in the large modular led by Connie Howard.
URL:https://restorationchurchcarolinas.org/calendar/womens-dgroup/2027-07-15/
LOCATION:Large Modular\, 8365 Possum Hollow Rd\, Fort Mill\, SC\, 29707\, United States
CATEGORIES:Women's Ministry
ATTACH;FMTTYPE=image/webp:https://restorationchurchcarolinas.org/wp-content/uploads/2025/08/womens-discipleship-fort-mill-sc.webp
ORGANIZER;CN="Women's Ministry":MAILTO:info@restorationchurchcarolinas.com
END:VEVENT
BEGIN:VEVENT
DTSTART;TZID=America/New_York:20270722T100000
DTEND;TZID=America/New_York:20270722T113000
DTSTAMP:20260421T130031
CREATED:20250830T202830Z
LAST-MODIFIED:20260323T223746Z
UID:10005231-1816250400-1816255800@restorationchurchcarolinas.org
SUMMARY:Women's D-Group
DESCRIPTION:Women’s D-Group 10:00 – 11:30 held in the large modular led by Connie Howard.
URL:https://restorationchurchcarolinas.org/calendar/womens-dgroup/2027-07-22/
LOCATION:Large Modular\, 8365 Possum Hollow Rd\, Fort Mill\, SC\, 29707\, United States
CATEGORIES:Women's Ministry
ATTACH;FMTTYPE=image/webp:https://restorationchurchcarolinas.org/wp-content/uploads/2025/08/womens-discipleship-fort-mill-sc.webp
ORGANIZER;CN="Women's Ministry":MAILTO:info@restorationchurchcarolinas.com
END:VEVENT
BEGIN:VEVENT
DTSTART;TZID=America/New_York:20270729T100000
DTEND;TZID=America/New_York:20270729T113000
DTSTAMP:20260421T130031
CREATED:20250830T202830Z
LAST-MODIFIED:20260323T223746Z
UID:10005232-1816855200-1816860600@restorationchurchcarolinas.org
SUMMARY:Women's D-Group
DESCRIPTION:Women’s D-Group 10:00 – 11:30 held in the large modular led by Connie Howard.
URL:https://restorationchurchcarolinas.org/calendar/womens-dgroup/2027-07-29/
LOCATION:Large Modular\, 8365 Possum Hollow Rd\, Fort Mill\, SC\, 29707\, United States
CATEGORIES:Women's Ministry
ATTACH;FMTTYPE=image/webp:https://restorationchurchcarolinas.org/wp-content/uploads/2025/08/womens-discipleship-fort-mill-sc.webp
ORGANIZER;CN="Women's Ministry":MAILTO:info@restorationchurchcarolinas.com
END:VEVENT
BEGIN:VEVENT
DTSTART;TZID=America/New_York:20270805T100000
DTEND;TZID=America/New_York:20270805T113000
DTSTAMP:20260421T130031
CREATED:20250830T202830Z
LAST-MODIFIED:20260323T223746Z
UID:10005233-1817460000-1817465400@restorationchurchcarolinas.org
SUMMARY:Women's D-Group
DESCRIPTION:Women’s D-Group 10:00 – 11:30 held in the large modular led by Connie Howard.
URL:https://restorationchurchcarolinas.org/calendar/womens-dgroup/2027-08-05/
LOCATION:Large Modular\, 8365 Possum Hollow Rd\, Fort Mill\, SC\, 29707\, United States
CATEGORIES:Women's Ministry
ATTACH;FMTTYPE=image/webp:https://restorationchurchcarolinas.org/wp-content/uploads/2025/08/womens-discipleship-fort-mill-sc.webp
ORGANIZER;CN="Women's Ministry":MAILTO:info@restorationchurchcarolinas.com
END:VEVENT
BEGIN:VEVENT
DTSTART;TZID=America/New_York:20270812T100000
DTEND;TZID=America/New_York:20270812T113000
DTSTAMP:20260421T130031
CREATED:20250830T202830Z
LAST-MODIFIED:20260323T223746Z
UID:10005234-1818064800-1818070200@restorationchurchcarolinas.org
SUMMARY:Women's D-Group
DESCRIPTION:Women’s D-Group 10:00 – 11:30 held in the large modular led by Connie Howard.
URL:https://restorationchurchcarolinas.org/calendar/womens-dgroup/2027-08-12/
LOCATION:Large Modular\, 8365 Possum Hollow Rd\, Fort Mill\, SC\, 29707\, United States
CATEGORIES:Women's Ministry
ATTACH;FMTTYPE=image/webp:https://restorationchurchcarolinas.org/wp-content/uploads/2025/08/womens-discipleship-fort-mill-sc.webp
ORGANIZER;CN="Women's Ministry":MAILTO:info@restorationchurchcarolinas.com
END:VEVENT
BEGIN:VEVENT
DTSTART;TZID=America/New_York:20270819T100000
DTEND;TZID=America/New_York:20270819T113000
DTSTAMP:20260421T130031
CREATED:20250830T202830Z
LAST-MODIFIED:20260323T223746Z
UID:10005235-1818669600-1818675000@restorationchurchcarolinas.org
SUMMARY:Women's D-Group
DESCRIPTION:Women’s D-Group 10:00 – 11:30 held in the large modular led by Connie Howard.
URL:https://restorationchurchcarolinas.org/calendar/womens-dgroup/2027-08-19/
LOCATION:Large Modular\, 8365 Possum Hollow Rd\, Fort Mill\, SC\, 29707\, United States
CATEGORIES:Women's Ministry
ATTACH;FMTTYPE=image/webp:https://restorationchurchcarolinas.org/wp-content/uploads/2025/08/womens-discipleship-fort-mill-sc.webp
ORGANIZER;CN="Women's Ministry":MAILTO:info@restorationchurchcarolinas.com
END:VEVENT
BEGIN:VEVENT
DTSTART;TZID=America/New_York:20270826T100000
DTEND;TZID=America/New_York:20270826T113000
DTSTAMP:20260421T130031
CREATED:20250830T202830Z
LAST-MODIFIED:20260323T223746Z
UID:10005236-1819274400-1819279800@restorationchurchcarolinas.org
SUMMARY:Women's D-Group
DESCRIPTION:Women’s D-Group 10:00 – 11:30 held in the large modular led by Connie Howard.
URL:https://restorationchurchcarolinas.org/calendar/womens-dgroup/2027-08-26/
LOCATION:Large Modular\, 8365 Possum Hollow Rd\, Fort Mill\, SC\, 29707\, United States
CATEGORIES:Women's Ministry
ATTACH;FMTTYPE=image/webp:https://restorationchurchcarolinas.org/wp-content/uploads/2025/08/womens-discipleship-fort-mill-sc.webp
ORGANIZER;CN="Women's Ministry":MAILTO:info@restorationchurchcarolinas.com
END:VEVENT
BEGIN:VEVENT
DTSTART;TZID=America/New_York:20270902T100000
DTEND;TZID=America/New_York:20270902T113000
DTSTAMP:20260421T130031
CREATED:20250830T202830Z
LAST-MODIFIED:20260323T223746Z
UID:10005237-1819879200-1819884600@restorationchurchcarolinas.org
SUMMARY:Women's D-Group
DESCRIPTION:Women’s D-Group 10:00 – 11:30 held in the large modular led by Connie Howard.
URL:https://restorationchurchcarolinas.org/calendar/womens-dgroup/2027-09-02/
LOCATION:Large Modular\, 8365 Possum Hollow Rd\, Fort Mill\, SC\, 29707\, United States
CATEGORIES:Women's Ministry
ATTACH;FMTTYPE=image/webp:https://restorationchurchcarolinas.org/wp-content/uploads/2025/08/womens-discipleship-fort-mill-sc.webp
ORGANIZER;CN="Women's Ministry":MAILTO:info@restorationchurchcarolinas.com
END:VEVENT
BEGIN:VEVENT
DTSTART;TZID=America/New_York:20270909T100000
DTEND;TZID=America/New_York:20270909T113000
DTSTAMP:20260421T130031
CREATED:20250830T202830Z
LAST-MODIFIED:20260323T223746Z
UID:10005238-1820484000-1820489400@restorationchurchcarolinas.org
SUMMARY:Women's D-Group
DESCRIPTION:Women’s D-Group 10:00 – 11:30 held in the large modular led by Connie Howard.
URL:https://restorationchurchcarolinas.org/calendar/womens-dgroup/2027-09-09/
LOCATION:Large Modular\, 8365 Possum Hollow Rd\, Fort Mill\, SC\, 29707\, United States
CATEGORIES:Women's Ministry
ATTACH;FMTTYPE=image/webp:https://restorationchurchcarolinas.org/wp-content/uploads/2025/08/womens-discipleship-fort-mill-sc.webp
ORGANIZER;CN="Women's Ministry":MAILTO:info@restorationchurchcarolinas.com
END:VEVENT
BEGIN:VEVENT
DTSTART;TZID=America/New_York:20270916T100000
DTEND;TZID=America/New_York:20270916T113000
DTSTAMP:20260421T130031
CREATED:20250830T202830Z
LAST-MODIFIED:20260323T223746Z
UID:10005239-1821088800-1821094200@restorationchurchcarolinas.org
SUMMARY:Women's D-Group
DESCRIPTION:Women’s D-Group 10:00 – 11:30 held in the large modular led by Connie Howard.
URL:https://restorationchurchcarolinas.org/calendar/womens-dgroup/2027-09-16/
LOCATION:Large Modular\, 8365 Possum Hollow Rd\, Fort Mill\, SC\, 29707\, United States
CATEGORIES:Women's Ministry
ATTACH;FMTTYPE=image/webp:https://restorationchurchcarolinas.org/wp-content/uploads/2025/08/womens-discipleship-fort-mill-sc.webp
ORGANIZER;CN="Women's Ministry":MAILTO:info@restorationchurchcarolinas.com
END:VEVENT
BEGIN:VEVENT
DTSTART;TZID=America/New_York:20270923T100000
DTEND;TZID=America/New_York:20270923T113000
DTSTAMP:20260421T130031
CREATED:20250830T202830Z
LAST-MODIFIED:20260323T223746Z
UID:10005240-1821693600-1821699000@restorationchurchcarolinas.org
SUMMARY:Women's D-Group
DESCRIPTION:Women’s D-Group 10:00 – 11:30 held in the large modular led by Connie Howard.
URL:https://restorationchurchcarolinas.org/calendar/womens-dgroup/2027-09-23/
LOCATION:Large Modular\, 8365 Possum Hollow Rd\, Fort Mill\, SC\, 29707\, United States
CATEGORIES:Women's Ministry
ATTACH;FMTTYPE=image/webp:https://restorationchurchcarolinas.org/wp-content/uploads/2025/08/womens-discipleship-fort-mill-sc.webp
ORGANIZER;CN="Women's Ministry":MAILTO:info@restorationchurchcarolinas.com
END:VEVENT
BEGIN:VEVENT
DTSTART;TZID=America/New_York:20270930T100000
DTEND;TZID=America/New_York:20270930T113000
DTSTAMP:20260421T130031
CREATED:20250830T202830Z
LAST-MODIFIED:20260323T223746Z
UID:10005241-1822298400-1822303800@restorationchurchcarolinas.org
SUMMARY:Women's D-Group
DESCRIPTION:Women’s D-Group 10:00 – 11:30 held in the large modular led by Connie Howard.
URL:https://restorationchurchcarolinas.org/calendar/womens-dgroup/2027-09-30/
LOCATION:Large Modular\, 8365 Possum Hollow Rd\, Fort Mill\, SC\, 29707\, United States
CATEGORIES:Women's Ministry
ATTACH;FMTTYPE=image/webp:https://restorationchurchcarolinas.org/wp-content/uploads/2025/08/womens-discipleship-fort-mill-sc.webp
ORGANIZER;CN="Women's Ministry":MAILTO:info@restorationchurchcarolinas.com
END:VEVENT
BEGIN:VEVENT
DTSTART;TZID=America/New_York:20271007T100000
DTEND;TZID=America/New_York:20271007T113000
DTSTAMP:20260421T130031
CREATED:20250830T202830Z
LAST-MODIFIED:20260323T223746Z
UID:10005242-1822903200-1822908600@restorationchurchcarolinas.org
SUMMARY:Women's D-Group
DESCRIPTION:Women’s D-Group 10:00 – 11:30 held in the large modular led by Connie Howard.
URL:https://restorationchurchcarolinas.org/calendar/womens-dgroup/2027-10-07/
LOCATION:Large Modular\, 8365 Possum Hollow Rd\, Fort Mill\, SC\, 29707\, United States
CATEGORIES:Women's Ministry
ATTACH;FMTTYPE=image/webp:https://restorationchurchcarolinas.org/wp-content/uploads/2025/08/womens-discipleship-fort-mill-sc.webp
ORGANIZER;CN="Women's Ministry":MAILTO:info@restorationchurchcarolinas.com
END:VEVENT
BEGIN:VEVENT
DTSTART;TZID=America/New_York:20271014T100000
DTEND;TZID=America/New_York:20271014T113000
DTSTAMP:20260421T130031
CREATED:20250830T202830Z
LAST-MODIFIED:20260323T223746Z
UID:10005243-1823508000-1823513400@restorationchurchcarolinas.org
SUMMARY:Women's D-Group
DESCRIPTION:Women’s D-Group 10:00 – 11:30 held in the large modular led by Connie Howard.
URL:https://restorationchurchcarolinas.org/calendar/womens-dgroup/2027-10-14/
LOCATION:Large Modular\, 8365 Possum Hollow Rd\, Fort Mill\, SC\, 29707\, United States
CATEGORIES:Women's Ministry
ATTACH;FMTTYPE=image/webp:https://restorationchurchcarolinas.org/wp-content/uploads/2025/08/womens-discipleship-fort-mill-sc.webp
ORGANIZER;CN="Women's Ministry":MAILTO:info@restorationchurchcarolinas.com
END:VEVENT
BEGIN:VEVENT
DTSTART;TZID=America/New_York:20271021T100000
DTEND;TZID=America/New_York:20271021T113000
DTSTAMP:20260421T130031
CREATED:20250830T202830Z
LAST-MODIFIED:20260323T223746Z
UID:10005244-1824112800-1824118200@restorationchurchcarolinas.org
SUMMARY:Women's D-Group
DESCRIPTION:Women’s D-Group 10:00 – 11:30 held in the large modular led by Connie Howard.
URL:https://restorationchurchcarolinas.org/calendar/womens-dgroup/2027-10-21/
LOCATION:Large Modular\, 8365 Possum Hollow Rd\, Fort Mill\, SC\, 29707\, United States
CATEGORIES:Women's Ministry
ATTACH;FMTTYPE=image/webp:https://restorationchurchcarolinas.org/wp-content/uploads/2025/08/womens-discipleship-fort-mill-sc.webp
ORGANIZER;CN="Women's Ministry":MAILTO:info@restorationchurchcarolinas.com
END:VEVENT
BEGIN:VEVENT
DTSTART;TZID=America/New_York:20271028T100000
DTEND;TZID=America/New_York:20271028T113000
DTSTAMP:20260421T130031
CREATED:20250830T202830Z
LAST-MODIFIED:20260323T223746Z
UID:10005245-1824717600-1824723000@restorationchurchcarolinas.org
SUMMARY:Women's D-Group
DESCRIPTION:Women’s D-Group 10:00 – 11:30 held in the large modular led by Connie Howard.
URL:https://restorationchurchcarolinas.org/calendar/womens-dgroup/2027-10-28/
LOCATION:Large Modular\, 8365 Possum Hollow Rd\, Fort Mill\, SC\, 29707\, United States
CATEGORIES:Women's Ministry
ATTACH;FMTTYPE=image/webp:https://restorationchurchcarolinas.org/wp-content/uploads/2025/08/womens-discipleship-fort-mill-sc.webp
ORGANIZER;CN="Women's Ministry":MAILTO:info@restorationchurchcarolinas.com
END:VEVENT
BEGIN:VEVENT
DTSTART;TZID=America/New_York:20271104T100000
DTEND;TZID=America/New_York:20271104T113000
DTSTAMP:20260421T130031
CREATED:20250830T202830Z
LAST-MODIFIED:20260323T223746Z
UID:10005246-1825322400-1825327800@restorationchurchcarolinas.org
SUMMARY:Women's D-Group
DESCRIPTION:Women’s D-Group 10:00 – 11:30 held in the large modular led by Connie Howard.
URL:https://restorationchurchcarolinas.org/calendar/womens-dgroup/2027-11-04/
LOCATION:Large Modular\, 8365 Possum Hollow Rd\, Fort Mill\, SC\, 29707\, United States
CATEGORIES:Women's Ministry
ATTACH;FMTTYPE=image/webp:https://restorationchurchcarolinas.org/wp-content/uploads/2025/08/womens-discipleship-fort-mill-sc.webp
ORGANIZER;CN="Women's Ministry":MAILTO:info@restorationchurchcarolinas.com
END:VEVENT
BEGIN:VEVENT
DTSTART;TZID=America/New_York:20271111T100000
DTEND;TZID=America/New_York:20271111T113000
DTSTAMP:20260421T130031
CREATED:20250830T202830Z
LAST-MODIFIED:20260323T223746Z
UID:10005247-1825927200-1825932600@restorationchurchcarolinas.org
SUMMARY:Women's D-Group
DESCRIPTION:Women’s D-Group 10:00 – 11:30 held in the large modular led by Connie Howard.
URL:https://restorationchurchcarolinas.org/calendar/womens-dgroup/2027-11-11/
LOCATION:Large Modular\, 8365 Possum Hollow Rd\, Fort Mill\, SC\, 29707\, United States
CATEGORIES:Women's Ministry
ATTACH;FMTTYPE=image/webp:https://restorationchurchcarolinas.org/wp-content/uploads/2025/08/womens-discipleship-fort-mill-sc.webp
ORGANIZER;CN="Women's Ministry":MAILTO:info@restorationchurchcarolinas.com
END:VEVENT
BEGIN:VEVENT
DTSTART;TZID=America/New_York:20271118T100000
DTEND;TZID=America/New_York:20271118T113000
DTSTAMP:20260421T130031
CREATED:20250830T202830Z
LAST-MODIFIED:20260323T223746Z
UID:10005248-1826532000-1826537400@restorationchurchcarolinas.org
SUMMARY:Women's D-Group
DESCRIPTION:Women’s D-Group 10:00 – 11:30 held in the large modular led by Connie Howard.
URL:https://restorationchurchcarolinas.org/calendar/womens-dgroup/2027-11-18/
LOCATION:Large Modular\, 8365 Possum Hollow Rd\, Fort Mill\, SC\, 29707\, United States
CATEGORIES:Women's Ministry
ATTACH;FMTTYPE=image/webp:https://restorationchurchcarolinas.org/wp-content/uploads/2025/08/womens-discipleship-fort-mill-sc.webp
ORGANIZER;CN="Women's Ministry":MAILTO:info@restorationchurchcarolinas.com
END:VEVENT
BEGIN:VEVENT
DTSTART;TZID=America/New_York:20271125T100000
DTEND;TZID=America/New_York:20271125T113000
DTSTAMP:20260421T130031
CREATED:20250830T202830Z
LAST-MODIFIED:20260323T223746Z
UID:10005249-1827136800-1827142200@restorationchurchcarolinas.org
SUMMARY:Women's D-Group
DESCRIPTION:Women’s D-Group 10:00 – 11:30 held in the large modular led by Connie Howard.
URL:https://restorationchurchcarolinas.org/calendar/womens-dgroup/2027-11-25/
LOCATION:Large Modular\, 8365 Possum Hollow Rd\, Fort Mill\, SC\, 29707\, United States
CATEGORIES:Women's Ministry
ATTACH;FMTTYPE=image/webp:https://restorationchurchcarolinas.org/wp-content/uploads/2025/08/womens-discipleship-fort-mill-sc.webp
ORGANIZER;CN="Women's Ministry":MAILTO:info@restorationchurchcarolinas.com
END:VEVENT
BEGIN:VEVENT
DTSTART;TZID=America/New_York:20271202T100000
DTEND;TZID=America/New_York:20271202T113000
DTSTAMP:20260421T130031
CREATED:20250830T202830Z
LAST-MODIFIED:20260323T223746Z
UID:10005250-1827741600-1827747000@restorationchurchcarolinas.org
SUMMARY:Women's D-Group
DESCRIPTION:Women’s D-Group 10:00 – 11:30 held in the large modular led by Connie Howard.
URL:https://restorationchurchcarolinas.org/calendar/womens-dgroup/2027-12-02/
LOCATION:Large Modular\, 8365 Possum Hollow Rd\, Fort Mill\, SC\, 29707\, United States
CATEGORIES:Women's Ministry
ATTACH;FMTTYPE=image/webp:https://restorationchurchcarolinas.org/wp-content/uploads/2025/08/womens-discipleship-fort-mill-sc.webp
ORGANIZER;CN="Women's Ministry":MAILTO:info@restorationchurchcarolinas.com
END:VEVENT
BEGIN:VEVENT
DTSTART;TZID=America/New_York:20271209T100000
DTEND;TZID=America/New_York:20271209T113000
DTSTAMP:20260421T130031
CREATED:20250830T202830Z
LAST-MODIFIED:20260323T223746Z
UID:10005251-1828346400-1828351800@restorationchurchcarolinas.org
SUMMARY:Women's D-Group
DESCRIPTION:Women’s D-Group 10:00 – 11:30 held in the large modular led by Connie Howard.
URL:https://restorationchurchcarolinas.org/calendar/womens-dgroup/2027-12-09/
LOCATION:Large Modular\, 8365 Possum Hollow Rd\, Fort Mill\, SC\, 29707\, United States
CATEGORIES:Women's Ministry
ATTACH;FMTTYPE=image/webp:https://restorationchurchcarolinas.org/wp-content/uploads/2025/08/womens-discipleship-fort-mill-sc.webp
ORGANIZER;CN="Women's Ministry":MAILTO:info@restorationchurchcarolinas.com
END:VEVENT
BEGIN:VEVENT
DTSTART;TZID=America/New_York:20271216T100000
DTEND;TZID=America/New_York:20271216T113000
DTSTAMP:20260421T130031
CREATED:20250830T202830Z
LAST-MODIFIED:20260323T223746Z
UID:10005252-1828951200-1828956600@restorationchurchcarolinas.org
SUMMARY:Women's D-Group
DESCRIPTION:Women’s D-Group 10:00 – 11:30 held in the large modular led by Connie Howard.
URL:https://restorationchurchcarolinas.org/calendar/womens-dgroup/2027-12-16/
LOCATION:Large Modular\, 8365 Possum Hollow Rd\, Fort Mill\, SC\, 29707\, United States
CATEGORIES:Women's Ministry
ATTACH;FMTTYPE=image/webp:https://restorationchurchcarolinas.org/wp-content/uploads/2025/08/womens-discipleship-fort-mill-sc.webp
ORGANIZER;CN="Women's Ministry":MAILTO:info@restorationchurchcarolinas.com
END:VEVENT
BEGIN:VEVENT
DTSTART;TZID=America/New_York:20271223T100000
DTEND;TZID=America/New_York:20271223T113000
DTSTAMP:20260421T130031
CREATED:20250830T202830Z
LAST-MODIFIED:20260323T223746Z
UID:10005253-1829556000-1829561400@restorationchurchcarolinas.org
SUMMARY:Women's D-Group
DESCRIPTION:Women’s D-Group 10:00 – 11:30 held in the large modular led by Connie Howard.
URL:https://restorationchurchcarolinas.org/calendar/womens-dgroup/2027-12-23/
LOCATION:Large Modular\, 8365 Possum Hollow Rd\, Fort Mill\, SC\, 29707\, United States
CATEGORIES:Women's Ministry
ATTACH;FMTTYPE=image/webp:https://restorationchurchcarolinas.org/wp-content/uploads/2025/08/womens-discipleship-fort-mill-sc.webp
ORGANIZER;CN="Women's Ministry":MAILTO:info@restorationchurchcarolinas.com
END:VEVENT
BEGIN:VEVENT
DTSTART;TZID=America/New_York:20271230T100000
DTEND;TZID=America/New_York:20271230T113000
DTSTAMP:20260421T130031
CREATED:20250830T202830Z
LAST-MODIFIED:20260323T223746Z
UID:10005254-1830160800-1830166200@restorationchurchcarolinas.org
SUMMARY:Women's D-Group
DESCRIPTION:Women’s D-Group 10:00 – 11:30 held in the large modular led by Connie Howard.
URL:https://restorationchurchcarolinas.org/calendar/womens-dgroup/2027-12-30/
LOCATION:Large Modular\, 8365 Possum Hollow Rd\, Fort Mill\, SC\, 29707\, United States
CATEGORIES:Women's Ministry
ATTACH;FMTTYPE=image/webp:https://restorationchurchcarolinas.org/wp-content/uploads/2025/08/womens-discipleship-fort-mill-sc.webp
ORGANIZER;CN="Women's Ministry":MAILTO:info@restorationchurchcarolinas.com
END:VEVENT
BEGIN:VEVENT
DTSTART;TZID=America/New_York:20280106T100000
DTEND;TZID=America/New_York:20280106T113000
DTSTAMP:20260421T130031
CREATED:20250830T202830Z
LAST-MODIFIED:20260323T223746Z
UID:10005255-1830765600-1830771000@restorationchurchcarolinas.org
SUMMARY:Women's D-Group
DESCRIPTION:Women’s D-Group 10:00 – 11:30 held in the large modular led by Connie Howard.
URL:https://restorationchurchcarolinas.org/calendar/womens-dgroup/2028-01-06/
LOCATION:Large Modular\, 8365 Possum Hollow Rd\, Fort Mill\, SC\, 29707\, United States
CATEGORIES:Women's Ministry
ATTACH;FMTTYPE=image/webp:https://restorationchurchcarolinas.org/wp-content/uploads/2025/08/womens-discipleship-fort-mill-sc.webp
ORGANIZER;CN="Women's Ministry":MAILTO:info@restorationchurchcarolinas.com
END:VEVENT
END:VCALENDAR