BEGIN:VCALENDAR
VERSION:2.0
PRODID:-//Restoration Church l Faith-filled Church in Fort Mill SC - ECPv6.15.18//NONSGML v1.0//EN
CALSCALE:GREGORIAN
METHOD:PUBLISH
X-WR-CALNAME:Restoration Church l Faith-filled Church in Fort Mill SC
X-ORIGINAL-URL:https://restorationchurchcarolinas.org
X-WR-CALDESC:Events for Restoration Church l Faith-filled Church in Fort Mill SC
REFRESH-INTERVAL;VALUE=DURATION:PT1H
X-Robots-Tag:noindex
X-PUBLISHED-TTL:PT1H
BEGIN:VTIMEZONE
TZID:America/New_York
BEGIN:DAYLIGHT
TZOFFSETFROM:-0500
TZOFFSETTO:-0400
TZNAME:EDT
DTSTART:20250309T070000
END:DAYLIGHT
BEGIN:STANDARD
TZOFFSETFROM:-0400
TZOFFSETTO:-0500
TZNAME:EST
DTSTART:20251102T060000
END:STANDARD
BEGIN:DAYLIGHT
TZOFFSETFROM:-0500
TZOFFSETTO:-0400
TZNAME:EDT
DTSTART:20260308T070000
END:DAYLIGHT
BEGIN:STANDARD
TZOFFSETFROM:-0400
TZOFFSETTO:-0500
TZNAME:EST
DTSTART:20261101T060000
END:STANDARD
BEGIN:DAYLIGHT
TZOFFSETFROM:-0500
TZOFFSETTO:-0400
TZNAME:EDT
DTSTART:20270314T070000
END:DAYLIGHT
BEGIN:STANDARD
TZOFFSETFROM:-0400
TZOFFSETTO:-0500
TZNAME:EST
DTSTART:20271107T060000
END:STANDARD
END:VTIMEZONE
BEGIN:VEVENT
DTSTART;TZID=America/New_York:20260428T130000
DTEND;TZID=America/New_York:20260428T143000
DTSTAMP:20260422T072837
CREATED:20250830T190525Z
LAST-MODIFIED:20250830T190951Z
UID:10003456-1777381200-1777386600@restorationchurchcarolinas.org
SUMMARY:Women's D-Group
DESCRIPTION:Women’s Discipleship Group meets each Tuesday 1:00 – 2:30 in the Women’s Building – led by Barbara Brown.
URL:https://restorationchurchcarolinas.org/calendar/womens-d-group-2/2026-04-28/
LOCATION:Women’s Bldg.\, 8365 Possum Hollow Rd\, Fort Mill\, SC\, 29707\, United States
CATEGORIES:Women's Ministry
ATTACH;FMTTYPE=image/webp:https://restorationchurchcarolinas.org/wp-content/uploads/2025/08/best-womens-discipleship-group-fort-mill.webp
ORGANIZER;CN="Women's Ministry":MAILTO:info@restorationchurchcarolinas.com
END:VEVENT
BEGIN:VEVENT
DTSTART;TZID=America/New_York:20260505T130000
DTEND;TZID=America/New_York:20260505T143000
DTSTAMP:20260422T072837
CREATED:20250830T190525Z
LAST-MODIFIED:20250830T190951Z
UID:10003457-1777986000-1777991400@restorationchurchcarolinas.org
SUMMARY:Women's D-Group
DESCRIPTION:Women’s Discipleship Group meets each Tuesday 1:00 – 2:30 in the Women’s Building – led by Barbara Brown.
URL:https://restorationchurchcarolinas.org/calendar/womens-d-group-2/2026-05-05/
LOCATION:Women’s Bldg.\, 8365 Possum Hollow Rd\, Fort Mill\, SC\, 29707\, United States
CATEGORIES:Women's Ministry
ATTACH;FMTTYPE=image/webp:https://restorationchurchcarolinas.org/wp-content/uploads/2025/08/best-womens-discipleship-group-fort-mill.webp
ORGANIZER;CN="Women's Ministry":MAILTO:info@restorationchurchcarolinas.com
END:VEVENT
BEGIN:VEVENT
DTSTART;TZID=America/New_York:20260512T130000
DTEND;TZID=America/New_York:20260512T143000
DTSTAMP:20260422T072837
CREATED:20250830T190525Z
LAST-MODIFIED:20250830T190951Z
UID:10003458-1778590800-1778596200@restorationchurchcarolinas.org
SUMMARY:Women's D-Group
DESCRIPTION:Women’s Discipleship Group meets each Tuesday 1:00 – 2:30 in the Women’s Building – led by Barbara Brown.
URL:https://restorationchurchcarolinas.org/calendar/womens-d-group-2/2026-05-12/
LOCATION:Women’s Bldg.\, 8365 Possum Hollow Rd\, Fort Mill\, SC\, 29707\, United States
CATEGORIES:Women's Ministry
ATTACH;FMTTYPE=image/webp:https://restorationchurchcarolinas.org/wp-content/uploads/2025/08/best-womens-discipleship-group-fort-mill.webp
ORGANIZER;CN="Women's Ministry":MAILTO:info@restorationchurchcarolinas.com
END:VEVENT
BEGIN:VEVENT
DTSTART;TZID=America/New_York:20260519T130000
DTEND;TZID=America/New_York:20260519T143000
DTSTAMP:20260422T072837
CREATED:20250830T190525Z
LAST-MODIFIED:20250830T190951Z
UID:10003459-1779195600-1779201000@restorationchurchcarolinas.org
SUMMARY:Women's D-Group
DESCRIPTION:Women’s Discipleship Group meets each Tuesday 1:00 – 2:30 in the Women’s Building – led by Barbara Brown.
URL:https://restorationchurchcarolinas.org/calendar/womens-d-group-2/2026-05-19/
LOCATION:Women’s Bldg.\, 8365 Possum Hollow Rd\, Fort Mill\, SC\, 29707\, United States
CATEGORIES:Women's Ministry
ATTACH;FMTTYPE=image/webp:https://restorationchurchcarolinas.org/wp-content/uploads/2025/08/best-womens-discipleship-group-fort-mill.webp
ORGANIZER;CN="Women's Ministry":MAILTO:info@restorationchurchcarolinas.com
END:VEVENT
BEGIN:VEVENT
DTSTART;TZID=America/New_York:20260526T130000
DTEND;TZID=America/New_York:20260526T143000
DTSTAMP:20260422T072837
CREATED:20250830T190525Z
LAST-MODIFIED:20250830T190951Z
UID:10003460-1779800400-1779805800@restorationchurchcarolinas.org
SUMMARY:Women's D-Group
DESCRIPTION:Women’s Discipleship Group meets each Tuesday 1:00 – 2:30 in the Women’s Building – led by Barbara Brown.
URL:https://restorationchurchcarolinas.org/calendar/womens-d-group-2/2026-05-26/
LOCATION:Women’s Bldg.\, 8365 Possum Hollow Rd\, Fort Mill\, SC\, 29707\, United States
CATEGORIES:Women's Ministry
ATTACH;FMTTYPE=image/webp:https://restorationchurchcarolinas.org/wp-content/uploads/2025/08/best-womens-discipleship-group-fort-mill.webp
ORGANIZER;CN="Women's Ministry":MAILTO:info@restorationchurchcarolinas.com
END:VEVENT
BEGIN:VEVENT
DTSTART;TZID=America/New_York:20260602T130000
DTEND;TZID=America/New_York:20260602T143000
DTSTAMP:20260422T072837
CREATED:20250830T190525Z
LAST-MODIFIED:20250830T190951Z
UID:10003461-1780405200-1780410600@restorationchurchcarolinas.org
SUMMARY:Women's D-Group
DESCRIPTION:Women’s Discipleship Group meets each Tuesday 1:00 – 2:30 in the Women’s Building – led by Barbara Brown.
URL:https://restorationchurchcarolinas.org/calendar/womens-d-group-2/2026-06-02/
LOCATION:Women’s Bldg.\, 8365 Possum Hollow Rd\, Fort Mill\, SC\, 29707\, United States
CATEGORIES:Women's Ministry
ATTACH;FMTTYPE=image/webp:https://restorationchurchcarolinas.org/wp-content/uploads/2025/08/best-womens-discipleship-group-fort-mill.webp
ORGANIZER;CN="Women's Ministry":MAILTO:info@restorationchurchcarolinas.com
END:VEVENT
BEGIN:VEVENT
DTSTART;TZID=America/New_York:20260609T130000
DTEND;TZID=America/New_York:20260609T143000
DTSTAMP:20260422T072837
CREATED:20250830T190525Z
LAST-MODIFIED:20250830T190951Z
UID:10003462-1781010000-1781015400@restorationchurchcarolinas.org
SUMMARY:Women's D-Group
DESCRIPTION:Women’s Discipleship Group meets each Tuesday 1:00 – 2:30 in the Women’s Building – led by Barbara Brown.
URL:https://restorationchurchcarolinas.org/calendar/womens-d-group-2/2026-06-09/
LOCATION:Women’s Bldg.\, 8365 Possum Hollow Rd\, Fort Mill\, SC\, 29707\, United States
CATEGORIES:Women's Ministry
ATTACH;FMTTYPE=image/webp:https://restorationchurchcarolinas.org/wp-content/uploads/2025/08/best-womens-discipleship-group-fort-mill.webp
ORGANIZER;CN="Women's Ministry":MAILTO:info@restorationchurchcarolinas.com
END:VEVENT
BEGIN:VEVENT
DTSTART;TZID=America/New_York:20260616T130000
DTEND;TZID=America/New_York:20260616T143000
DTSTAMP:20260422T072837
CREATED:20250830T190525Z
LAST-MODIFIED:20250830T190951Z
UID:10003463-1781614800-1781620200@restorationchurchcarolinas.org
SUMMARY:Women's D-Group
DESCRIPTION:Women’s Discipleship Group meets each Tuesday 1:00 – 2:30 in the Women’s Building – led by Barbara Brown.
URL:https://restorationchurchcarolinas.org/calendar/womens-d-group-2/2026-06-16/
LOCATION:Women’s Bldg.\, 8365 Possum Hollow Rd\, Fort Mill\, SC\, 29707\, United States
CATEGORIES:Women's Ministry
ATTACH;FMTTYPE=image/webp:https://restorationchurchcarolinas.org/wp-content/uploads/2025/08/best-womens-discipleship-group-fort-mill.webp
ORGANIZER;CN="Women's Ministry":MAILTO:info@restorationchurchcarolinas.com
END:VEVENT
BEGIN:VEVENT
DTSTART;TZID=America/New_York:20260623T130000
DTEND;TZID=America/New_York:20260623T143000
DTSTAMP:20260422T072837
CREATED:20250830T190525Z
LAST-MODIFIED:20250830T190951Z
UID:10003464-1782219600-1782225000@restorationchurchcarolinas.org
SUMMARY:Women's D-Group
DESCRIPTION:Women’s Discipleship Group meets each Tuesday 1:00 – 2:30 in the Women’s Building – led by Barbara Brown.
URL:https://restorationchurchcarolinas.org/calendar/womens-d-group-2/2026-06-23/
LOCATION:Women’s Bldg.\, 8365 Possum Hollow Rd\, Fort Mill\, SC\, 29707\, United States
CATEGORIES:Women's Ministry
ATTACH;FMTTYPE=image/webp:https://restorationchurchcarolinas.org/wp-content/uploads/2025/08/best-womens-discipleship-group-fort-mill.webp
ORGANIZER;CN="Women's Ministry":MAILTO:info@restorationchurchcarolinas.com
END:VEVENT
BEGIN:VEVENT
DTSTART;TZID=America/New_York:20260630T130000
DTEND;TZID=America/New_York:20260630T143000
DTSTAMP:20260422T072837
CREATED:20250830T190525Z
LAST-MODIFIED:20250830T190951Z
UID:10003465-1782824400-1782829800@restorationchurchcarolinas.org
SUMMARY:Women's D-Group
DESCRIPTION:Women’s Discipleship Group meets each Tuesday 1:00 – 2:30 in the Women’s Building – led by Barbara Brown.
URL:https://restorationchurchcarolinas.org/calendar/womens-d-group-2/2026-06-30/
LOCATION:Women’s Bldg.\, 8365 Possum Hollow Rd\, Fort Mill\, SC\, 29707\, United States
CATEGORIES:Women's Ministry
ATTACH;FMTTYPE=image/webp:https://restorationchurchcarolinas.org/wp-content/uploads/2025/08/best-womens-discipleship-group-fort-mill.webp
ORGANIZER;CN="Women's Ministry":MAILTO:info@restorationchurchcarolinas.com
END:VEVENT
BEGIN:VEVENT
DTSTART;TZID=America/New_York:20260707T130000
DTEND;TZID=America/New_York:20260707T143000
DTSTAMP:20260422T072837
CREATED:20250830T190525Z
LAST-MODIFIED:20250830T190951Z
UID:10003466-1783429200-1783434600@restorationchurchcarolinas.org
SUMMARY:Women's D-Group
DESCRIPTION:Women’s Discipleship Group meets each Tuesday 1:00 – 2:30 in the Women’s Building – led by Barbara Brown.
URL:https://restorationchurchcarolinas.org/calendar/womens-d-group-2/2026-07-07/
LOCATION:Women’s Bldg.\, 8365 Possum Hollow Rd\, Fort Mill\, SC\, 29707\, United States
CATEGORIES:Women's Ministry
ATTACH;FMTTYPE=image/webp:https://restorationchurchcarolinas.org/wp-content/uploads/2025/08/best-womens-discipleship-group-fort-mill.webp
ORGANIZER;CN="Women's Ministry":MAILTO:info@restorationchurchcarolinas.com
END:VEVENT
BEGIN:VEVENT
DTSTART;TZID=America/New_York:20260714T130000
DTEND;TZID=America/New_York:20260714T143000
DTSTAMP:20260422T072837
CREATED:20250830T190525Z
LAST-MODIFIED:20250830T190951Z
UID:10003467-1784034000-1784039400@restorationchurchcarolinas.org
SUMMARY:Women's D-Group
DESCRIPTION:Women’s Discipleship Group meets each Tuesday 1:00 – 2:30 in the Women’s Building – led by Barbara Brown.
URL:https://restorationchurchcarolinas.org/calendar/womens-d-group-2/2026-07-14/
LOCATION:Women’s Bldg.\, 8365 Possum Hollow Rd\, Fort Mill\, SC\, 29707\, United States
CATEGORIES:Women's Ministry
ATTACH;FMTTYPE=image/webp:https://restorationchurchcarolinas.org/wp-content/uploads/2025/08/best-womens-discipleship-group-fort-mill.webp
ORGANIZER;CN="Women's Ministry":MAILTO:info@restorationchurchcarolinas.com
END:VEVENT
BEGIN:VEVENT
DTSTART;TZID=America/New_York:20260721T130000
DTEND;TZID=America/New_York:20260721T143000
DTSTAMP:20260422T072837
CREATED:20250830T190525Z
LAST-MODIFIED:20250830T190951Z
UID:10003468-1784638800-1784644200@restorationchurchcarolinas.org
SUMMARY:Women's D-Group
DESCRIPTION:Women’s Discipleship Group meets each Tuesday 1:00 – 2:30 in the Women’s Building – led by Barbara Brown.
URL:https://restorationchurchcarolinas.org/calendar/womens-d-group-2/2026-07-21/
LOCATION:Women’s Bldg.\, 8365 Possum Hollow Rd\, Fort Mill\, SC\, 29707\, United States
CATEGORIES:Women's Ministry
ATTACH;FMTTYPE=image/webp:https://restorationchurchcarolinas.org/wp-content/uploads/2025/08/best-womens-discipleship-group-fort-mill.webp
ORGANIZER;CN="Women's Ministry":MAILTO:info@restorationchurchcarolinas.com
END:VEVENT
BEGIN:VEVENT
DTSTART;TZID=America/New_York:20260728T130000
DTEND;TZID=America/New_York:20260728T143000
DTSTAMP:20260422T072837
CREATED:20250830T190525Z
LAST-MODIFIED:20250830T190951Z
UID:10003469-1785243600-1785249000@restorationchurchcarolinas.org
SUMMARY:Women's D-Group
DESCRIPTION:Women’s Discipleship Group meets each Tuesday 1:00 – 2:30 in the Women’s Building – led by Barbara Brown.
URL:https://restorationchurchcarolinas.org/calendar/womens-d-group-2/2026-07-28/
LOCATION:Women’s Bldg.\, 8365 Possum Hollow Rd\, Fort Mill\, SC\, 29707\, United States
CATEGORIES:Women's Ministry
ATTACH;FMTTYPE=image/webp:https://restorationchurchcarolinas.org/wp-content/uploads/2025/08/best-womens-discipleship-group-fort-mill.webp
ORGANIZER;CN="Women's Ministry":MAILTO:info@restorationchurchcarolinas.com
END:VEVENT
BEGIN:VEVENT
DTSTART;TZID=America/New_York:20260804T130000
DTEND;TZID=America/New_York:20260804T143000
DTSTAMP:20260422T072837
CREATED:20250830T190525Z
LAST-MODIFIED:20250830T190951Z
UID:10003470-1785848400-1785853800@restorationchurchcarolinas.org
SUMMARY:Women's D-Group
DESCRIPTION:Women’s Discipleship Group meets each Tuesday 1:00 – 2:30 in the Women’s Building – led by Barbara Brown.
URL:https://restorationchurchcarolinas.org/calendar/womens-d-group-2/2026-08-04/
LOCATION:Women’s Bldg.\, 8365 Possum Hollow Rd\, Fort Mill\, SC\, 29707\, United States
CATEGORIES:Women's Ministry
ATTACH;FMTTYPE=image/webp:https://restorationchurchcarolinas.org/wp-content/uploads/2025/08/best-womens-discipleship-group-fort-mill.webp
ORGANIZER;CN="Women's Ministry":MAILTO:info@restorationchurchcarolinas.com
END:VEVENT
BEGIN:VEVENT
DTSTART;TZID=America/New_York:20260811T130000
DTEND;TZID=America/New_York:20260811T143000
DTSTAMP:20260422T072837
CREATED:20250830T190525Z
LAST-MODIFIED:20250830T190951Z
UID:10003471-1786453200-1786458600@restorationchurchcarolinas.org
SUMMARY:Women's D-Group
DESCRIPTION:Women’s Discipleship Group meets each Tuesday 1:00 – 2:30 in the Women’s Building – led by Barbara Brown.
URL:https://restorationchurchcarolinas.org/calendar/womens-d-group-2/2026-08-11/
LOCATION:Women’s Bldg.\, 8365 Possum Hollow Rd\, Fort Mill\, SC\, 29707\, United States
CATEGORIES:Women's Ministry
ATTACH;FMTTYPE=image/webp:https://restorationchurchcarolinas.org/wp-content/uploads/2025/08/best-womens-discipleship-group-fort-mill.webp
ORGANIZER;CN="Women's Ministry":MAILTO:info@restorationchurchcarolinas.com
END:VEVENT
BEGIN:VEVENT
DTSTART;TZID=America/New_York:20260818T130000
DTEND;TZID=America/New_York:20260818T143000
DTSTAMP:20260422T072837
CREATED:20250830T190525Z
LAST-MODIFIED:20250830T190951Z
UID:10003472-1787058000-1787063400@restorationchurchcarolinas.org
SUMMARY:Women's D-Group
DESCRIPTION:Women’s Discipleship Group meets each Tuesday 1:00 – 2:30 in the Women’s Building – led by Barbara Brown.
URL:https://restorationchurchcarolinas.org/calendar/womens-d-group-2/2026-08-18/
LOCATION:Women’s Bldg.\, 8365 Possum Hollow Rd\, Fort Mill\, SC\, 29707\, United States
CATEGORIES:Women's Ministry
ATTACH;FMTTYPE=image/webp:https://restorationchurchcarolinas.org/wp-content/uploads/2025/08/best-womens-discipleship-group-fort-mill.webp
ORGANIZER;CN="Women's Ministry":MAILTO:info@restorationchurchcarolinas.com
END:VEVENT
BEGIN:VEVENT
DTSTART;TZID=America/New_York:20260825T130000
DTEND;TZID=America/New_York:20260825T143000
DTSTAMP:20260422T072837
CREATED:20250830T190525Z
LAST-MODIFIED:20250830T190951Z
UID:10003473-1787662800-1787668200@restorationchurchcarolinas.org
SUMMARY:Women's D-Group
DESCRIPTION:Women’s Discipleship Group meets each Tuesday 1:00 – 2:30 in the Women’s Building – led by Barbara Brown.
URL:https://restorationchurchcarolinas.org/calendar/womens-d-group-2/2026-08-25/
LOCATION:Women’s Bldg.\, 8365 Possum Hollow Rd\, Fort Mill\, SC\, 29707\, United States
CATEGORIES:Women's Ministry
ATTACH;FMTTYPE=image/webp:https://restorationchurchcarolinas.org/wp-content/uploads/2025/08/best-womens-discipleship-group-fort-mill.webp
ORGANIZER;CN="Women's Ministry":MAILTO:info@restorationchurchcarolinas.com
END:VEVENT
BEGIN:VEVENT
DTSTART;TZID=America/New_York:20260901T130000
DTEND;TZID=America/New_York:20260901T143000
DTSTAMP:20260422T072837
CREATED:20250830T190525Z
LAST-MODIFIED:20250830T190951Z
UID:10003474-1788267600-1788273000@restorationchurchcarolinas.org
SUMMARY:Women's D-Group
DESCRIPTION:Women’s Discipleship Group meets each Tuesday 1:00 – 2:30 in the Women’s Building – led by Barbara Brown.
URL:https://restorationchurchcarolinas.org/calendar/womens-d-group-2/2026-09-01/
LOCATION:Women’s Bldg.\, 8365 Possum Hollow Rd\, Fort Mill\, SC\, 29707\, United States
CATEGORIES:Women's Ministry
ATTACH;FMTTYPE=image/webp:https://restorationchurchcarolinas.org/wp-content/uploads/2025/08/best-womens-discipleship-group-fort-mill.webp
ORGANIZER;CN="Women's Ministry":MAILTO:info@restorationchurchcarolinas.com
END:VEVENT
BEGIN:VEVENT
DTSTART;TZID=America/New_York:20260908T130000
DTEND;TZID=America/New_York:20260908T143000
DTSTAMP:20260422T072837
CREATED:20250830T190525Z
LAST-MODIFIED:20250830T190951Z
UID:10003475-1788872400-1788877800@restorationchurchcarolinas.org
SUMMARY:Women's D-Group
DESCRIPTION:Women’s Discipleship Group meets each Tuesday 1:00 – 2:30 in the Women’s Building – led by Barbara Brown.
URL:https://restorationchurchcarolinas.org/calendar/womens-d-group-2/2026-09-08/
LOCATION:Women’s Bldg.\, 8365 Possum Hollow Rd\, Fort Mill\, SC\, 29707\, United States
CATEGORIES:Women's Ministry
ATTACH;FMTTYPE=image/webp:https://restorationchurchcarolinas.org/wp-content/uploads/2025/08/best-womens-discipleship-group-fort-mill.webp
ORGANIZER;CN="Women's Ministry":MAILTO:info@restorationchurchcarolinas.com
END:VEVENT
BEGIN:VEVENT
DTSTART;TZID=America/New_York:20260915T130000
DTEND;TZID=America/New_York:20260915T143000
DTSTAMP:20260422T072837
CREATED:20250830T190525Z
LAST-MODIFIED:20250830T190951Z
UID:10003476-1789477200-1789482600@restorationchurchcarolinas.org
SUMMARY:Women's D-Group
DESCRIPTION:Women’s Discipleship Group meets each Tuesday 1:00 – 2:30 in the Women’s Building – led by Barbara Brown.
URL:https://restorationchurchcarolinas.org/calendar/womens-d-group-2/2026-09-15/
LOCATION:Women’s Bldg.\, 8365 Possum Hollow Rd\, Fort Mill\, SC\, 29707\, United States
CATEGORIES:Women's Ministry
ATTACH;FMTTYPE=image/webp:https://restorationchurchcarolinas.org/wp-content/uploads/2025/08/best-womens-discipleship-group-fort-mill.webp
ORGANIZER;CN="Women's Ministry":MAILTO:info@restorationchurchcarolinas.com
END:VEVENT
BEGIN:VEVENT
DTSTART;TZID=America/New_York:20260922T130000
DTEND;TZID=America/New_York:20260922T143000
DTSTAMP:20260422T072837
CREATED:20250830T190525Z
LAST-MODIFIED:20250830T190951Z
UID:10003477-1790082000-1790087400@restorationchurchcarolinas.org
SUMMARY:Women's D-Group
DESCRIPTION:Women’s Discipleship Group meets each Tuesday 1:00 – 2:30 in the Women’s Building – led by Barbara Brown.
URL:https://restorationchurchcarolinas.org/calendar/womens-d-group-2/2026-09-22/
LOCATION:Women’s Bldg.\, 8365 Possum Hollow Rd\, Fort Mill\, SC\, 29707\, United States
CATEGORIES:Women's Ministry
ATTACH;FMTTYPE=image/webp:https://restorationchurchcarolinas.org/wp-content/uploads/2025/08/best-womens-discipleship-group-fort-mill.webp
ORGANIZER;CN="Women's Ministry":MAILTO:info@restorationchurchcarolinas.com
END:VEVENT
BEGIN:VEVENT
DTSTART;TZID=America/New_York:20260929T130000
DTEND;TZID=America/New_York:20260929T143000
DTSTAMP:20260422T072837
CREATED:20250830T190525Z
LAST-MODIFIED:20250830T190951Z
UID:10003478-1790686800-1790692200@restorationchurchcarolinas.org
SUMMARY:Women's D-Group
DESCRIPTION:Women’s Discipleship Group meets each Tuesday 1:00 – 2:30 in the Women’s Building – led by Barbara Brown.
URL:https://restorationchurchcarolinas.org/calendar/womens-d-group-2/2026-09-29/
LOCATION:Women’s Bldg.\, 8365 Possum Hollow Rd\, Fort Mill\, SC\, 29707\, United States
CATEGORIES:Women's Ministry
ATTACH;FMTTYPE=image/webp:https://restorationchurchcarolinas.org/wp-content/uploads/2025/08/best-womens-discipleship-group-fort-mill.webp
ORGANIZER;CN="Women's Ministry":MAILTO:info@restorationchurchcarolinas.com
END:VEVENT
BEGIN:VEVENT
DTSTART;TZID=America/New_York:20261006T130000
DTEND;TZID=America/New_York:20261006T143000
DTSTAMP:20260422T072837
CREATED:20250830T190525Z
LAST-MODIFIED:20250830T190951Z
UID:10003479-1791291600-1791297000@restorationchurchcarolinas.org
SUMMARY:Women's D-Group
DESCRIPTION:Women’s Discipleship Group meets each Tuesday 1:00 – 2:30 in the Women’s Building – led by Barbara Brown.
URL:https://restorationchurchcarolinas.org/calendar/womens-d-group-2/2026-10-06/
LOCATION:Women’s Bldg.\, 8365 Possum Hollow Rd\, Fort Mill\, SC\, 29707\, United States
CATEGORIES:Women's Ministry
ATTACH;FMTTYPE=image/webp:https://restorationchurchcarolinas.org/wp-content/uploads/2025/08/best-womens-discipleship-group-fort-mill.webp
ORGANIZER;CN="Women's Ministry":MAILTO:info@restorationchurchcarolinas.com
END:VEVENT
BEGIN:VEVENT
DTSTART;TZID=America/New_York:20261013T130000
DTEND;TZID=America/New_York:20261013T143000
DTSTAMP:20260422T072837
CREATED:20250830T190525Z
LAST-MODIFIED:20250830T190951Z
UID:10003480-1791896400-1791901800@restorationchurchcarolinas.org
SUMMARY:Women's D-Group
DESCRIPTION:Women’s Discipleship Group meets each Tuesday 1:00 – 2:30 in the Women’s Building – led by Barbara Brown.
URL:https://restorationchurchcarolinas.org/calendar/womens-d-group-2/2026-10-13/
LOCATION:Women’s Bldg.\, 8365 Possum Hollow Rd\, Fort Mill\, SC\, 29707\, United States
CATEGORIES:Women's Ministry
ATTACH;FMTTYPE=image/webp:https://restorationchurchcarolinas.org/wp-content/uploads/2025/08/best-womens-discipleship-group-fort-mill.webp
ORGANIZER;CN="Women's Ministry":MAILTO:info@restorationchurchcarolinas.com
END:VEVENT
BEGIN:VEVENT
DTSTART;TZID=America/New_York:20261020T130000
DTEND;TZID=America/New_York:20261020T143000
DTSTAMP:20260422T072837
CREATED:20250830T190525Z
LAST-MODIFIED:20250830T190951Z
UID:10003481-1792501200-1792506600@restorationchurchcarolinas.org
SUMMARY:Women's D-Group
DESCRIPTION:Women’s Discipleship Group meets each Tuesday 1:00 – 2:30 in the Women’s Building – led by Barbara Brown.
URL:https://restorationchurchcarolinas.org/calendar/womens-d-group-2/2026-10-20/
LOCATION:Women’s Bldg.\, 8365 Possum Hollow Rd\, Fort Mill\, SC\, 29707\, United States
CATEGORIES:Women's Ministry
ATTACH;FMTTYPE=image/webp:https://restorationchurchcarolinas.org/wp-content/uploads/2025/08/best-womens-discipleship-group-fort-mill.webp
ORGANIZER;CN="Women's Ministry":MAILTO:info@restorationchurchcarolinas.com
END:VEVENT
BEGIN:VEVENT
DTSTART;TZID=America/New_York:20261027T130000
DTEND;TZID=America/New_York:20261027T143000
DTSTAMP:20260422T072837
CREATED:20250830T190525Z
LAST-MODIFIED:20250830T190951Z
UID:10003482-1793106000-1793111400@restorationchurchcarolinas.org
SUMMARY:Women's D-Group
DESCRIPTION:Women’s Discipleship Group meets each Tuesday 1:00 – 2:30 in the Women’s Building – led by Barbara Brown.
URL:https://restorationchurchcarolinas.org/calendar/womens-d-group-2/2026-10-27/
LOCATION:Women’s Bldg.\, 8365 Possum Hollow Rd\, Fort Mill\, SC\, 29707\, United States
CATEGORIES:Women's Ministry
ATTACH;FMTTYPE=image/webp:https://restorationchurchcarolinas.org/wp-content/uploads/2025/08/best-womens-discipleship-group-fort-mill.webp
ORGANIZER;CN="Women's Ministry":MAILTO:info@restorationchurchcarolinas.com
END:VEVENT
BEGIN:VEVENT
DTSTART;TZID=America/New_York:20261103T130000
DTEND;TZID=America/New_York:20261103T143000
DTSTAMP:20260422T072837
CREATED:20250830T190525Z
LAST-MODIFIED:20250830T190951Z
UID:10003483-1793710800-1793716200@restorationchurchcarolinas.org
SUMMARY:Women's D-Group
DESCRIPTION:Women’s Discipleship Group meets each Tuesday 1:00 – 2:30 in the Women’s Building – led by Barbara Brown.
URL:https://restorationchurchcarolinas.org/calendar/womens-d-group-2/2026-11-03/
LOCATION:Women’s Bldg.\, 8365 Possum Hollow Rd\, Fort Mill\, SC\, 29707\, United States
CATEGORIES:Women's Ministry
ATTACH;FMTTYPE=image/webp:https://restorationchurchcarolinas.org/wp-content/uploads/2025/08/best-womens-discipleship-group-fort-mill.webp
ORGANIZER;CN="Women's Ministry":MAILTO:info@restorationchurchcarolinas.com
END:VEVENT
BEGIN:VEVENT
DTSTART;TZID=America/New_York:20261110T130000
DTEND;TZID=America/New_York:20261110T143000
DTSTAMP:20260422T072837
CREATED:20250830T190525Z
LAST-MODIFIED:20250830T190951Z
UID:10003484-1794315600-1794321000@restorationchurchcarolinas.org
SUMMARY:Women's D-Group
DESCRIPTION:Women’s Discipleship Group meets each Tuesday 1:00 – 2:30 in the Women’s Building – led by Barbara Brown.
URL:https://restorationchurchcarolinas.org/calendar/womens-d-group-2/2026-11-10/
LOCATION:Women’s Bldg.\, 8365 Possum Hollow Rd\, Fort Mill\, SC\, 29707\, United States
CATEGORIES:Women's Ministry
ATTACH;FMTTYPE=image/webp:https://restorationchurchcarolinas.org/wp-content/uploads/2025/08/best-womens-discipleship-group-fort-mill.webp
ORGANIZER;CN="Women's Ministry":MAILTO:info@restorationchurchcarolinas.com
END:VEVENT
BEGIN:VEVENT
DTSTART;TZID=America/New_York:20261117T130000
DTEND;TZID=America/New_York:20261117T143000
DTSTAMP:20260422T072837
CREATED:20250830T190525Z
LAST-MODIFIED:20250830T190951Z
UID:10003485-1794920400-1794925800@restorationchurchcarolinas.org
SUMMARY:Women's D-Group
DESCRIPTION:Women’s Discipleship Group meets each Tuesday 1:00 – 2:30 in the Women’s Building – led by Barbara Brown.
URL:https://restorationchurchcarolinas.org/calendar/womens-d-group-2/2026-11-17/
LOCATION:Women’s Bldg.\, 8365 Possum Hollow Rd\, Fort Mill\, SC\, 29707\, United States
CATEGORIES:Women's Ministry
ATTACH;FMTTYPE=image/webp:https://restorationchurchcarolinas.org/wp-content/uploads/2025/08/best-womens-discipleship-group-fort-mill.webp
ORGANIZER;CN="Women's Ministry":MAILTO:info@restorationchurchcarolinas.com
END:VEVENT
END:VCALENDAR