BEGIN:VCALENDAR
VERSION:2.0
PRODID:-//Restoration Church l Faith-filled Church in Fort Mill SC - ECPv6.15.18//NONSGML v1.0//EN
CALSCALE:GREGORIAN
METHOD:PUBLISH
X-ORIGINAL-URL:https://restorationchurchcarolinas.org
X-WR-CALDESC:Events for Restoration Church l Faith-filled Church in Fort Mill SC
REFRESH-INTERVAL;VALUE=DURATION:PT1H
X-Robots-Tag:noindex
X-PUBLISHED-TTL:PT1H
BEGIN:VTIMEZONE
TZID:America/New_York
BEGIN:DAYLIGHT
TZOFFSETFROM:-0500
TZOFFSETTO:-0400
TZNAME:EDT
DTSTART:20280312T070000
END:DAYLIGHT
BEGIN:STANDARD
TZOFFSETFROM:-0400
TZOFFSETTO:-0500
TZNAME:EST
DTSTART:20281105T060000
END:STANDARD
BEGIN:DAYLIGHT
TZOFFSETFROM:-0500
TZOFFSETTO:-0400
TZNAME:EDT
DTSTART:20290311T070000
END:DAYLIGHT
BEGIN:STANDARD
TZOFFSETFROM:-0400
TZOFFSETTO:-0500
TZNAME:EST
DTSTART:20291104T060000
END:STANDARD
BEGIN:DAYLIGHT
TZOFFSETFROM:-0500
TZOFFSETTO:-0400
TZNAME:EDT
DTSTART:20300310T070000
END:DAYLIGHT
BEGIN:STANDARD
TZOFFSETFROM:-0400
TZOFFSETTO:-0500
TZNAME:EST
DTSTART:20301103T060000
END:STANDARD
END:VTIMEZONE
BEGIN:VTIMEZONE
TZID:UTC
BEGIN:STANDARD
TZOFFSETFROM:+0000
TZOFFSETTO:+0000
TZNAME:UTC
DTSTART:20280101T000000
END:STANDARD
END:VTIMEZONE
BEGIN:VEVENT
DTSTART;TZID=America/New_York:20290503T100000
DTEND;TZID=America/New_York:20290503T113000
DTSTAMP:20260425T235115
CREATED:20250830T202830Z
LAST-MODIFIED:20260323T223746Z
UID:10005324-1872496800-1872502200@restorationchurchcarolinas.org
SUMMARY:Women's D-Group
DESCRIPTION:Women’s D-Group 10:00 – 11:30 held in the large modular led by Connie Howard.
URL:https://restorationchurchcarolinas.org/calendar/womens-dgroup/2029-05-03/
LOCATION:Large Modular\, 8365 Possum Hollow Rd\, Fort Mill\, SC\, 29707\, United States
CATEGORIES:Women's Ministry
ATTACH;FMTTYPE=image/webp:https://restorationchurchcarolinas.org/wp-content/uploads/2025/08/womens-discipleship-fort-mill-sc.webp
ORGANIZER;CN="Women's Ministry":MAILTO:info@restorationchurchcarolinas.com
END:VEVENT
BEGIN:VEVENT
DTSTART;TZID=America/New_York:20290503T180000
DTEND;TZID=America/New_York:20290503T193000
DTSTAMP:20260425T235115
CREATED:20251128T215329Z
LAST-MODIFIED:20251203T164654Z
UID:10002569-1872525600-1872531000@restorationchurchcarolinas.org
SUMMARY:J-Walkers & Crossroads Youth Mid-Week Bible Studies
DESCRIPTION:Join us on Thursday nights from 6 to 7:30pm for mid-week Bible study and activities for children ages 12-18! \nJ-Walkers (middle school)\n“Walking the Way of Jesus”\nColossians 1:10 (NKJ) \nCrossroads (high school)\n“Choosing God’s Way”\nIsaiah 30:21 \nLed by Brian and Diane Hopkins.
URL:https://restorationchurchcarolinas.org/calendar/youth-mid-week-bible-study-2-2-2-2-2-2-2-2-2-2-2-2-2-2-2/2029-05-03/
LOCATION:SC
CATEGORIES:Youth Ministry
ATTACH;FMTTYPE=image/webp:https://restorationchurchcarolinas.org/wp-content/uploads/2025/08/youth-bible-study-indian-land-sc-scaled.webp
END:VEVENT
BEGIN:VEVENT
DTSTART;TZID=America/New_York:20290506T093000
DTEND;TZID=America/New_York:20290506T101500
DTSTAMP:20260425T235115
CREATED:20250516T122019Z
LAST-MODIFIED:20251218T151227Z
UID:10001387-1872754200-1872756900@restorationchurchcarolinas.org
SUMMARY:Sunday School
DESCRIPTION:Join us every Sunday @ 9:30 am. We have Sunday School classes for all ages!
URL:https://restorationchurchcarolinas.org/calendar/sunday-school-2/2029-05-06/
LOCATION:Restoration Church\, 8365 Possum Hollow Rd\, Fort Mill\, South Carolina\, 29707\, United States
CATEGORIES:Restoration Church
ATTACH;FMTTYPE=image/webp:https://restorationchurchcarolinas.org/wp-content/uploads/2025/12/great-bible-study-fort-mill-sc.webp
ORGANIZER;CN="Restoration Church":MAILTO:info@restorationchurchcarolinas.com
END:VEVENT
BEGIN:VEVENT
DTSTART;TZID=America/New_York:20290506T103000
DTEND;TZID=America/New_York:20290506T120000
DTSTAMP:20260425T235115
CREATED:20250407T113507Z
LAST-MODIFIED:20251218T151254Z
UID:10001645-1872757800-1872763200@restorationchurchcarolinas.org
SUMMARY:Sunday Worship
DESCRIPTION:Every Sunday @ 10:30am! Watch Live via Livestream\, YouTube\, or Facebook!
URL:https://restorationchurchcarolinas.org/calendar/sunday-worship-2/2029-05-06/
LOCATION:Restoration Church\, 8365 Possum Hollow Rd\, Fort Mill\, South Carolina\, 29707\, United States
CATEGORIES:Restoration Church
ATTACH;FMTTYPE=image/webp:https://restorationchurchcarolinas.org/wp-content/uploads/2025/12/best-worship-fort-mill-sc-restoration-church.webp
ORGANIZER;CN="Restoration Church":MAILTO:info@restorationchurchcarolinas.com
END:VEVENT
BEGIN:VEVENT
DTSTART;TZID=UTC:20290507T183000
DTEND;TZID=UTC:20290507T200000
DTSTAMP:20260425T235115
CREATED:20260212T221824Z
LAST-MODIFIED:20260224T194103Z
UID:10005040-1872873000-1872878400@restorationchurchcarolinas.org
SUMMARY:Apologetics Book Club
DESCRIPTION:The Monday night book club meets at 6:30 each week at Panera Bread Indian Land\, SC.
URL:https://restorationchurchcarolinas.org/calendar/apologetics-book-club-2-2-2-2-2-2-2-2-2-2-2-2-2-2-2-2-2-2/2029-05-07/
LOCATION:Panera Bread\, 7756 Charlotte Hwy\, Indian Land\, SC\, 29707\, United States
CATEGORIES:Restoration Church
ATTACH;FMTTYPE=image/webp:https://restorationchurchcarolinas.org/wp-content/uploads/2026/02/RC-Apologetics-Book-Club-Leader-Screwtape-Letters-C-S-Lewis-26leader-2.webp
ORGANIZER;CN="Restoration Church":MAILTO:info@restorationchurchcarolinas.com
END:VEVENT
BEGIN:VEVENT
DTSTART;TZID=America/New_York:20290508T110000
DTEND;TZID=America/New_York:20290508T123000
DTSTAMP:20260425T235115
CREATED:20250830T185857Z
LAST-MODIFIED:20250830T185857Z
UID:10003092-1872932400-1872937800@restorationchurchcarolinas.org
SUMMARY:Men's D-Group
DESCRIPTION:Men’s Discipleship Group led by Everett Fletcher will meet in the Youth Building every Tuesday from 11a-12:30p.
URL:https://restorationchurchcarolinas.org/calendar/mens-d-group/2029-05-08/
LOCATION:Youth Bldg.\, 8365 Possum Hollow Rd\, Fort Mill\, SC\, 29707\, United States
CATEGORIES:Men's Ministry
ATTACH;FMTTYPE=image/webp:https://restorationchurchcarolinas.org/wp-content/uploads/2025/08/mens-discipleship-group-fort-mill-sc.webp
ORGANIZER;CN="Men's Ministry":MAILTO:info@restorationchurchcarolinas.com
END:VEVENT
BEGIN:VEVENT
DTSTART;TZID=America/New_York:20290508T110000
DTEND;TZID=America/New_York:20290508T123000
DTSTAMP:20260425T235115
CREATED:20250830T190322Z
LAST-MODIFIED:20250830T190925Z
UID:10003353-1872932400-1872937800@restorationchurchcarolinas.org
SUMMARY:Women's D-Group
DESCRIPTION:Women’s Discipleship Group meets each Tuesday 11:00 – 12:30 in the Women’s Building led by Carol Schmitt and Idella Fletcher.
URL:https://restorationchurchcarolinas.org/calendar/womens-d-group/2029-05-08/
LOCATION:Women’s Bldg.\, 8365 Possum Hollow Rd\, Fort Mill\, SC\, 29707\, United States
CATEGORIES:Women's Ministry
ATTACH;FMTTYPE=image/webp:https://restorationchurchcarolinas.org/wp-content/uploads/2025/08/womens-discipleship-indian-land-sc.webp
ORGANIZER;CN="Women's Ministry":MAILTO:info@restorationchurchcarolinas.com
END:VEVENT
BEGIN:VEVENT
DTSTART;TZID=America/New_York:20290508T130000
DTEND;TZID=America/New_York:20290508T143000
DTSTAMP:20260425T235115
CREATED:20250830T190525Z
LAST-MODIFIED:20250830T190951Z
UID:10003614-1872939600-1872945000@restorationchurchcarolinas.org
SUMMARY:Women's D-Group
DESCRIPTION:Women’s Discipleship Group meets each Tuesday 1:00 – 2:30 in the Women’s Building – led by Barbara Brown.
URL:https://restorationchurchcarolinas.org/calendar/womens-d-group-2/2029-05-08/
LOCATION:Women’s Bldg.\, 8365 Possum Hollow Rd\, Fort Mill\, SC\, 29707\, United States
CATEGORIES:Women's Ministry
ATTACH;FMTTYPE=image/webp:https://restorationchurchcarolinas.org/wp-content/uploads/2025/08/best-womens-discipleship-group-fort-mill.webp
ORGANIZER;CN="Women's Ministry":MAILTO:info@restorationchurchcarolinas.com
END:VEVENT
BEGIN:VEVENT
DTSTART;TZID=America/New_York:20290508T173000
DTEND;TZID=America/New_York:20290508T190000
DTSTAMP:20260425T235115
CREATED:20260323T223300Z
LAST-MODIFIED:20260323T223629Z
UID:10005876-1872955800-1872961200@restorationchurchcarolinas.org
SUMMARY:Women's D-Group
DESCRIPTION:Women’s Discipleship Group meets each Tuesday 5:30 – 7:00 in the Women’s Building led by Phyllis Brown.
URL:https://restorationchurchcarolinas.org/calendar/womens-d-group-evenings/2029-05-08/
LOCATION:Women’s Bldg.\, 8365 Possum Hollow Rd\, Fort Mill\, SC\, 29707\, United States
CATEGORIES:Women's Ministry
ATTACH;FMTTYPE=image/webp:https://restorationchurchcarolinas.org/wp-content/uploads/2026/03/womens-d-group-evening-restoration-church-phyllis-brown.webp
ORGANIZER;CN="Restoration Church":MAILTO:info@restorationchurchcarolinas.com
END:VEVENT
BEGIN:VEVENT
DTSTART;TZID=America/New_York:20290509T190000
DTEND;TZID=America/New_York:20290509T200000
DTSTAMP:20260425T235115
CREATED:20250516T122636Z
LAST-MODIFIED:20251218T151354Z
UID:10000605-1873047600-1873051200@restorationchurchcarolinas.org
SUMMARY:Let's Talk Online Bible Study
DESCRIPTION:Wednesdays @ 7PM on YouTube & Facebook.
URL:https://restorationchurchcarolinas.org/calendar/lets-talk-online-bible-study-2/2029-05-09/
LOCATION:Online
CATEGORIES:Restoration Church
ATTACH;FMTTYPE=image/webp:https://restorationchurchcarolinas.org/wp-content/uploads/2025/12/RC-Weekly-TuneIn-January-2026-5.webp
ORGANIZER;CN="Restoration Church":MAILTO:info@restorationchurchcarolinas.com
END:VEVENT
BEGIN:VEVENT
DTSTART;TZID=America/New_York:20290509T190000
DTEND;TZID=America/New_York:20290509T210000
DTSTAMP:20260425T235115
CREATED:20250830T202521Z
LAST-MODIFIED:20250830T202521Z
UID:10004151-1873047600-1873054800@restorationchurchcarolinas.org
SUMMARY:Praise Team/Choir Rehearsal
DESCRIPTION:Praise Team Rehearsal / Choir Rehearsal 7:00 – 9:00 pm in the Sanctuary
URL:https://restorationchurchcarolinas.org/calendar/praise-team-choir-rehearsal-2-2-2-2-2-2-2-2/2029-05-09/
LOCATION:Sanctuary\, 8365 Possum Hollow Rd\, Fort Mill\, SC\, 29707\, United States
CATEGORIES:Music Ministry
ATTACH;FMTTYPE=image/webp:https://restorationchurchcarolinas.org/wp-content/uploads/2025/08/praise-team-rc-scaled.webp
END:VEVENT
BEGIN:VEVENT
DTSTART;TZID=America/New_York:20290510T100000
DTEND;TZID=America/New_York:20290510T113000
DTSTAMP:20260425T235115
CREATED:20250830T202830Z
LAST-MODIFIED:20260323T223746Z
UID:10005325-1873101600-1873107000@restorationchurchcarolinas.org
SUMMARY:Women's D-Group
DESCRIPTION:Women’s D-Group 10:00 – 11:30 held in the large modular led by Connie Howard.
URL:https://restorationchurchcarolinas.org/calendar/womens-dgroup/2029-05-10/
LOCATION:Large Modular\, 8365 Possum Hollow Rd\, Fort Mill\, SC\, 29707\, United States
CATEGORIES:Women's Ministry
ATTACH;FMTTYPE=image/webp:https://restorationchurchcarolinas.org/wp-content/uploads/2025/08/womens-discipleship-fort-mill-sc.webp
ORGANIZER;CN="Women's Ministry":MAILTO:info@restorationchurchcarolinas.com
END:VEVENT
BEGIN:VEVENT
DTSTART;TZID=America/New_York:20290510T180000
DTEND;TZID=America/New_York:20290510T193000
DTSTAMP:20260425T235115
CREATED:20251128T215329Z
LAST-MODIFIED:20251203T164654Z
UID:10002570-1873130400-1873135800@restorationchurchcarolinas.org
SUMMARY:J-Walkers & Crossroads Youth Mid-Week Bible Studies
DESCRIPTION:Join us on Thursday nights from 6 to 7:30pm for mid-week Bible study and activities for children ages 12-18! \nJ-Walkers (middle school)\n“Walking the Way of Jesus”\nColossians 1:10 (NKJ) \nCrossroads (high school)\n“Choosing God’s Way”\nIsaiah 30:21 \nLed by Brian and Diane Hopkins.
URL:https://restorationchurchcarolinas.org/calendar/youth-mid-week-bible-study-2-2-2-2-2-2-2-2-2-2-2-2-2-2-2/2029-05-10/
LOCATION:SC
CATEGORIES:Youth Ministry
ATTACH;FMTTYPE=image/webp:https://restorationchurchcarolinas.org/wp-content/uploads/2025/08/youth-bible-study-indian-land-sc-scaled.webp
END:VEVENT
BEGIN:VEVENT
DTSTART;TZID=America/New_York:20290513T093000
DTEND;TZID=America/New_York:20290513T101500
DTSTAMP:20260425T235115
CREATED:20250516T122019Z
LAST-MODIFIED:20251218T151227Z
UID:10001388-1873359000-1873361700@restorationchurchcarolinas.org
SUMMARY:Sunday School
DESCRIPTION:Join us every Sunday @ 9:30 am. We have Sunday School classes for all ages!
URL:https://restorationchurchcarolinas.org/calendar/sunday-school-2/2029-05-13/
LOCATION:Restoration Church\, 8365 Possum Hollow Rd\, Fort Mill\, South Carolina\, 29707\, United States
CATEGORIES:Restoration Church
ATTACH;FMTTYPE=image/webp:https://restorationchurchcarolinas.org/wp-content/uploads/2025/12/great-bible-study-fort-mill-sc.webp
ORGANIZER;CN="Restoration Church":MAILTO:info@restorationchurchcarolinas.com
END:VEVENT
BEGIN:VEVENT
DTSTART;TZID=America/New_York:20290513T103000
DTEND;TZID=America/New_York:20290513T120000
DTSTAMP:20260425T235115
CREATED:20250407T113507Z
LAST-MODIFIED:20251218T151254Z
UID:10001646-1873362600-1873368000@restorationchurchcarolinas.org
SUMMARY:Sunday Worship
DESCRIPTION:Every Sunday @ 10:30am! Watch Live via Livestream\, YouTube\, or Facebook!
URL:https://restorationchurchcarolinas.org/calendar/sunday-worship-2/2029-05-13/
LOCATION:Restoration Church\, 8365 Possum Hollow Rd\, Fort Mill\, South Carolina\, 29707\, United States
CATEGORIES:Restoration Church
ATTACH;FMTTYPE=image/webp:https://restorationchurchcarolinas.org/wp-content/uploads/2025/12/best-worship-fort-mill-sc-restoration-church.webp
ORGANIZER;CN="Restoration Church":MAILTO:info@restorationchurchcarolinas.com
END:VEVENT
BEGIN:VEVENT
DTSTART;TZID=UTC:20290514T183000
DTEND;TZID=UTC:20290514T200000
DTSTAMP:20260425T235115
CREATED:20260212T221824Z
LAST-MODIFIED:20260224T194103Z
UID:10005041-1873477800-1873483200@restorationchurchcarolinas.org
SUMMARY:Apologetics Book Club
DESCRIPTION:The Monday night book club meets at 6:30 each week at Panera Bread Indian Land\, SC.
URL:https://restorationchurchcarolinas.org/calendar/apologetics-book-club-2-2-2-2-2-2-2-2-2-2-2-2-2-2-2-2-2-2/2029-05-14/
LOCATION:Panera Bread\, 7756 Charlotte Hwy\, Indian Land\, SC\, 29707\, United States
CATEGORIES:Restoration Church
ATTACH;FMTTYPE=image/webp:https://restorationchurchcarolinas.org/wp-content/uploads/2026/02/RC-Apologetics-Book-Club-Leader-Screwtape-Letters-C-S-Lewis-26leader-2.webp
ORGANIZER;CN="Restoration Church":MAILTO:info@restorationchurchcarolinas.com
END:VEVENT
BEGIN:VEVENT
DTSTART;TZID=America/New_York:20290515T110000
DTEND;TZID=America/New_York:20290515T123000
DTSTAMP:20260425T235115
CREATED:20250830T185857Z
LAST-MODIFIED:20250830T185857Z
UID:10003093-1873537200-1873542600@restorationchurchcarolinas.org
SUMMARY:Men's D-Group
DESCRIPTION:Men’s Discipleship Group led by Everett Fletcher will meet in the Youth Building every Tuesday from 11a-12:30p.
URL:https://restorationchurchcarolinas.org/calendar/mens-d-group/2029-05-15/
LOCATION:Youth Bldg.\, 8365 Possum Hollow Rd\, Fort Mill\, SC\, 29707\, United States
CATEGORIES:Men's Ministry
ATTACH;FMTTYPE=image/webp:https://restorationchurchcarolinas.org/wp-content/uploads/2025/08/mens-discipleship-group-fort-mill-sc.webp
ORGANIZER;CN="Men's Ministry":MAILTO:info@restorationchurchcarolinas.com
END:VEVENT
BEGIN:VEVENT
DTSTART;TZID=America/New_York:20290515T110000
DTEND;TZID=America/New_York:20290515T123000
DTSTAMP:20260425T235115
CREATED:20250830T190322Z
LAST-MODIFIED:20250830T190925Z
UID:10003354-1873537200-1873542600@restorationchurchcarolinas.org
SUMMARY:Women's D-Group
DESCRIPTION:Women’s Discipleship Group meets each Tuesday 11:00 – 12:30 in the Women’s Building led by Carol Schmitt and Idella Fletcher.
URL:https://restorationchurchcarolinas.org/calendar/womens-d-group/2029-05-15/
LOCATION:Women’s Bldg.\, 8365 Possum Hollow Rd\, Fort Mill\, SC\, 29707\, United States
CATEGORIES:Women's Ministry
ATTACH;FMTTYPE=image/webp:https://restorationchurchcarolinas.org/wp-content/uploads/2025/08/womens-discipleship-indian-land-sc.webp
ORGANIZER;CN="Women's Ministry":MAILTO:info@restorationchurchcarolinas.com
END:VEVENT
BEGIN:VEVENT
DTSTART;TZID=America/New_York:20290515T130000
DTEND;TZID=America/New_York:20290515T143000
DTSTAMP:20260425T235115
CREATED:20250830T190525Z
LAST-MODIFIED:20250830T190951Z
UID:10003615-1873544400-1873549800@restorationchurchcarolinas.org
SUMMARY:Women's D-Group
DESCRIPTION:Women’s Discipleship Group meets each Tuesday 1:00 – 2:30 in the Women’s Building – led by Barbara Brown.
URL:https://restorationchurchcarolinas.org/calendar/womens-d-group-2/2029-05-15/
LOCATION:Women’s Bldg.\, 8365 Possum Hollow Rd\, Fort Mill\, SC\, 29707\, United States
CATEGORIES:Women's Ministry
ATTACH;FMTTYPE=image/webp:https://restorationchurchcarolinas.org/wp-content/uploads/2025/08/best-womens-discipleship-group-fort-mill.webp
ORGANIZER;CN="Women's Ministry":MAILTO:info@restorationchurchcarolinas.com
END:VEVENT
BEGIN:VEVENT
DTSTART;TZID=America/New_York:20290515T173000
DTEND;TZID=America/New_York:20290515T190000
DTSTAMP:20260425T235115
CREATED:20260323T223300Z
LAST-MODIFIED:20260323T223629Z
UID:10005877-1873560600-1873566000@restorationchurchcarolinas.org
SUMMARY:Women's D-Group
DESCRIPTION:Women’s Discipleship Group meets each Tuesday 5:30 – 7:00 in the Women’s Building led by Phyllis Brown.
URL:https://restorationchurchcarolinas.org/calendar/womens-d-group-evenings/2029-05-15/
LOCATION:Women’s Bldg.\, 8365 Possum Hollow Rd\, Fort Mill\, SC\, 29707\, United States
CATEGORIES:Women's Ministry
ATTACH;FMTTYPE=image/webp:https://restorationchurchcarolinas.org/wp-content/uploads/2026/03/womens-d-group-evening-restoration-church-phyllis-brown.webp
ORGANIZER;CN="Restoration Church":MAILTO:info@restorationchurchcarolinas.com
END:VEVENT
BEGIN:VEVENT
DTSTART;TZID=America/New_York:20290516T190000
DTEND;TZID=America/New_York:20290516T200000
DTSTAMP:20260425T235115
CREATED:20250516T122636Z
LAST-MODIFIED:20251218T151354Z
UID:10000606-1873652400-1873656000@restorationchurchcarolinas.org
SUMMARY:Let's Talk Online Bible Study
DESCRIPTION:Wednesdays @ 7PM on YouTube & Facebook.
URL:https://restorationchurchcarolinas.org/calendar/lets-talk-online-bible-study-2/2029-05-16/
LOCATION:Online
CATEGORIES:Restoration Church
ATTACH;FMTTYPE=image/webp:https://restorationchurchcarolinas.org/wp-content/uploads/2025/12/RC-Weekly-TuneIn-January-2026-5.webp
ORGANIZER;CN="Restoration Church":MAILTO:info@restorationchurchcarolinas.com
END:VEVENT
BEGIN:VEVENT
DTSTART;TZID=America/New_York:20290516T190000
DTEND;TZID=America/New_York:20290516T210000
DTSTAMP:20260425T235115
CREATED:20250830T202521Z
LAST-MODIFIED:20250830T202521Z
UID:10004152-1873652400-1873659600@restorationchurchcarolinas.org
SUMMARY:Praise Team/Choir Rehearsal
DESCRIPTION:Praise Team Rehearsal / Choir Rehearsal 7:00 – 9:00 pm in the Sanctuary
URL:https://restorationchurchcarolinas.org/calendar/praise-team-choir-rehearsal-2-2-2-2-2-2-2-2/2029-05-16/
LOCATION:Sanctuary\, 8365 Possum Hollow Rd\, Fort Mill\, SC\, 29707\, United States
CATEGORIES:Music Ministry
ATTACH;FMTTYPE=image/webp:https://restorationchurchcarolinas.org/wp-content/uploads/2025/08/praise-team-rc-scaled.webp
END:VEVENT
BEGIN:VEVENT
DTSTART;TZID=America/New_York:20290517T100000
DTEND;TZID=America/New_York:20290517T113000
DTSTAMP:20260425T235115
CREATED:20250830T202830Z
LAST-MODIFIED:20260323T223746Z
UID:10005326-1873706400-1873711800@restorationchurchcarolinas.org
SUMMARY:Women's D-Group
DESCRIPTION:Women’s D-Group 10:00 – 11:30 held in the large modular led by Connie Howard.
URL:https://restorationchurchcarolinas.org/calendar/womens-dgroup/2029-05-17/
LOCATION:Large Modular\, 8365 Possum Hollow Rd\, Fort Mill\, SC\, 29707\, United States
CATEGORIES:Women's Ministry
ATTACH;FMTTYPE=image/webp:https://restorationchurchcarolinas.org/wp-content/uploads/2025/08/womens-discipleship-fort-mill-sc.webp
ORGANIZER;CN="Women's Ministry":MAILTO:info@restorationchurchcarolinas.com
END:VEVENT
BEGIN:VEVENT
DTSTART;TZID=America/New_York:20290517T180000
DTEND;TZID=America/New_York:20290517T193000
DTSTAMP:20260425T235115
CREATED:20251128T215329Z
LAST-MODIFIED:20251203T164654Z
UID:10002571-1873735200-1873740600@restorationchurchcarolinas.org
SUMMARY:J-Walkers & Crossroads Youth Mid-Week Bible Studies
DESCRIPTION:Join us on Thursday nights from 6 to 7:30pm for mid-week Bible study and activities for children ages 12-18! \nJ-Walkers (middle school)\n“Walking the Way of Jesus”\nColossians 1:10 (NKJ) \nCrossroads (high school)\n“Choosing God’s Way”\nIsaiah 30:21 \nLed by Brian and Diane Hopkins.
URL:https://restorationchurchcarolinas.org/calendar/youth-mid-week-bible-study-2-2-2-2-2-2-2-2-2-2-2-2-2-2-2/2029-05-17/
LOCATION:SC
CATEGORIES:Youth Ministry
ATTACH;FMTTYPE=image/webp:https://restorationchurchcarolinas.org/wp-content/uploads/2025/08/youth-bible-study-indian-land-sc-scaled.webp
END:VEVENT
BEGIN:VEVENT
DTSTART;TZID=America/New_York:20290520T093000
DTEND;TZID=America/New_York:20290520T101500
DTSTAMP:20260425T235115
CREATED:20250516T122019Z
LAST-MODIFIED:20251218T151227Z
UID:10001389-1873963800-1873966500@restorationchurchcarolinas.org
SUMMARY:Sunday School
DESCRIPTION:Join us every Sunday @ 9:30 am. We have Sunday School classes for all ages!
URL:https://restorationchurchcarolinas.org/calendar/sunday-school-2/2029-05-20/
LOCATION:Restoration Church\, 8365 Possum Hollow Rd\, Fort Mill\, South Carolina\, 29707\, United States
CATEGORIES:Restoration Church
ATTACH;FMTTYPE=image/webp:https://restorationchurchcarolinas.org/wp-content/uploads/2025/12/great-bible-study-fort-mill-sc.webp
ORGANIZER;CN="Restoration Church":MAILTO:info@restorationchurchcarolinas.com
END:VEVENT
BEGIN:VEVENT
DTSTART;TZID=America/New_York:20290520T103000
DTEND;TZID=America/New_York:20290520T120000
DTSTAMP:20260425T235115
CREATED:20250407T113507Z
LAST-MODIFIED:20251218T151254Z
UID:10001647-1873967400-1873972800@restorationchurchcarolinas.org
SUMMARY:Sunday Worship
DESCRIPTION:Every Sunday @ 10:30am! Watch Live via Livestream\, YouTube\, or Facebook!
URL:https://restorationchurchcarolinas.org/calendar/sunday-worship-2/2029-05-20/
LOCATION:Restoration Church\, 8365 Possum Hollow Rd\, Fort Mill\, South Carolina\, 29707\, United States
CATEGORIES:Restoration Church
ATTACH;FMTTYPE=image/webp:https://restorationchurchcarolinas.org/wp-content/uploads/2025/12/best-worship-fort-mill-sc-restoration-church.webp
ORGANIZER;CN="Restoration Church":MAILTO:info@restorationchurchcarolinas.com
END:VEVENT
BEGIN:VEVENT
DTSTART;TZID=UTC:20290521T183000
DTEND;TZID=UTC:20290521T200000
DTSTAMP:20260425T235115
CREATED:20260212T221824Z
LAST-MODIFIED:20260224T194103Z
UID:10005042-1874082600-1874088000@restorationchurchcarolinas.org
SUMMARY:Apologetics Book Club
DESCRIPTION:The Monday night book club meets at 6:30 each week at Panera Bread Indian Land\, SC.
URL:https://restorationchurchcarolinas.org/calendar/apologetics-book-club-2-2-2-2-2-2-2-2-2-2-2-2-2-2-2-2-2-2/2029-05-21/
LOCATION:Panera Bread\, 7756 Charlotte Hwy\, Indian Land\, SC\, 29707\, United States
CATEGORIES:Restoration Church
ATTACH;FMTTYPE=image/webp:https://restorationchurchcarolinas.org/wp-content/uploads/2026/02/RC-Apologetics-Book-Club-Leader-Screwtape-Letters-C-S-Lewis-26leader-2.webp
ORGANIZER;CN="Restoration Church":MAILTO:info@restorationchurchcarolinas.com
END:VEVENT
BEGIN:VEVENT
DTSTART;TZID=America/New_York:20290522T110000
DTEND;TZID=America/New_York:20290522T123000
DTSTAMP:20260425T235115
CREATED:20250830T185857Z
LAST-MODIFIED:20250830T185857Z
UID:10003094-1874142000-1874147400@restorationchurchcarolinas.org
SUMMARY:Men's D-Group
DESCRIPTION:Men’s Discipleship Group led by Everett Fletcher will meet in the Youth Building every Tuesday from 11a-12:30p.
URL:https://restorationchurchcarolinas.org/calendar/mens-d-group/2029-05-22/
LOCATION:Youth Bldg.\, 8365 Possum Hollow Rd\, Fort Mill\, SC\, 29707\, United States
CATEGORIES:Men's Ministry
ATTACH;FMTTYPE=image/webp:https://restorationchurchcarolinas.org/wp-content/uploads/2025/08/mens-discipleship-group-fort-mill-sc.webp
ORGANIZER;CN="Men's Ministry":MAILTO:info@restorationchurchcarolinas.com
END:VEVENT
BEGIN:VEVENT
DTSTART;TZID=America/New_York:20290522T110000
DTEND;TZID=America/New_York:20290522T123000
DTSTAMP:20260425T235115
CREATED:20250830T190322Z
LAST-MODIFIED:20250830T190925Z
UID:10003355-1874142000-1874147400@restorationchurchcarolinas.org
SUMMARY:Women's D-Group
DESCRIPTION:Women’s Discipleship Group meets each Tuesday 11:00 – 12:30 in the Women’s Building led by Carol Schmitt and Idella Fletcher.
URL:https://restorationchurchcarolinas.org/calendar/womens-d-group/2029-05-22/
LOCATION:Women’s Bldg.\, 8365 Possum Hollow Rd\, Fort Mill\, SC\, 29707\, United States
CATEGORIES:Women's Ministry
ATTACH;FMTTYPE=image/webp:https://restorationchurchcarolinas.org/wp-content/uploads/2025/08/womens-discipleship-indian-land-sc.webp
ORGANIZER;CN="Women's Ministry":MAILTO:info@restorationchurchcarolinas.com
END:VEVENT
BEGIN:VEVENT
DTSTART;TZID=America/New_York:20290522T130000
DTEND;TZID=America/New_York:20290522T143000
DTSTAMP:20260425T235115
CREATED:20250830T190525Z
LAST-MODIFIED:20250830T190951Z
UID:10003616-1874149200-1874154600@restorationchurchcarolinas.org
SUMMARY:Women's D-Group
DESCRIPTION:Women’s Discipleship Group meets each Tuesday 1:00 – 2:30 in the Women’s Building – led by Barbara Brown.
URL:https://restorationchurchcarolinas.org/calendar/womens-d-group-2/2029-05-22/
LOCATION:Women’s Bldg.\, 8365 Possum Hollow Rd\, Fort Mill\, SC\, 29707\, United States
CATEGORIES:Women's Ministry
ATTACH;FMTTYPE=image/webp:https://restorationchurchcarolinas.org/wp-content/uploads/2025/08/best-womens-discipleship-group-fort-mill.webp
ORGANIZER;CN="Women's Ministry":MAILTO:info@restorationchurchcarolinas.com
END:VEVENT
END:VCALENDAR