BEGIN:VCALENDAR
VERSION:2.0
PRODID:-//Restoration Church l Faith-filled Church in Fort Mill SC - ECPv6.15.18//NONSGML v1.0//EN
CALSCALE:GREGORIAN
METHOD:PUBLISH
X-WR-CALNAME:Restoration Church l Faith-filled Church in Fort Mill SC
X-ORIGINAL-URL:https://restorationchurchcarolinas.org
X-WR-CALDESC:Events for Restoration Church l Faith-filled Church in Fort Mill SC
REFRESH-INTERVAL;VALUE=DURATION:PT1H
X-Robots-Tag:noindex
X-PUBLISHED-TTL:PT1H
BEGIN:VTIMEZONE
TZID:America/New_York
BEGIN:DAYLIGHT
TZOFFSETFROM:-0500
TZOFFSETTO:-0400
TZNAME:EDT
DTSTART:20280312T070000
END:DAYLIGHT
BEGIN:STANDARD
TZOFFSETFROM:-0400
TZOFFSETTO:-0500
TZNAME:EST
DTSTART:20281105T060000
END:STANDARD
BEGIN:DAYLIGHT
TZOFFSETFROM:-0500
TZOFFSETTO:-0400
TZNAME:EDT
DTSTART:20290311T070000
END:DAYLIGHT
BEGIN:STANDARD
TZOFFSETFROM:-0400
TZOFFSETTO:-0500
TZNAME:EST
DTSTART:20291104T060000
END:STANDARD
BEGIN:DAYLIGHT
TZOFFSETFROM:-0500
TZOFFSETTO:-0400
TZNAME:EDT
DTSTART:20300310T070000
END:DAYLIGHT
BEGIN:STANDARD
TZOFFSETFROM:-0400
TZOFFSETTO:-0500
TZNAME:EST
DTSTART:20301103T060000
END:STANDARD
END:VTIMEZONE
BEGIN:VTIMEZONE
TZID:UTC
BEGIN:STANDARD
TZOFFSETFROM:+0000
TZOFFSETTO:+0000
TZNAME:UTC
DTSTART:20280101T000000
END:STANDARD
END:VTIMEZONE
BEGIN:VEVENT
DTSTART;TZID=America/New_York:20290418T190000
DTEND;TZID=America/New_York:20290418T200000
DTSTAMP:20260420T200315
CREATED:20250516T122636Z
LAST-MODIFIED:20251218T151354Z
UID:10000602-1871233200-1871236800@restorationchurchcarolinas.org
SUMMARY:Let's Talk Online Bible Study
DESCRIPTION:Wednesdays @ 7PM on YouTube & Facebook.
URL:https://restorationchurchcarolinas.org/calendar/lets-talk-online-bible-study-2/2029-04-18/
LOCATION:Online
CATEGORIES:Restoration Church
ATTACH;FMTTYPE=image/webp:https://restorationchurchcarolinas.org/wp-content/uploads/2025/12/RC-Weekly-TuneIn-January-2026-5.webp
ORGANIZER;CN="Restoration Church":MAILTO:info@restorationchurchcarolinas.com
END:VEVENT
BEGIN:VEVENT
DTSTART;TZID=America/New_York:20290418T190000
DTEND;TZID=America/New_York:20290418T210000
DTSTAMP:20260420T200315
CREATED:20250830T202521Z
LAST-MODIFIED:20250830T202521Z
UID:10004148-1871233200-1871240400@restorationchurchcarolinas.org
SUMMARY:Praise Team/Choir Rehearsal
DESCRIPTION:Praise Team Rehearsal / Choir Rehearsal 7:00 – 9:00 pm in the Sanctuary
URL:https://restorationchurchcarolinas.org/calendar/praise-team-choir-rehearsal-2-2-2-2-2-2-2-2/2029-04-18/
LOCATION:Sanctuary\, 8365 Possum Hollow Rd\, Fort Mill\, SC\, 29707\, United States
CATEGORIES:Music Ministry
ATTACH;FMTTYPE=image/webp:https://restorationchurchcarolinas.org/wp-content/uploads/2025/08/praise-team-rc-scaled.webp
END:VEVENT
BEGIN:VEVENT
DTSTART;TZID=America/New_York:20290419T100000
DTEND;TZID=America/New_York:20290419T113000
DTSTAMP:20260420T200315
CREATED:20250830T202830Z
LAST-MODIFIED:20260323T223746Z
UID:10005322-1871287200-1871292600@restorationchurchcarolinas.org
SUMMARY:Women's D-Group
DESCRIPTION:Women’s D-Group 10:00 – 11:30 held in the large modular led by Connie Howard.
URL:https://restorationchurchcarolinas.org/calendar/womens-dgroup/2029-04-19/
LOCATION:Large Modular\, 8365 Possum Hollow Rd\, Fort Mill\, SC\, 29707\, United States
CATEGORIES:Women's Ministry
ATTACH;FMTTYPE=image/webp:https://restorationchurchcarolinas.org/wp-content/uploads/2025/08/womens-discipleship-fort-mill-sc.webp
ORGANIZER;CN="Women's Ministry":MAILTO:info@restorationchurchcarolinas.com
END:VEVENT
BEGIN:VEVENT
DTSTART;TZID=America/New_York:20290419T180000
DTEND;TZID=America/New_York:20290419T193000
DTSTAMP:20260420T200315
CREATED:20251128T215329Z
LAST-MODIFIED:20251203T164654Z
UID:10002567-1871316000-1871321400@restorationchurchcarolinas.org
SUMMARY:J-Walkers & Crossroads Youth Mid-Week Bible Studies
DESCRIPTION:Join us on Thursday nights from 6 to 7:30pm for mid-week Bible study and activities for children ages 12-18! \nJ-Walkers (middle school)\n“Walking the Way of Jesus”\nColossians 1:10 (NKJ) \nCrossroads (high school)\n“Choosing God’s Way”\nIsaiah 30:21 \nLed by Brian and Diane Hopkins.
URL:https://restorationchurchcarolinas.org/calendar/youth-mid-week-bible-study-2-2-2-2-2-2-2-2-2-2-2-2-2-2-2/2029-04-19/
LOCATION:SC
CATEGORIES:Youth Ministry
ATTACH;FMTTYPE=image/webp:https://restorationchurchcarolinas.org/wp-content/uploads/2025/08/youth-bible-study-indian-land-sc-scaled.webp
END:VEVENT
BEGIN:VEVENT
DTSTART;TZID=America/New_York:20290422T093000
DTEND;TZID=America/New_York:20290422T101500
DTSTAMP:20260420T200315
CREATED:20250516T122019Z
LAST-MODIFIED:20251218T151227Z
UID:10001385-1871544600-1871547300@restorationchurchcarolinas.org
SUMMARY:Sunday School
DESCRIPTION:Join us every Sunday @ 9:30 am. We have Sunday School classes for all ages!
URL:https://restorationchurchcarolinas.org/calendar/sunday-school-2/2029-04-22/
LOCATION:Restoration Church\, 8365 Possum Hollow Rd\, Fort Mill\, South Carolina\, 29707\, United States
CATEGORIES:Restoration Church
ATTACH;FMTTYPE=image/webp:https://restorationchurchcarolinas.org/wp-content/uploads/2025/12/great-bible-study-fort-mill-sc.webp
ORGANIZER;CN="Restoration Church":MAILTO:info@restorationchurchcarolinas.com
END:VEVENT
BEGIN:VEVENT
DTSTART;TZID=America/New_York:20290422T103000
DTEND;TZID=America/New_York:20290422T120000
DTSTAMP:20260420T200315
CREATED:20250407T113507Z
LAST-MODIFIED:20251218T151254Z
UID:10001643-1871548200-1871553600@restorationchurchcarolinas.org
SUMMARY:Sunday Worship
DESCRIPTION:Every Sunday @ 10:30am! Watch Live via Livestream\, YouTube\, or Facebook!
URL:https://restorationchurchcarolinas.org/calendar/sunday-worship-2/2029-04-22/
LOCATION:Restoration Church\, 8365 Possum Hollow Rd\, Fort Mill\, South Carolina\, 29707\, United States
CATEGORIES:Restoration Church
ATTACH;FMTTYPE=image/webp:https://restorationchurchcarolinas.org/wp-content/uploads/2025/12/best-worship-fort-mill-sc-restoration-church.webp
ORGANIZER;CN="Restoration Church":MAILTO:info@restorationchurchcarolinas.com
END:VEVENT
BEGIN:VEVENT
DTSTART;TZID=UTC:20290423T183000
DTEND;TZID=UTC:20290423T200000
DTSTAMP:20260420T200315
CREATED:20260212T221824Z
LAST-MODIFIED:20260224T194103Z
UID:10005038-1871663400-1871668800@restorationchurchcarolinas.org
SUMMARY:Apologetics Book Club
DESCRIPTION:The Monday night book club meets at 6:30 each week at Panera Bread Indian Land\, SC.
URL:https://restorationchurchcarolinas.org/calendar/apologetics-book-club-2-2-2-2-2-2-2-2-2-2-2-2-2-2-2-2-2-2/2029-04-23/
LOCATION:Panera Bread\, 7756 Charlotte Hwy\, Indian Land\, SC\, 29707\, United States
CATEGORIES:Restoration Church
ATTACH;FMTTYPE=image/webp:https://restorationchurchcarolinas.org/wp-content/uploads/2026/02/RC-Apologetics-Book-Club-Leader-Screwtape-Letters-C-S-Lewis-26leader-2.webp
ORGANIZER;CN="Restoration Church":MAILTO:info@restorationchurchcarolinas.com
END:VEVENT
BEGIN:VEVENT
DTSTART;TZID=America/New_York:20290424T110000
DTEND;TZID=America/New_York:20290424T123000
DTSTAMP:20260420T200315
CREATED:20250830T185857Z
LAST-MODIFIED:20250830T185857Z
UID:10003090-1871722800-1871728200@restorationchurchcarolinas.org
SUMMARY:Men's D-Group
DESCRIPTION:Men’s Discipleship Group led by Everett Fletcher will meet in the Youth Building every Tuesday from 11a-12:30p.
URL:https://restorationchurchcarolinas.org/calendar/mens-d-group/2029-04-24/
LOCATION:Youth Bldg.\, 8365 Possum Hollow Rd\, Fort Mill\, SC\, 29707\, United States
CATEGORIES:Men's Ministry
ATTACH;FMTTYPE=image/webp:https://restorationchurchcarolinas.org/wp-content/uploads/2025/08/mens-discipleship-group-fort-mill-sc.webp
ORGANIZER;CN="Men's Ministry":MAILTO:info@restorationchurchcarolinas.com
END:VEVENT
BEGIN:VEVENT
DTSTART;TZID=America/New_York:20290424T110000
DTEND;TZID=America/New_York:20290424T123000
DTSTAMP:20260420T200315
CREATED:20250830T190322Z
LAST-MODIFIED:20250830T190925Z
UID:10003351-1871722800-1871728200@restorationchurchcarolinas.org
SUMMARY:Women's D-Group
DESCRIPTION:Women’s Discipleship Group meets each Tuesday 11:00 – 12:30 in the Women’s Building led by Carol Schmitt and Idella Fletcher.
URL:https://restorationchurchcarolinas.org/calendar/womens-d-group/2029-04-24/
LOCATION:Women’s Bldg.\, 8365 Possum Hollow Rd\, Fort Mill\, SC\, 29707\, United States
CATEGORIES:Women's Ministry
ATTACH;FMTTYPE=image/webp:https://restorationchurchcarolinas.org/wp-content/uploads/2025/08/womens-discipleship-indian-land-sc.webp
ORGANIZER;CN="Women's Ministry":MAILTO:info@restorationchurchcarolinas.com
END:VEVENT
BEGIN:VEVENT
DTSTART;TZID=America/New_York:20290424T130000
DTEND;TZID=America/New_York:20290424T143000
DTSTAMP:20260420T200315
CREATED:20250830T190525Z
LAST-MODIFIED:20250830T190951Z
UID:10003612-1871730000-1871735400@restorationchurchcarolinas.org
SUMMARY:Women's D-Group
DESCRIPTION:Women’s Discipleship Group meets each Tuesday 1:00 – 2:30 in the Women’s Building – led by Barbara Brown.
URL:https://restorationchurchcarolinas.org/calendar/womens-d-group-2/2029-04-24/
LOCATION:Women’s Bldg.\, 8365 Possum Hollow Rd\, Fort Mill\, SC\, 29707\, United States
CATEGORIES:Women's Ministry
ATTACH;FMTTYPE=image/webp:https://restorationchurchcarolinas.org/wp-content/uploads/2025/08/best-womens-discipleship-group-fort-mill.webp
ORGANIZER;CN="Women's Ministry":MAILTO:info@restorationchurchcarolinas.com
END:VEVENT
BEGIN:VEVENT
DTSTART;TZID=America/New_York:20290424T173000
DTEND;TZID=America/New_York:20290424T190000
DTSTAMP:20260420T200315
CREATED:20260323T223300Z
LAST-MODIFIED:20260323T223629Z
UID:10005874-1871746200-1871751600@restorationchurchcarolinas.org
SUMMARY:Women's D-Group
DESCRIPTION:Women’s Discipleship Group meets each Tuesday 5:30 – 7:00 in the Women’s Building led by Phyllis Brown.
URL:https://restorationchurchcarolinas.org/calendar/womens-d-group-evenings/2029-04-24/
LOCATION:Women’s Bldg.\, 8365 Possum Hollow Rd\, Fort Mill\, SC\, 29707\, United States
CATEGORIES:Women's Ministry
ATTACH;FMTTYPE=image/webp:https://restorationchurchcarolinas.org/wp-content/uploads/2026/03/womens-d-group-evening-restoration-church-phyllis-brown.webp
ORGANIZER;CN="Restoration Church":MAILTO:info@restorationchurchcarolinas.com
END:VEVENT
BEGIN:VEVENT
DTSTART;TZID=America/New_York:20290425T190000
DTEND;TZID=America/New_York:20290425T200000
DTSTAMP:20260420T200315
CREATED:20250516T122636Z
LAST-MODIFIED:20251218T151354Z
UID:10000603-1871838000-1871841600@restorationchurchcarolinas.org
SUMMARY:Let's Talk Online Bible Study
DESCRIPTION:Wednesdays @ 7PM on YouTube & Facebook.
URL:https://restorationchurchcarolinas.org/calendar/lets-talk-online-bible-study-2/2029-04-25/
LOCATION:Online
CATEGORIES:Restoration Church
ATTACH;FMTTYPE=image/webp:https://restorationchurchcarolinas.org/wp-content/uploads/2025/12/RC-Weekly-TuneIn-January-2026-5.webp
ORGANIZER;CN="Restoration Church":MAILTO:info@restorationchurchcarolinas.com
END:VEVENT
BEGIN:VEVENT
DTSTART;TZID=America/New_York:20290425T190000
DTEND;TZID=America/New_York:20290425T210000
DTSTAMP:20260420T200315
CREATED:20250830T202521Z
LAST-MODIFIED:20250830T202521Z
UID:10004149-1871838000-1871845200@restorationchurchcarolinas.org
SUMMARY:Praise Team/Choir Rehearsal
DESCRIPTION:Praise Team Rehearsal / Choir Rehearsal 7:00 – 9:00 pm in the Sanctuary
URL:https://restorationchurchcarolinas.org/calendar/praise-team-choir-rehearsal-2-2-2-2-2-2-2-2/2029-04-25/
LOCATION:Sanctuary\, 8365 Possum Hollow Rd\, Fort Mill\, SC\, 29707\, United States
CATEGORIES:Music Ministry
ATTACH;FMTTYPE=image/webp:https://restorationchurchcarolinas.org/wp-content/uploads/2025/08/praise-team-rc-scaled.webp
END:VEVENT
BEGIN:VEVENT
DTSTART;TZID=America/New_York:20290426T100000
DTEND;TZID=America/New_York:20290426T113000
DTSTAMP:20260420T200315
CREATED:20250830T202830Z
LAST-MODIFIED:20260323T223746Z
UID:10005323-1871892000-1871897400@restorationchurchcarolinas.org
SUMMARY:Women's D-Group
DESCRIPTION:Women’s D-Group 10:00 – 11:30 held in the large modular led by Connie Howard.
URL:https://restorationchurchcarolinas.org/calendar/womens-dgroup/2029-04-26/
LOCATION:Large Modular\, 8365 Possum Hollow Rd\, Fort Mill\, SC\, 29707\, United States
CATEGORIES:Women's Ministry
ATTACH;FMTTYPE=image/webp:https://restorationchurchcarolinas.org/wp-content/uploads/2025/08/womens-discipleship-fort-mill-sc.webp
ORGANIZER;CN="Women's Ministry":MAILTO:info@restorationchurchcarolinas.com
END:VEVENT
BEGIN:VEVENT
DTSTART;TZID=America/New_York:20290426T180000
DTEND;TZID=America/New_York:20290426T193000
DTSTAMP:20260420T200315
CREATED:20251128T215329Z
LAST-MODIFIED:20251203T164654Z
UID:10002568-1871920800-1871926200@restorationchurchcarolinas.org
SUMMARY:J-Walkers & Crossroads Youth Mid-Week Bible Studies
DESCRIPTION:Join us on Thursday nights from 6 to 7:30pm for mid-week Bible study and activities for children ages 12-18! \nJ-Walkers (middle school)\n“Walking the Way of Jesus”\nColossians 1:10 (NKJ) \nCrossroads (high school)\n“Choosing God’s Way”\nIsaiah 30:21 \nLed by Brian and Diane Hopkins.
URL:https://restorationchurchcarolinas.org/calendar/youth-mid-week-bible-study-2-2-2-2-2-2-2-2-2-2-2-2-2-2-2/2029-04-26/
LOCATION:SC
CATEGORIES:Youth Ministry
ATTACH;FMTTYPE=image/webp:https://restorationchurchcarolinas.org/wp-content/uploads/2025/08/youth-bible-study-indian-land-sc-scaled.webp
END:VEVENT
BEGIN:VEVENT
DTSTART;TZID=America/New_York:20290429T093000
DTEND;TZID=America/New_York:20290429T101500
DTSTAMP:20260420T200315
CREATED:20250516T122019Z
LAST-MODIFIED:20251218T151227Z
UID:10001386-1872149400-1872152100@restorationchurchcarolinas.org
SUMMARY:Sunday School
DESCRIPTION:Join us every Sunday @ 9:30 am. We have Sunday School classes for all ages!
URL:https://restorationchurchcarolinas.org/calendar/sunday-school-2/2029-04-29/
LOCATION:Restoration Church\, 8365 Possum Hollow Rd\, Fort Mill\, South Carolina\, 29707\, United States
CATEGORIES:Restoration Church
ATTACH;FMTTYPE=image/webp:https://restorationchurchcarolinas.org/wp-content/uploads/2025/12/great-bible-study-fort-mill-sc.webp
ORGANIZER;CN="Restoration Church":MAILTO:info@restorationchurchcarolinas.com
END:VEVENT
BEGIN:VEVENT
DTSTART;TZID=America/New_York:20290429T103000
DTEND;TZID=America/New_York:20290429T120000
DTSTAMP:20260420T200315
CREATED:20250407T113507Z
LAST-MODIFIED:20251218T151254Z
UID:10001644-1872153000-1872158400@restorationchurchcarolinas.org
SUMMARY:Sunday Worship
DESCRIPTION:Every Sunday @ 10:30am! Watch Live via Livestream\, YouTube\, or Facebook!
URL:https://restorationchurchcarolinas.org/calendar/sunday-worship-2/2029-04-29/
LOCATION:Restoration Church\, 8365 Possum Hollow Rd\, Fort Mill\, South Carolina\, 29707\, United States
CATEGORIES:Restoration Church
ATTACH;FMTTYPE=image/webp:https://restorationchurchcarolinas.org/wp-content/uploads/2025/12/best-worship-fort-mill-sc-restoration-church.webp
ORGANIZER;CN="Restoration Church":MAILTO:info@restorationchurchcarolinas.com
END:VEVENT
BEGIN:VEVENT
DTSTART;TZID=UTC:20290430T183000
DTEND;TZID=UTC:20290430T200000
DTSTAMP:20260420T200315
CREATED:20260212T221824Z
LAST-MODIFIED:20260224T194103Z
UID:10005039-1872268200-1872273600@restorationchurchcarolinas.org
SUMMARY:Apologetics Book Club
DESCRIPTION:The Monday night book club meets at 6:30 each week at Panera Bread Indian Land\, SC.
URL:https://restorationchurchcarolinas.org/calendar/apologetics-book-club-2-2-2-2-2-2-2-2-2-2-2-2-2-2-2-2-2-2/2029-04-30/
LOCATION:Panera Bread\, 7756 Charlotte Hwy\, Indian Land\, SC\, 29707\, United States
CATEGORIES:Restoration Church
ATTACH;FMTTYPE=image/webp:https://restorationchurchcarolinas.org/wp-content/uploads/2026/02/RC-Apologetics-Book-Club-Leader-Screwtape-Letters-C-S-Lewis-26leader-2.webp
ORGANIZER;CN="Restoration Church":MAILTO:info@restorationchurchcarolinas.com
END:VEVENT
BEGIN:VEVENT
DTSTART;TZID=America/New_York:20290501T110000
DTEND;TZID=America/New_York:20290501T123000
DTSTAMP:20260420T200315
CREATED:20250830T185857Z
LAST-MODIFIED:20250830T185857Z
UID:10003091-1872327600-1872333000@restorationchurchcarolinas.org
SUMMARY:Men's D-Group
DESCRIPTION:Men’s Discipleship Group led by Everett Fletcher will meet in the Youth Building every Tuesday from 11a-12:30p.
URL:https://restorationchurchcarolinas.org/calendar/mens-d-group/2029-05-01/
LOCATION:Youth Bldg.\, 8365 Possum Hollow Rd\, Fort Mill\, SC\, 29707\, United States
CATEGORIES:Men's Ministry
ATTACH;FMTTYPE=image/webp:https://restorationchurchcarolinas.org/wp-content/uploads/2025/08/mens-discipleship-group-fort-mill-sc.webp
ORGANIZER;CN="Men's Ministry":MAILTO:info@restorationchurchcarolinas.com
END:VEVENT
BEGIN:VEVENT
DTSTART;TZID=America/New_York:20290501T110000
DTEND;TZID=America/New_York:20290501T123000
DTSTAMP:20260420T200315
CREATED:20250830T190322Z
LAST-MODIFIED:20250830T190925Z
UID:10003352-1872327600-1872333000@restorationchurchcarolinas.org
SUMMARY:Women's D-Group
DESCRIPTION:Women’s Discipleship Group meets each Tuesday 11:00 – 12:30 in the Women’s Building led by Carol Schmitt and Idella Fletcher.
URL:https://restorationchurchcarolinas.org/calendar/womens-d-group/2029-05-01/
LOCATION:Women’s Bldg.\, 8365 Possum Hollow Rd\, Fort Mill\, SC\, 29707\, United States
CATEGORIES:Women's Ministry
ATTACH;FMTTYPE=image/webp:https://restorationchurchcarolinas.org/wp-content/uploads/2025/08/womens-discipleship-indian-land-sc.webp
ORGANIZER;CN="Women's Ministry":MAILTO:info@restorationchurchcarolinas.com
END:VEVENT
BEGIN:VEVENT
DTSTART;TZID=America/New_York:20290501T130000
DTEND;TZID=America/New_York:20290501T143000
DTSTAMP:20260420T200315
CREATED:20250830T190525Z
LAST-MODIFIED:20250830T190951Z
UID:10003613-1872334800-1872340200@restorationchurchcarolinas.org
SUMMARY:Women's D-Group
DESCRIPTION:Women’s Discipleship Group meets each Tuesday 1:00 – 2:30 in the Women’s Building – led by Barbara Brown.
URL:https://restorationchurchcarolinas.org/calendar/womens-d-group-2/2029-05-01/
LOCATION:Women’s Bldg.\, 8365 Possum Hollow Rd\, Fort Mill\, SC\, 29707\, United States
CATEGORIES:Women's Ministry
ATTACH;FMTTYPE=image/webp:https://restorationchurchcarolinas.org/wp-content/uploads/2025/08/best-womens-discipleship-group-fort-mill.webp
ORGANIZER;CN="Women's Ministry":MAILTO:info@restorationchurchcarolinas.com
END:VEVENT
BEGIN:VEVENT
DTSTART;TZID=America/New_York:20290501T173000
DTEND;TZID=America/New_York:20290501T190000
DTSTAMP:20260420T200315
CREATED:20260323T223300Z
LAST-MODIFIED:20260323T223629Z
UID:10005875-1872351000-1872356400@restorationchurchcarolinas.org
SUMMARY:Women's D-Group
DESCRIPTION:Women’s Discipleship Group meets each Tuesday 5:30 – 7:00 in the Women’s Building led by Phyllis Brown.
URL:https://restorationchurchcarolinas.org/calendar/womens-d-group-evenings/2029-05-01/
LOCATION:Women’s Bldg.\, 8365 Possum Hollow Rd\, Fort Mill\, SC\, 29707\, United States
CATEGORIES:Women's Ministry
ATTACH;FMTTYPE=image/webp:https://restorationchurchcarolinas.org/wp-content/uploads/2026/03/womens-d-group-evening-restoration-church-phyllis-brown.webp
ORGANIZER;CN="Restoration Church":MAILTO:info@restorationchurchcarolinas.com
END:VEVENT
BEGIN:VEVENT
DTSTART;TZID=America/New_York:20290502T190000
DTEND;TZID=America/New_York:20290502T200000
DTSTAMP:20260420T200315
CREATED:20250516T122636Z
LAST-MODIFIED:20251218T151354Z
UID:10000604-1872442800-1872446400@restorationchurchcarolinas.org
SUMMARY:Let's Talk Online Bible Study
DESCRIPTION:Wednesdays @ 7PM on YouTube & Facebook.
URL:https://restorationchurchcarolinas.org/calendar/lets-talk-online-bible-study-2/2029-05-02/
LOCATION:Online
CATEGORIES:Restoration Church
ATTACH;FMTTYPE=image/webp:https://restorationchurchcarolinas.org/wp-content/uploads/2025/12/RC-Weekly-TuneIn-January-2026-5.webp
ORGANIZER;CN="Restoration Church":MAILTO:info@restorationchurchcarolinas.com
END:VEVENT
BEGIN:VEVENT
DTSTART;TZID=America/New_York:20290502T190000
DTEND;TZID=America/New_York:20290502T210000
DTSTAMP:20260420T200315
CREATED:20250830T202521Z
LAST-MODIFIED:20250830T202521Z
UID:10004150-1872442800-1872450000@restorationchurchcarolinas.org
SUMMARY:Praise Team/Choir Rehearsal
DESCRIPTION:Praise Team Rehearsal / Choir Rehearsal 7:00 – 9:00 pm in the Sanctuary
URL:https://restorationchurchcarolinas.org/calendar/praise-team-choir-rehearsal-2-2-2-2-2-2-2-2/2029-05-02/
LOCATION:Sanctuary\, 8365 Possum Hollow Rd\, Fort Mill\, SC\, 29707\, United States
CATEGORIES:Music Ministry
ATTACH;FMTTYPE=image/webp:https://restorationchurchcarolinas.org/wp-content/uploads/2025/08/praise-team-rc-scaled.webp
END:VEVENT
BEGIN:VEVENT
DTSTART;TZID=America/New_York:20290503T100000
DTEND;TZID=America/New_York:20290503T113000
DTSTAMP:20260420T200315
CREATED:20250830T202830Z
LAST-MODIFIED:20260323T223746Z
UID:10005324-1872496800-1872502200@restorationchurchcarolinas.org
SUMMARY:Women's D-Group
DESCRIPTION:Women’s D-Group 10:00 – 11:30 held in the large modular led by Connie Howard.
URL:https://restorationchurchcarolinas.org/calendar/womens-dgroup/2029-05-03/
LOCATION:Large Modular\, 8365 Possum Hollow Rd\, Fort Mill\, SC\, 29707\, United States
CATEGORIES:Women's Ministry
ATTACH;FMTTYPE=image/webp:https://restorationchurchcarolinas.org/wp-content/uploads/2025/08/womens-discipleship-fort-mill-sc.webp
ORGANIZER;CN="Women's Ministry":MAILTO:info@restorationchurchcarolinas.com
END:VEVENT
BEGIN:VEVENT
DTSTART;TZID=America/New_York:20290503T180000
DTEND;TZID=America/New_York:20290503T193000
DTSTAMP:20260420T200315
CREATED:20251128T215329Z
LAST-MODIFIED:20251203T164654Z
UID:10002569-1872525600-1872531000@restorationchurchcarolinas.org
SUMMARY:J-Walkers & Crossroads Youth Mid-Week Bible Studies
DESCRIPTION:Join us on Thursday nights from 6 to 7:30pm for mid-week Bible study and activities for children ages 12-18! \nJ-Walkers (middle school)\n“Walking the Way of Jesus”\nColossians 1:10 (NKJ) \nCrossroads (high school)\n“Choosing God’s Way”\nIsaiah 30:21 \nLed by Brian and Diane Hopkins.
URL:https://restorationchurchcarolinas.org/calendar/youth-mid-week-bible-study-2-2-2-2-2-2-2-2-2-2-2-2-2-2-2/2029-05-03/
LOCATION:SC
CATEGORIES:Youth Ministry
ATTACH;FMTTYPE=image/webp:https://restorationchurchcarolinas.org/wp-content/uploads/2025/08/youth-bible-study-indian-land-sc-scaled.webp
END:VEVENT
BEGIN:VEVENT
DTSTART;TZID=America/New_York:20290506T093000
DTEND;TZID=America/New_York:20290506T101500
DTSTAMP:20260420T200315
CREATED:20250516T122019Z
LAST-MODIFIED:20251218T151227Z
UID:10001387-1872754200-1872756900@restorationchurchcarolinas.org
SUMMARY:Sunday School
DESCRIPTION:Join us every Sunday @ 9:30 am. We have Sunday School classes for all ages!
URL:https://restorationchurchcarolinas.org/calendar/sunday-school-2/2029-05-06/
LOCATION:Restoration Church\, 8365 Possum Hollow Rd\, Fort Mill\, South Carolina\, 29707\, United States
CATEGORIES:Restoration Church
ATTACH;FMTTYPE=image/webp:https://restorationchurchcarolinas.org/wp-content/uploads/2025/12/great-bible-study-fort-mill-sc.webp
ORGANIZER;CN="Restoration Church":MAILTO:info@restorationchurchcarolinas.com
END:VEVENT
BEGIN:VEVENT
DTSTART;TZID=America/New_York:20290506T103000
DTEND;TZID=America/New_York:20290506T120000
DTSTAMP:20260420T200315
CREATED:20250407T113507Z
LAST-MODIFIED:20251218T151254Z
UID:10001645-1872757800-1872763200@restorationchurchcarolinas.org
SUMMARY:Sunday Worship
DESCRIPTION:Every Sunday @ 10:30am! Watch Live via Livestream\, YouTube\, or Facebook!
URL:https://restorationchurchcarolinas.org/calendar/sunday-worship-2/2029-05-06/
LOCATION:Restoration Church\, 8365 Possum Hollow Rd\, Fort Mill\, South Carolina\, 29707\, United States
CATEGORIES:Restoration Church
ATTACH;FMTTYPE=image/webp:https://restorationchurchcarolinas.org/wp-content/uploads/2025/12/best-worship-fort-mill-sc-restoration-church.webp
ORGANIZER;CN="Restoration Church":MAILTO:info@restorationchurchcarolinas.com
END:VEVENT
BEGIN:VEVENT
DTSTART;TZID=UTC:20290507T183000
DTEND;TZID=UTC:20290507T200000
DTSTAMP:20260420T200315
CREATED:20260212T221824Z
LAST-MODIFIED:20260224T194103Z
UID:10005040-1872873000-1872878400@restorationchurchcarolinas.org
SUMMARY:Apologetics Book Club
DESCRIPTION:The Monday night book club meets at 6:30 each week at Panera Bread Indian Land\, SC.
URL:https://restorationchurchcarolinas.org/calendar/apologetics-book-club-2-2-2-2-2-2-2-2-2-2-2-2-2-2-2-2-2-2/2029-05-07/
LOCATION:Panera Bread\, 7756 Charlotte Hwy\, Indian Land\, SC\, 29707\, United States
CATEGORIES:Restoration Church
ATTACH;FMTTYPE=image/webp:https://restorationchurchcarolinas.org/wp-content/uploads/2026/02/RC-Apologetics-Book-Club-Leader-Screwtape-Letters-C-S-Lewis-26leader-2.webp
ORGANIZER;CN="Restoration Church":MAILTO:info@restorationchurchcarolinas.com
END:VEVENT
BEGIN:VEVENT
DTSTART;TZID=America/New_York:20290508T110000
DTEND;TZID=America/New_York:20290508T123000
DTSTAMP:20260420T200315
CREATED:20250830T185857Z
LAST-MODIFIED:20250830T185857Z
UID:10003092-1872932400-1872937800@restorationchurchcarolinas.org
SUMMARY:Men's D-Group
DESCRIPTION:Men’s Discipleship Group led by Everett Fletcher will meet in the Youth Building every Tuesday from 11a-12:30p.
URL:https://restorationchurchcarolinas.org/calendar/mens-d-group/2029-05-08/
LOCATION:Youth Bldg.\, 8365 Possum Hollow Rd\, Fort Mill\, SC\, 29707\, United States
CATEGORIES:Men's Ministry
ATTACH;FMTTYPE=image/webp:https://restorationchurchcarolinas.org/wp-content/uploads/2025/08/mens-discipleship-group-fort-mill-sc.webp
ORGANIZER;CN="Men's Ministry":MAILTO:info@restorationchurchcarolinas.com
END:VEVENT
END:VCALENDAR