BEGIN:VCALENDAR
VERSION:2.0
PRODID:-//Restoration Church l Faith-filled Church in Fort Mill SC - ECPv6.15.18//NONSGML v1.0//EN
CALSCALE:GREGORIAN
METHOD:PUBLISH
X-WR-CALNAME:Restoration Church l Faith-filled Church in Fort Mill SC
X-ORIGINAL-URL:https://restorationchurchcarolinas.org
X-WR-CALDESC:Events for Restoration Church l Faith-filled Church in Fort Mill SC
REFRESH-INTERVAL;VALUE=DURATION:PT1H
X-Robots-Tag:noindex
X-PUBLISHED-TTL:PT1H
BEGIN:VTIMEZONE
TZID:America/New_York
BEGIN:DAYLIGHT
TZOFFSETFROM:-0500
TZOFFSETTO:-0400
TZNAME:EDT
DTSTART:20260308T070000
END:DAYLIGHT
BEGIN:STANDARD
TZOFFSETFROM:-0400
TZOFFSETTO:-0500
TZNAME:EST
DTSTART:20261101T060000
END:STANDARD
BEGIN:DAYLIGHT
TZOFFSETFROM:-0500
TZOFFSETTO:-0400
TZNAME:EDT
DTSTART:20270314T070000
END:DAYLIGHT
BEGIN:STANDARD
TZOFFSETFROM:-0400
TZOFFSETTO:-0500
TZNAME:EST
DTSTART:20271107T060000
END:STANDARD
BEGIN:DAYLIGHT
TZOFFSETFROM:-0500
TZOFFSETTO:-0400
TZNAME:EDT
DTSTART:20280312T070000
END:DAYLIGHT
BEGIN:STANDARD
TZOFFSETFROM:-0400
TZOFFSETTO:-0500
TZNAME:EST
DTSTART:20281105T060000
END:STANDARD
BEGIN:DAYLIGHT
TZOFFSETFROM:-0500
TZOFFSETTO:-0400
TZNAME:EDT
DTSTART:20290311T070000
END:DAYLIGHT
BEGIN:STANDARD
TZOFFSETFROM:-0400
TZOFFSETTO:-0500
TZNAME:EST
DTSTART:20291104T060000
END:STANDARD
END:VTIMEZONE
BEGIN:VEVENT
DTSTART;TZID=America/New_York:20271202T180000
DTEND;TZID=America/New_York:20271202T193000
DTSTAMP:20260423T191126
CREATED:20251128T215329Z
LAST-MODIFIED:20251203T164654Z
UID:10002495-1827770400-1827775800@restorationchurchcarolinas.org
SUMMARY:J-Walkers & Crossroads Youth Mid-Week Bible Studies
DESCRIPTION:Join us on Thursday nights from 6 to 7:30pm for mid-week Bible study and activities for children ages 12-18! \nJ-Walkers (middle school)\n“Walking the Way of Jesus”\nColossians 1:10 (NKJ) \nCrossroads (high school)\n“Choosing God’s Way”\nIsaiah 30:21 \nLed by Brian and Diane Hopkins.
URL:https://restorationchurchcarolinas.org/calendar/youth-mid-week-bible-study-2-2-2-2-2-2-2-2-2-2-2-2-2-2-2/2027-12-02/
CATEGORIES:Youth Ministry
ATTACH;FMTTYPE=image/webp:https://restorationchurchcarolinas.org/wp-content/uploads/2025/08/youth-bible-study-indian-land-sc-scaled.webp
END:VEVENT
BEGIN:VEVENT
DTSTART;TZID=America/New_York:20271209T180000
DTEND;TZID=America/New_York:20271209T193000
DTSTAMP:20260423T191126
CREATED:20251128T215329Z
LAST-MODIFIED:20251203T164654Z
UID:10002496-1828375200-1828380600@restorationchurchcarolinas.org
SUMMARY:J-Walkers & Crossroads Youth Mid-Week Bible Studies
DESCRIPTION:Join us on Thursday nights from 6 to 7:30pm for mid-week Bible study and activities for children ages 12-18! \nJ-Walkers (middle school)\n“Walking the Way of Jesus”\nColossians 1:10 (NKJ) \nCrossroads (high school)\n“Choosing God’s Way”\nIsaiah 30:21 \nLed by Brian and Diane Hopkins.
URL:https://restorationchurchcarolinas.org/calendar/youth-mid-week-bible-study-2-2-2-2-2-2-2-2-2-2-2-2-2-2-2/2027-12-09/
CATEGORIES:Youth Ministry
ATTACH;FMTTYPE=image/webp:https://restorationchurchcarolinas.org/wp-content/uploads/2025/08/youth-bible-study-indian-land-sc-scaled.webp
END:VEVENT
BEGIN:VEVENT
DTSTART;TZID=America/New_York:20271216T180000
DTEND;TZID=America/New_York:20271216T193000
DTSTAMP:20260423T191126
CREATED:20251128T215329Z
LAST-MODIFIED:20251203T164654Z
UID:10002497-1828980000-1828985400@restorationchurchcarolinas.org
SUMMARY:J-Walkers & Crossroads Youth Mid-Week Bible Studies
DESCRIPTION:Join us on Thursday nights from 6 to 7:30pm for mid-week Bible study and activities for children ages 12-18! \nJ-Walkers (middle school)\n“Walking the Way of Jesus”\nColossians 1:10 (NKJ) \nCrossroads (high school)\n“Choosing God’s Way”\nIsaiah 30:21 \nLed by Brian and Diane Hopkins.
URL:https://restorationchurchcarolinas.org/calendar/youth-mid-week-bible-study-2-2-2-2-2-2-2-2-2-2-2-2-2-2-2/2027-12-16/
CATEGORIES:Youth Ministry
ATTACH;FMTTYPE=image/webp:https://restorationchurchcarolinas.org/wp-content/uploads/2025/08/youth-bible-study-indian-land-sc-scaled.webp
END:VEVENT
BEGIN:VEVENT
DTSTART;TZID=America/New_York:20271223T180000
DTEND;TZID=America/New_York:20271223T193000
DTSTAMP:20260423T191126
CREATED:20251128T215329Z
LAST-MODIFIED:20251203T164654Z
UID:10002498-1829584800-1829590200@restorationchurchcarolinas.org
SUMMARY:J-Walkers & Crossroads Youth Mid-Week Bible Studies
DESCRIPTION:Join us on Thursday nights from 6 to 7:30pm for mid-week Bible study and activities for children ages 12-18! \nJ-Walkers (middle school)\n“Walking the Way of Jesus”\nColossians 1:10 (NKJ) \nCrossroads (high school)\n“Choosing God’s Way”\nIsaiah 30:21 \nLed by Brian and Diane Hopkins.
URL:https://restorationchurchcarolinas.org/calendar/youth-mid-week-bible-study-2-2-2-2-2-2-2-2-2-2-2-2-2-2-2/2027-12-23/
CATEGORIES:Youth Ministry
ATTACH;FMTTYPE=image/webp:https://restorationchurchcarolinas.org/wp-content/uploads/2025/08/youth-bible-study-indian-land-sc-scaled.webp
END:VEVENT
BEGIN:VEVENT
DTSTART;TZID=America/New_York:20271230T180000
DTEND;TZID=America/New_York:20271230T193000
DTSTAMP:20260423T191126
CREATED:20251128T215329Z
LAST-MODIFIED:20251203T164654Z
UID:10002499-1830189600-1830195000@restorationchurchcarolinas.org
SUMMARY:J-Walkers & Crossroads Youth Mid-Week Bible Studies
DESCRIPTION:Join us on Thursday nights from 6 to 7:30pm for mid-week Bible study and activities for children ages 12-18! \nJ-Walkers (middle school)\n“Walking the Way of Jesus”\nColossians 1:10 (NKJ) \nCrossroads (high school)\n“Choosing God’s Way”\nIsaiah 30:21 \nLed by Brian and Diane Hopkins.
URL:https://restorationchurchcarolinas.org/calendar/youth-mid-week-bible-study-2-2-2-2-2-2-2-2-2-2-2-2-2-2-2/2027-12-30/
CATEGORIES:Youth Ministry
ATTACH;FMTTYPE=image/webp:https://restorationchurchcarolinas.org/wp-content/uploads/2025/08/youth-bible-study-indian-land-sc-scaled.webp
END:VEVENT
BEGIN:VEVENT
DTSTART;TZID=America/New_York:20280106T180000
DTEND;TZID=America/New_York:20280106T193000
DTSTAMP:20260423T191126
CREATED:20251128T215329Z
LAST-MODIFIED:20251203T164654Z
UID:10002500-1830794400-1830799800@restorationchurchcarolinas.org
SUMMARY:J-Walkers & Crossroads Youth Mid-Week Bible Studies
DESCRIPTION:Join us on Thursday nights from 6 to 7:30pm for mid-week Bible study and activities for children ages 12-18! \nJ-Walkers (middle school)\n“Walking the Way of Jesus”\nColossians 1:10 (NKJ) \nCrossroads (high school)\n“Choosing God’s Way”\nIsaiah 30:21 \nLed by Brian and Diane Hopkins.
URL:https://restorationchurchcarolinas.org/calendar/youth-mid-week-bible-study-2-2-2-2-2-2-2-2-2-2-2-2-2-2-2/2028-01-06/
CATEGORIES:Youth Ministry
ATTACH;FMTTYPE=image/webp:https://restorationchurchcarolinas.org/wp-content/uploads/2025/08/youth-bible-study-indian-land-sc-scaled.webp
END:VEVENT
BEGIN:VEVENT
DTSTART;TZID=America/New_York:20280113T180000
DTEND;TZID=America/New_York:20280113T193000
DTSTAMP:20260423T191126
CREATED:20251128T215329Z
LAST-MODIFIED:20251203T164654Z
UID:10002501-1831399200-1831404600@restorationchurchcarolinas.org
SUMMARY:J-Walkers & Crossroads Youth Mid-Week Bible Studies
DESCRIPTION:Join us on Thursday nights from 6 to 7:30pm for mid-week Bible study and activities for children ages 12-18! \nJ-Walkers (middle school)\n“Walking the Way of Jesus”\nColossians 1:10 (NKJ) \nCrossroads (high school)\n“Choosing God’s Way”\nIsaiah 30:21 \nLed by Brian and Diane Hopkins.
URL:https://restorationchurchcarolinas.org/calendar/youth-mid-week-bible-study-2-2-2-2-2-2-2-2-2-2-2-2-2-2-2/2028-01-13/
CATEGORIES:Youth Ministry
ATTACH;FMTTYPE=image/webp:https://restorationchurchcarolinas.org/wp-content/uploads/2025/08/youth-bible-study-indian-land-sc-scaled.webp
END:VEVENT
BEGIN:VEVENT
DTSTART;TZID=America/New_York:20280120T180000
DTEND;TZID=America/New_York:20280120T193000
DTSTAMP:20260423T191126
CREATED:20251128T215329Z
LAST-MODIFIED:20251203T164654Z
UID:10002502-1832004000-1832009400@restorationchurchcarolinas.org
SUMMARY:J-Walkers & Crossroads Youth Mid-Week Bible Studies
DESCRIPTION:Join us on Thursday nights from 6 to 7:30pm for mid-week Bible study and activities for children ages 12-18! \nJ-Walkers (middle school)\n“Walking the Way of Jesus”\nColossians 1:10 (NKJ) \nCrossroads (high school)\n“Choosing God’s Way”\nIsaiah 30:21 \nLed by Brian and Diane Hopkins.
URL:https://restorationchurchcarolinas.org/calendar/youth-mid-week-bible-study-2-2-2-2-2-2-2-2-2-2-2-2-2-2-2/2028-01-20/
CATEGORIES:Youth Ministry
ATTACH;FMTTYPE=image/webp:https://restorationchurchcarolinas.org/wp-content/uploads/2025/08/youth-bible-study-indian-land-sc-scaled.webp
END:VEVENT
BEGIN:VEVENT
DTSTART;TZID=America/New_York:20280127T180000
DTEND;TZID=America/New_York:20280127T193000
DTSTAMP:20260423T191126
CREATED:20251128T215329Z
LAST-MODIFIED:20251203T164654Z
UID:10002503-1832608800-1832614200@restorationchurchcarolinas.org
SUMMARY:J-Walkers & Crossroads Youth Mid-Week Bible Studies
DESCRIPTION:Join us on Thursday nights from 6 to 7:30pm for mid-week Bible study and activities for children ages 12-18! \nJ-Walkers (middle school)\n“Walking the Way of Jesus”\nColossians 1:10 (NKJ) \nCrossroads (high school)\n“Choosing God’s Way”\nIsaiah 30:21 \nLed by Brian and Diane Hopkins.
URL:https://restorationchurchcarolinas.org/calendar/youth-mid-week-bible-study-2-2-2-2-2-2-2-2-2-2-2-2-2-2-2/2028-01-27/
CATEGORIES:Youth Ministry
ATTACH;FMTTYPE=image/webp:https://restorationchurchcarolinas.org/wp-content/uploads/2025/08/youth-bible-study-indian-land-sc-scaled.webp
END:VEVENT
BEGIN:VEVENT
DTSTART;TZID=America/New_York:20280203T180000
DTEND;TZID=America/New_York:20280203T193000
DTSTAMP:20260423T191126
CREATED:20251128T215329Z
LAST-MODIFIED:20251203T164654Z
UID:10002504-1833213600-1833219000@restorationchurchcarolinas.org
SUMMARY:J-Walkers & Crossroads Youth Mid-Week Bible Studies
DESCRIPTION:Join us on Thursday nights from 6 to 7:30pm for mid-week Bible study and activities for children ages 12-18! \nJ-Walkers (middle school)\n“Walking the Way of Jesus”\nColossians 1:10 (NKJ) \nCrossroads (high school)\n“Choosing God’s Way”\nIsaiah 30:21 \nLed by Brian and Diane Hopkins.
URL:https://restorationchurchcarolinas.org/calendar/youth-mid-week-bible-study-2-2-2-2-2-2-2-2-2-2-2-2-2-2-2/2028-02-03/
CATEGORIES:Youth Ministry
ATTACH;FMTTYPE=image/webp:https://restorationchurchcarolinas.org/wp-content/uploads/2025/08/youth-bible-study-indian-land-sc-scaled.webp
END:VEVENT
BEGIN:VEVENT
DTSTART;TZID=America/New_York:20280210T180000
DTEND;TZID=America/New_York:20280210T193000
DTSTAMP:20260423T191126
CREATED:20251128T215329Z
LAST-MODIFIED:20251203T164654Z
UID:10002505-1833818400-1833823800@restorationchurchcarolinas.org
SUMMARY:J-Walkers & Crossroads Youth Mid-Week Bible Studies
DESCRIPTION:Join us on Thursday nights from 6 to 7:30pm for mid-week Bible study and activities for children ages 12-18! \nJ-Walkers (middle school)\n“Walking the Way of Jesus”\nColossians 1:10 (NKJ) \nCrossroads (high school)\n“Choosing God’s Way”\nIsaiah 30:21 \nLed by Brian and Diane Hopkins.
URL:https://restorationchurchcarolinas.org/calendar/youth-mid-week-bible-study-2-2-2-2-2-2-2-2-2-2-2-2-2-2-2/2028-02-10/
CATEGORIES:Youth Ministry
ATTACH;FMTTYPE=image/webp:https://restorationchurchcarolinas.org/wp-content/uploads/2025/08/youth-bible-study-indian-land-sc-scaled.webp
END:VEVENT
BEGIN:VEVENT
DTSTART;TZID=America/New_York:20280217T180000
DTEND;TZID=America/New_York:20280217T193000
DTSTAMP:20260423T191126
CREATED:20251128T215329Z
LAST-MODIFIED:20251203T164654Z
UID:10002506-1834423200-1834428600@restorationchurchcarolinas.org
SUMMARY:J-Walkers & Crossroads Youth Mid-Week Bible Studies
DESCRIPTION:Join us on Thursday nights from 6 to 7:30pm for mid-week Bible study and activities for children ages 12-18! \nJ-Walkers (middle school)\n“Walking the Way of Jesus”\nColossians 1:10 (NKJ) \nCrossroads (high school)\n“Choosing God’s Way”\nIsaiah 30:21 \nLed by Brian and Diane Hopkins.
URL:https://restorationchurchcarolinas.org/calendar/youth-mid-week-bible-study-2-2-2-2-2-2-2-2-2-2-2-2-2-2-2/2028-02-17/
CATEGORIES:Youth Ministry
ATTACH;FMTTYPE=image/webp:https://restorationchurchcarolinas.org/wp-content/uploads/2025/08/youth-bible-study-indian-land-sc-scaled.webp
END:VEVENT
BEGIN:VEVENT
DTSTART;TZID=America/New_York:20280224T180000
DTEND;TZID=America/New_York:20280224T193000
DTSTAMP:20260423T191126
CREATED:20251128T215329Z
LAST-MODIFIED:20251203T164654Z
UID:10002507-1835028000-1835033400@restorationchurchcarolinas.org
SUMMARY:J-Walkers & Crossroads Youth Mid-Week Bible Studies
DESCRIPTION:Join us on Thursday nights from 6 to 7:30pm for mid-week Bible study and activities for children ages 12-18! \nJ-Walkers (middle school)\n“Walking the Way of Jesus”\nColossians 1:10 (NKJ) \nCrossroads (high school)\n“Choosing God’s Way”\nIsaiah 30:21 \nLed by Brian and Diane Hopkins.
URL:https://restorationchurchcarolinas.org/calendar/youth-mid-week-bible-study-2-2-2-2-2-2-2-2-2-2-2-2-2-2-2/2028-02-24/
CATEGORIES:Youth Ministry
ATTACH;FMTTYPE=image/webp:https://restorationchurchcarolinas.org/wp-content/uploads/2025/08/youth-bible-study-indian-land-sc-scaled.webp
END:VEVENT
BEGIN:VEVENT
DTSTART;TZID=America/New_York:20280302T180000
DTEND;TZID=America/New_York:20280302T193000
DTSTAMP:20260423T191126
CREATED:20251128T215329Z
LAST-MODIFIED:20251203T164654Z
UID:10002508-1835632800-1835638200@restorationchurchcarolinas.org
SUMMARY:J-Walkers & Crossroads Youth Mid-Week Bible Studies
DESCRIPTION:Join us on Thursday nights from 6 to 7:30pm for mid-week Bible study and activities for children ages 12-18! \nJ-Walkers (middle school)\n“Walking the Way of Jesus”\nColossians 1:10 (NKJ) \nCrossroads (high school)\n“Choosing God’s Way”\nIsaiah 30:21 \nLed by Brian and Diane Hopkins.
URL:https://restorationchurchcarolinas.org/calendar/youth-mid-week-bible-study-2-2-2-2-2-2-2-2-2-2-2-2-2-2-2/2028-03-02/
CATEGORIES:Youth Ministry
ATTACH;FMTTYPE=image/webp:https://restorationchurchcarolinas.org/wp-content/uploads/2025/08/youth-bible-study-indian-land-sc-scaled.webp
END:VEVENT
BEGIN:VEVENT
DTSTART;TZID=America/New_York:20280309T180000
DTEND;TZID=America/New_York:20280309T193000
DTSTAMP:20260423T191126
CREATED:20251128T215329Z
LAST-MODIFIED:20251203T164654Z
UID:10002509-1836237600-1836243000@restorationchurchcarolinas.org
SUMMARY:J-Walkers & Crossroads Youth Mid-Week Bible Studies
DESCRIPTION:Join us on Thursday nights from 6 to 7:30pm for mid-week Bible study and activities for children ages 12-18! \nJ-Walkers (middle school)\n“Walking the Way of Jesus”\nColossians 1:10 (NKJ) \nCrossroads (high school)\n“Choosing God’s Way”\nIsaiah 30:21 \nLed by Brian and Diane Hopkins.
URL:https://restorationchurchcarolinas.org/calendar/youth-mid-week-bible-study-2-2-2-2-2-2-2-2-2-2-2-2-2-2-2/2028-03-09/
CATEGORIES:Youth Ministry
ATTACH;FMTTYPE=image/webp:https://restorationchurchcarolinas.org/wp-content/uploads/2025/08/youth-bible-study-indian-land-sc-scaled.webp
END:VEVENT
BEGIN:VEVENT
DTSTART;TZID=America/New_York:20280316T180000
DTEND;TZID=America/New_York:20280316T193000
DTSTAMP:20260423T191126
CREATED:20251128T215329Z
LAST-MODIFIED:20251203T164654Z
UID:10002510-1836842400-1836847800@restorationchurchcarolinas.org
SUMMARY:J-Walkers & Crossroads Youth Mid-Week Bible Studies
DESCRIPTION:Join us on Thursday nights from 6 to 7:30pm for mid-week Bible study and activities for children ages 12-18! \nJ-Walkers (middle school)\n“Walking the Way of Jesus”\nColossians 1:10 (NKJ) \nCrossroads (high school)\n“Choosing God’s Way”\nIsaiah 30:21 \nLed by Brian and Diane Hopkins.
URL:https://restorationchurchcarolinas.org/calendar/youth-mid-week-bible-study-2-2-2-2-2-2-2-2-2-2-2-2-2-2-2/2028-03-16/
CATEGORIES:Youth Ministry
ATTACH;FMTTYPE=image/webp:https://restorationchurchcarolinas.org/wp-content/uploads/2025/08/youth-bible-study-indian-land-sc-scaled.webp
END:VEVENT
BEGIN:VEVENT
DTSTART;TZID=America/New_York:20280323T180000
DTEND;TZID=America/New_York:20280323T193000
DTSTAMP:20260423T191126
CREATED:20251128T215329Z
LAST-MODIFIED:20251203T164654Z
UID:10002511-1837447200-1837452600@restorationchurchcarolinas.org
SUMMARY:J-Walkers & Crossroads Youth Mid-Week Bible Studies
DESCRIPTION:Join us on Thursday nights from 6 to 7:30pm for mid-week Bible study and activities for children ages 12-18! \nJ-Walkers (middle school)\n“Walking the Way of Jesus”\nColossians 1:10 (NKJ) \nCrossroads (high school)\n“Choosing God’s Way”\nIsaiah 30:21 \nLed by Brian and Diane Hopkins.
URL:https://restorationchurchcarolinas.org/calendar/youth-mid-week-bible-study-2-2-2-2-2-2-2-2-2-2-2-2-2-2-2/2028-03-23/
CATEGORIES:Youth Ministry
ATTACH;FMTTYPE=image/webp:https://restorationchurchcarolinas.org/wp-content/uploads/2025/08/youth-bible-study-indian-land-sc-scaled.webp
END:VEVENT
BEGIN:VEVENT
DTSTART;TZID=America/New_York:20280330T180000
DTEND;TZID=America/New_York:20280330T193000
DTSTAMP:20260423T191126
CREATED:20251128T215329Z
LAST-MODIFIED:20251203T164654Z
UID:10002512-1838052000-1838057400@restorationchurchcarolinas.org
SUMMARY:J-Walkers & Crossroads Youth Mid-Week Bible Studies
DESCRIPTION:Join us on Thursday nights from 6 to 7:30pm for mid-week Bible study and activities for children ages 12-18! \nJ-Walkers (middle school)\n“Walking the Way of Jesus”\nColossians 1:10 (NKJ) \nCrossroads (high school)\n“Choosing God’s Way”\nIsaiah 30:21 \nLed by Brian and Diane Hopkins.
URL:https://restorationchurchcarolinas.org/calendar/youth-mid-week-bible-study-2-2-2-2-2-2-2-2-2-2-2-2-2-2-2/2028-03-30/
CATEGORIES:Youth Ministry
ATTACH;FMTTYPE=image/webp:https://restorationchurchcarolinas.org/wp-content/uploads/2025/08/youth-bible-study-indian-land-sc-scaled.webp
END:VEVENT
BEGIN:VEVENT
DTSTART;TZID=America/New_York:20280406T180000
DTEND;TZID=America/New_York:20280406T193000
DTSTAMP:20260423T191126
CREATED:20251128T215329Z
LAST-MODIFIED:20251203T164654Z
UID:10002513-1838656800-1838662200@restorationchurchcarolinas.org
SUMMARY:J-Walkers & Crossroads Youth Mid-Week Bible Studies
DESCRIPTION:Join us on Thursday nights from 6 to 7:30pm for mid-week Bible study and activities for children ages 12-18! \nJ-Walkers (middle school)\n“Walking the Way of Jesus”\nColossians 1:10 (NKJ) \nCrossroads (high school)\n“Choosing God’s Way”\nIsaiah 30:21 \nLed by Brian and Diane Hopkins.
URL:https://restorationchurchcarolinas.org/calendar/youth-mid-week-bible-study-2-2-2-2-2-2-2-2-2-2-2-2-2-2-2/2028-04-06/
CATEGORIES:Youth Ministry
ATTACH;FMTTYPE=image/webp:https://restorationchurchcarolinas.org/wp-content/uploads/2025/08/youth-bible-study-indian-land-sc-scaled.webp
END:VEVENT
BEGIN:VEVENT
DTSTART;TZID=America/New_York:20280413T180000
DTEND;TZID=America/New_York:20280413T193000
DTSTAMP:20260423T191126
CREATED:20251128T215329Z
LAST-MODIFIED:20251203T164654Z
UID:10002514-1839261600-1839267000@restorationchurchcarolinas.org
SUMMARY:J-Walkers & Crossroads Youth Mid-Week Bible Studies
DESCRIPTION:Join us on Thursday nights from 6 to 7:30pm for mid-week Bible study and activities for children ages 12-18! \nJ-Walkers (middle school)\n“Walking the Way of Jesus”\nColossians 1:10 (NKJ) \nCrossroads (high school)\n“Choosing God’s Way”\nIsaiah 30:21 \nLed by Brian and Diane Hopkins.
URL:https://restorationchurchcarolinas.org/calendar/youth-mid-week-bible-study-2-2-2-2-2-2-2-2-2-2-2-2-2-2-2/2028-04-13/
CATEGORIES:Youth Ministry
ATTACH;FMTTYPE=image/webp:https://restorationchurchcarolinas.org/wp-content/uploads/2025/08/youth-bible-study-indian-land-sc-scaled.webp
END:VEVENT
BEGIN:VEVENT
DTSTART;TZID=America/New_York:20280420T180000
DTEND;TZID=America/New_York:20280420T193000
DTSTAMP:20260423T191126
CREATED:20251128T215329Z
LAST-MODIFIED:20251203T164654Z
UID:10002515-1839866400-1839871800@restorationchurchcarolinas.org
SUMMARY:J-Walkers & Crossroads Youth Mid-Week Bible Studies
DESCRIPTION:Join us on Thursday nights from 6 to 7:30pm for mid-week Bible study and activities for children ages 12-18! \nJ-Walkers (middle school)\n“Walking the Way of Jesus”\nColossians 1:10 (NKJ) \nCrossroads (high school)\n“Choosing God’s Way”\nIsaiah 30:21 \nLed by Brian and Diane Hopkins.
URL:https://restorationchurchcarolinas.org/calendar/youth-mid-week-bible-study-2-2-2-2-2-2-2-2-2-2-2-2-2-2-2/2028-04-20/
CATEGORIES:Youth Ministry
ATTACH;FMTTYPE=image/webp:https://restorationchurchcarolinas.org/wp-content/uploads/2025/08/youth-bible-study-indian-land-sc-scaled.webp
END:VEVENT
BEGIN:VEVENT
DTSTART;TZID=America/New_York:20280427T180000
DTEND;TZID=America/New_York:20280427T193000
DTSTAMP:20260423T191126
CREATED:20251128T215329Z
LAST-MODIFIED:20251203T164654Z
UID:10002516-1840471200-1840476600@restorationchurchcarolinas.org
SUMMARY:J-Walkers & Crossroads Youth Mid-Week Bible Studies
DESCRIPTION:Join us on Thursday nights from 6 to 7:30pm for mid-week Bible study and activities for children ages 12-18! \nJ-Walkers (middle school)\n“Walking the Way of Jesus”\nColossians 1:10 (NKJ) \nCrossroads (high school)\n“Choosing God’s Way”\nIsaiah 30:21 \nLed by Brian and Diane Hopkins.
URL:https://restorationchurchcarolinas.org/calendar/youth-mid-week-bible-study-2-2-2-2-2-2-2-2-2-2-2-2-2-2-2/2028-04-27/
CATEGORIES:Youth Ministry
ATTACH;FMTTYPE=image/webp:https://restorationchurchcarolinas.org/wp-content/uploads/2025/08/youth-bible-study-indian-land-sc-scaled.webp
END:VEVENT
BEGIN:VEVENT
DTSTART;TZID=America/New_York:20280504T180000
DTEND;TZID=America/New_York:20280504T193000
DTSTAMP:20260423T191126
CREATED:20251128T215329Z
LAST-MODIFIED:20251203T164654Z
UID:10002517-1841076000-1841081400@restorationchurchcarolinas.org
SUMMARY:J-Walkers & Crossroads Youth Mid-Week Bible Studies
DESCRIPTION:Join us on Thursday nights from 6 to 7:30pm for mid-week Bible study and activities for children ages 12-18! \nJ-Walkers (middle school)\n“Walking the Way of Jesus”\nColossians 1:10 (NKJ) \nCrossroads (high school)\n“Choosing God’s Way”\nIsaiah 30:21 \nLed by Brian and Diane Hopkins.
URL:https://restorationchurchcarolinas.org/calendar/youth-mid-week-bible-study-2-2-2-2-2-2-2-2-2-2-2-2-2-2-2/2028-05-04/
CATEGORIES:Youth Ministry
ATTACH;FMTTYPE=image/webp:https://restorationchurchcarolinas.org/wp-content/uploads/2025/08/youth-bible-study-indian-land-sc-scaled.webp
END:VEVENT
BEGIN:VEVENT
DTSTART;TZID=America/New_York:20280511T180000
DTEND;TZID=America/New_York:20280511T193000
DTSTAMP:20260423T191126
CREATED:20251128T215329Z
LAST-MODIFIED:20251203T164654Z
UID:10002518-1841680800-1841686200@restorationchurchcarolinas.org
SUMMARY:J-Walkers & Crossroads Youth Mid-Week Bible Studies
DESCRIPTION:Join us on Thursday nights from 6 to 7:30pm for mid-week Bible study and activities for children ages 12-18! \nJ-Walkers (middle school)\n“Walking the Way of Jesus”\nColossians 1:10 (NKJ) \nCrossroads (high school)\n“Choosing God’s Way”\nIsaiah 30:21 \nLed by Brian and Diane Hopkins.
URL:https://restorationchurchcarolinas.org/calendar/youth-mid-week-bible-study-2-2-2-2-2-2-2-2-2-2-2-2-2-2-2/2028-05-11/
CATEGORIES:Youth Ministry
ATTACH;FMTTYPE=image/webp:https://restorationchurchcarolinas.org/wp-content/uploads/2025/08/youth-bible-study-indian-land-sc-scaled.webp
END:VEVENT
BEGIN:VEVENT
DTSTART;TZID=America/New_York:20280518T180000
DTEND;TZID=America/New_York:20280518T193000
DTSTAMP:20260423T191126
CREATED:20251128T215329Z
LAST-MODIFIED:20251203T164654Z
UID:10002519-1842285600-1842291000@restorationchurchcarolinas.org
SUMMARY:J-Walkers & Crossroads Youth Mid-Week Bible Studies
DESCRIPTION:Join us on Thursday nights from 6 to 7:30pm for mid-week Bible study and activities for children ages 12-18! \nJ-Walkers (middle school)\n“Walking the Way of Jesus”\nColossians 1:10 (NKJ) \nCrossroads (high school)\n“Choosing God’s Way”\nIsaiah 30:21 \nLed by Brian and Diane Hopkins.
URL:https://restorationchurchcarolinas.org/calendar/youth-mid-week-bible-study-2-2-2-2-2-2-2-2-2-2-2-2-2-2-2/2028-05-18/
CATEGORIES:Youth Ministry
ATTACH;FMTTYPE=image/webp:https://restorationchurchcarolinas.org/wp-content/uploads/2025/08/youth-bible-study-indian-land-sc-scaled.webp
END:VEVENT
BEGIN:VEVENT
DTSTART;TZID=America/New_York:20280525T180000
DTEND;TZID=America/New_York:20280525T193000
DTSTAMP:20260423T191126
CREATED:20251128T215329Z
LAST-MODIFIED:20251203T164654Z
UID:10002520-1842890400-1842895800@restorationchurchcarolinas.org
SUMMARY:J-Walkers & Crossroads Youth Mid-Week Bible Studies
DESCRIPTION:Join us on Thursday nights from 6 to 7:30pm for mid-week Bible study and activities for children ages 12-18! \nJ-Walkers (middle school)\n“Walking the Way of Jesus”\nColossians 1:10 (NKJ) \nCrossroads (high school)\n“Choosing God’s Way”\nIsaiah 30:21 \nLed by Brian and Diane Hopkins.
URL:https://restorationchurchcarolinas.org/calendar/youth-mid-week-bible-study-2-2-2-2-2-2-2-2-2-2-2-2-2-2-2/2028-05-25/
CATEGORIES:Youth Ministry
ATTACH;FMTTYPE=image/webp:https://restorationchurchcarolinas.org/wp-content/uploads/2025/08/youth-bible-study-indian-land-sc-scaled.webp
END:VEVENT
BEGIN:VEVENT
DTSTART;TZID=America/New_York:20280601T180000
DTEND;TZID=America/New_York:20280601T193000
DTSTAMP:20260423T191126
CREATED:20251128T215329Z
LAST-MODIFIED:20251203T164654Z
UID:10002521-1843495200-1843500600@restorationchurchcarolinas.org
SUMMARY:J-Walkers & Crossroads Youth Mid-Week Bible Studies
DESCRIPTION:Join us on Thursday nights from 6 to 7:30pm for mid-week Bible study and activities for children ages 12-18! \nJ-Walkers (middle school)\n“Walking the Way of Jesus”\nColossians 1:10 (NKJ) \nCrossroads (high school)\n“Choosing God’s Way”\nIsaiah 30:21 \nLed by Brian and Diane Hopkins.
URL:https://restorationchurchcarolinas.org/calendar/youth-mid-week-bible-study-2-2-2-2-2-2-2-2-2-2-2-2-2-2-2/2028-06-01/
CATEGORIES:Youth Ministry
ATTACH;FMTTYPE=image/webp:https://restorationchurchcarolinas.org/wp-content/uploads/2025/08/youth-bible-study-indian-land-sc-scaled.webp
END:VEVENT
BEGIN:VEVENT
DTSTART;TZID=America/New_York:20280608T180000
DTEND;TZID=America/New_York:20280608T193000
DTSTAMP:20260423T191126
CREATED:20251128T215329Z
LAST-MODIFIED:20251203T164654Z
UID:10002522-1844100000-1844105400@restorationchurchcarolinas.org
SUMMARY:J-Walkers & Crossroads Youth Mid-Week Bible Studies
DESCRIPTION:Join us on Thursday nights from 6 to 7:30pm for mid-week Bible study and activities for children ages 12-18! \nJ-Walkers (middle school)\n“Walking the Way of Jesus”\nColossians 1:10 (NKJ) \nCrossroads (high school)\n“Choosing God’s Way”\nIsaiah 30:21 \nLed by Brian and Diane Hopkins.
URL:https://restorationchurchcarolinas.org/calendar/youth-mid-week-bible-study-2-2-2-2-2-2-2-2-2-2-2-2-2-2-2/2028-06-08/
CATEGORIES:Youth Ministry
ATTACH;FMTTYPE=image/webp:https://restorationchurchcarolinas.org/wp-content/uploads/2025/08/youth-bible-study-indian-land-sc-scaled.webp
END:VEVENT
BEGIN:VEVENT
DTSTART;TZID=America/New_York:20280615T180000
DTEND;TZID=America/New_York:20280615T193000
DTSTAMP:20260423T191126
CREATED:20251128T215329Z
LAST-MODIFIED:20251203T164654Z
UID:10002523-1844704800-1844710200@restorationchurchcarolinas.org
SUMMARY:J-Walkers & Crossroads Youth Mid-Week Bible Studies
DESCRIPTION:Join us on Thursday nights from 6 to 7:30pm for mid-week Bible study and activities for children ages 12-18! \nJ-Walkers (middle school)\n“Walking the Way of Jesus”\nColossians 1:10 (NKJ) \nCrossroads (high school)\n“Choosing God’s Way”\nIsaiah 30:21 \nLed by Brian and Diane Hopkins.
URL:https://restorationchurchcarolinas.org/calendar/youth-mid-week-bible-study-2-2-2-2-2-2-2-2-2-2-2-2-2-2-2/2028-06-15/
CATEGORIES:Youth Ministry
ATTACH;FMTTYPE=image/webp:https://restorationchurchcarolinas.org/wp-content/uploads/2025/08/youth-bible-study-indian-land-sc-scaled.webp
END:VEVENT
BEGIN:VEVENT
DTSTART;TZID=America/New_York:20280622T180000
DTEND;TZID=America/New_York:20280622T193000
DTSTAMP:20260423T191126
CREATED:20251128T215329Z
LAST-MODIFIED:20251203T164654Z
UID:10002524-1845309600-1845315000@restorationchurchcarolinas.org
SUMMARY:J-Walkers & Crossroads Youth Mid-Week Bible Studies
DESCRIPTION:Join us on Thursday nights from 6 to 7:30pm for mid-week Bible study and activities for children ages 12-18! \nJ-Walkers (middle school)\n“Walking the Way of Jesus”\nColossians 1:10 (NKJ) \nCrossroads (high school)\n“Choosing God’s Way”\nIsaiah 30:21 \nLed by Brian and Diane Hopkins.
URL:https://restorationchurchcarolinas.org/calendar/youth-mid-week-bible-study-2-2-2-2-2-2-2-2-2-2-2-2-2-2-2/2028-06-22/
CATEGORIES:Youth Ministry
ATTACH;FMTTYPE=image/webp:https://restorationchurchcarolinas.org/wp-content/uploads/2025/08/youth-bible-study-indian-land-sc-scaled.webp
END:VEVENT
END:VCALENDAR