BEGIN:VCALENDAR
VERSION:2.0
PRODID:-//Restoration Church l Faith-filled Church in Fort Mill SC - ECPv6.15.18//NONSGML v1.0//EN
CALSCALE:GREGORIAN
METHOD:PUBLISH
X-ORIGINAL-URL:https://restorationchurchcarolinas.org
X-WR-CALDESC:Events for Restoration Church l Faith-filled Church in Fort Mill SC
REFRESH-INTERVAL;VALUE=DURATION:PT1H
X-Robots-Tag:noindex
X-PUBLISHED-TTL:PT1H
BEGIN:VTIMEZONE
TZID:America/New_York
BEGIN:DAYLIGHT
TZOFFSETFROM:-0500
TZOFFSETTO:-0400
TZNAME:EDT
DTSTART:20240310T070000
END:DAYLIGHT
BEGIN:STANDARD
TZOFFSETFROM:-0400
TZOFFSETTO:-0500
TZNAME:EST
DTSTART:20241103T060000
END:STANDARD
BEGIN:DAYLIGHT
TZOFFSETFROM:-0500
TZOFFSETTO:-0400
TZNAME:EDT
DTSTART:20250309T070000
END:DAYLIGHT
BEGIN:STANDARD
TZOFFSETFROM:-0400
TZOFFSETTO:-0500
TZNAME:EST
DTSTART:20251102T060000
END:STANDARD
BEGIN:DAYLIGHT
TZOFFSETFROM:-0500
TZOFFSETTO:-0400
TZNAME:EDT
DTSTART:20260308T070000
END:DAYLIGHT
BEGIN:STANDARD
TZOFFSETFROM:-0400
TZOFFSETTO:-0500
TZNAME:EST
DTSTART:20261101T060000
END:STANDARD
END:VTIMEZONE
BEGIN:VEVENT
DTSTART;TZID=America/New_York:20251230T110000
DTEND;TZID=America/New_York:20251230T123000
DTSTAMP:20260419T191810
CREATED:20250830T190322Z
LAST-MODIFIED:20250830T190925Z
UID:10003178-1767092400-1767097800@restorationchurchcarolinas.org
SUMMARY:Women's D-Group
DESCRIPTION:Women’s Discipleship Group meets each Tuesday 11:00 – 12:30 in the Women’s Building led by Carol Schmitt and Idella Fletcher.
URL:https://restorationchurchcarolinas.org/calendar/womens-d-group/2025-12-30/
LOCATION:Women’s Bldg.\, 8365 Possum Hollow Rd\, Fort Mill\, SC\, 29707\, United States
CATEGORIES:Women's Ministry
ATTACH;FMTTYPE=image/webp:https://restorationchurchcarolinas.org/wp-content/uploads/2025/08/womens-discipleship-indian-land-sc.webp
ORGANIZER;CN="Women's Ministry":MAILTO:info@restorationchurchcarolinas.com
END:VEVENT
BEGIN:VEVENT
DTSTART;TZID=America/New_York:20251230T130000
DTEND;TZID=America/New_York:20251230T143000
DTSTAMP:20260419T191810
CREATED:20250830T190525Z
LAST-MODIFIED:20250830T190951Z
UID:10003439-1767099600-1767105000@restorationchurchcarolinas.org
SUMMARY:Women's D-Group
DESCRIPTION:Women’s Discipleship Group meets each Tuesday 1:00 – 2:30 in the Women’s Building – led by Barbara Brown.
URL:https://restorationchurchcarolinas.org/calendar/womens-d-group-2/2025-12-30/
LOCATION:Women’s Bldg.\, 8365 Possum Hollow Rd\, Fort Mill\, SC\, 29707\, United States
CATEGORIES:Women's Ministry
ATTACH;FMTTYPE=image/webp:https://restorationchurchcarolinas.org/wp-content/uploads/2025/08/best-womens-discipleship-group-fort-mill.webp
ORGANIZER;CN="Women's Ministry":MAILTO:info@restorationchurchcarolinas.com
END:VEVENT
END:VCALENDAR