BEGIN:VCALENDAR
VERSION:2.0
PRODID:-//Restoration Church l Faith-filled Church in Fort Mill SC - ECPv6.15.18//NONSGML v1.0//EN
CALSCALE:GREGORIAN
METHOD:PUBLISH
X-WR-CALNAME:Restoration Church l Faith-filled Church in Fort Mill SC
X-ORIGINAL-URL:https://restorationchurchcarolinas.org
X-WR-CALDESC:Events for Restoration Church l Faith-filled Church in Fort Mill SC
REFRESH-INTERVAL;VALUE=DURATION:PT1H
X-Robots-Tag:noindex
X-PUBLISHED-TTL:PT1H
BEGIN:VTIMEZONE
TZID:UTC
BEGIN:STANDARD
TZOFFSETFROM:+0000
TZOFFSETTO:+0000
TZNAME:UTC
DTSTART:20260101T000000
END:STANDARD
END:VTIMEZONE
BEGIN:VTIMEZONE
TZID:America/New_York
BEGIN:DAYLIGHT
TZOFFSETFROM:-0500
TZOFFSETTO:-0400
TZNAME:EDT
DTSTART:20260308T070000
END:DAYLIGHT
BEGIN:STANDARD
TZOFFSETFROM:-0400
TZOFFSETTO:-0500
TZNAME:EST
DTSTART:20261101T060000
END:STANDARD
BEGIN:DAYLIGHT
TZOFFSETFROM:-0500
TZOFFSETTO:-0400
TZNAME:EDT
DTSTART:20270314T070000
END:DAYLIGHT
BEGIN:STANDARD
TZOFFSETFROM:-0400
TZOFFSETTO:-0500
TZNAME:EST
DTSTART:20271107T060000
END:STANDARD
BEGIN:DAYLIGHT
TZOFFSETFROM:-0500
TZOFFSETTO:-0400
TZNAME:EDT
DTSTART:20280312T070000
END:DAYLIGHT
BEGIN:STANDARD
TZOFFSETFROM:-0400
TZOFFSETTO:-0500
TZNAME:EST
DTSTART:20281105T060000
END:STANDARD
END:VTIMEZONE
BEGIN:VEVENT
DTSTART;TZID=UTC:20270927T183000
DTEND;TZID=UTC:20270927T200000
DTSTAMP:20260426T003438
CREATED:20260212T221824Z
LAST-MODIFIED:20260224T194103Z
UID:10004956-1822069800-1822075200@restorationchurchcarolinas.org
SUMMARY:Apologetics Book Club
DESCRIPTION:The Monday night book club meets at 6:30 each week at Panera Bread Indian Land\, SC.
URL:https://restorationchurchcarolinas.org/calendar/apologetics-book-club-2-2-2-2-2-2-2-2-2-2-2-2-2-2-2-2-2-2/2027-09-27/
LOCATION:Panera Bread\, 7756 Charlotte Hwy\, Indian Land\, SC\, 29707\, United States
CATEGORIES:Restoration Church
ATTACH;FMTTYPE=image/webp:https://restorationchurchcarolinas.org/wp-content/uploads/2026/02/RC-Apologetics-Book-Club-Leader-Screwtape-Letters-C-S-Lewis-26leader-2.webp
ORGANIZER;CN="Restoration Church":MAILTO:info@restorationchurchcarolinas.com
END:VEVENT
BEGIN:VEVENT
DTSTART;TZID=America/New_York:20270929T190000
DTEND;TZID=America/New_York:20270929T200000
DTSTAMP:20260426T003438
CREATED:20250516T122636Z
LAST-MODIFIED:20251218T151354Z
UID:10000521-1822244400-1822248000@restorationchurchcarolinas.org
SUMMARY:Let's Talk Online Bible Study
DESCRIPTION:Wednesdays @ 7PM on YouTube & Facebook.
URL:https://restorationchurchcarolinas.org/calendar/lets-talk-online-bible-study-2/2027-09-29/
LOCATION:Online
CATEGORIES:Restoration Church
ATTACH;FMTTYPE=image/webp:https://restorationchurchcarolinas.org/wp-content/uploads/2025/12/RC-Weekly-TuneIn-January-2026-5.webp
ORGANIZER;CN="Restoration Church":MAILTO:info@restorationchurchcarolinas.com
END:VEVENT
BEGIN:VEVENT
DTSTART;TZID=America/New_York:20271003T093000
DTEND;TZID=America/New_York:20271003T101500
DTSTAMP:20260426T003438
CREATED:20250516T122019Z
LAST-MODIFIED:20251218T151227Z
UID:10001304-1822555800-1822558500@restorationchurchcarolinas.org
SUMMARY:Sunday School
DESCRIPTION:Join us every Sunday @ 9:30 am. We have Sunday School classes for all ages!
URL:https://restorationchurchcarolinas.org/calendar/sunday-school-2/2027-10-03/
LOCATION:Restoration Church\, 8365 Possum Hollow Rd\, Fort Mill\, South Carolina\, 29707\, United States
CATEGORIES:Restoration Church
ATTACH;FMTTYPE=image/webp:https://restorationchurchcarolinas.org/wp-content/uploads/2025/12/great-bible-study-fort-mill-sc.webp
ORGANIZER;CN="Restoration Church":MAILTO:info@restorationchurchcarolinas.com
END:VEVENT
BEGIN:VEVENT
DTSTART;TZID=America/New_York:20271003T103000
DTEND;TZID=America/New_York:20271003T120000
DTSTAMP:20260426T003438
CREATED:20250407T113507Z
LAST-MODIFIED:20251218T151254Z
UID:10001562-1822559400-1822564800@restorationchurchcarolinas.org
SUMMARY:Sunday Worship
DESCRIPTION:Every Sunday @ 10:30am! Watch Live via Livestream\, YouTube\, or Facebook!
URL:https://restorationchurchcarolinas.org/calendar/sunday-worship-2/2027-10-03/
LOCATION:Restoration Church\, 8365 Possum Hollow Rd\, Fort Mill\, South Carolina\, 29707\, United States
CATEGORIES:Restoration Church
ATTACH;FMTTYPE=image/webp:https://restorationchurchcarolinas.org/wp-content/uploads/2025/12/best-worship-fort-mill-sc-restoration-church.webp
ORGANIZER;CN="Restoration Church":MAILTO:info@restorationchurchcarolinas.com
END:VEVENT
BEGIN:VEVENT
DTSTART;TZID=UTC:20271004T183000
DTEND;TZID=UTC:20271004T200000
DTSTAMP:20260426T003438
CREATED:20260212T221824Z
LAST-MODIFIED:20260224T194103Z
UID:10004957-1822674600-1822680000@restorationchurchcarolinas.org
SUMMARY:Apologetics Book Club
DESCRIPTION:The Monday night book club meets at 6:30 each week at Panera Bread Indian Land\, SC.
URL:https://restorationchurchcarolinas.org/calendar/apologetics-book-club-2-2-2-2-2-2-2-2-2-2-2-2-2-2-2-2-2-2/2027-10-04/
LOCATION:Panera Bread\, 7756 Charlotte Hwy\, Indian Land\, SC\, 29707\, United States
CATEGORIES:Restoration Church
ATTACH;FMTTYPE=image/webp:https://restorationchurchcarolinas.org/wp-content/uploads/2026/02/RC-Apologetics-Book-Club-Leader-Screwtape-Letters-C-S-Lewis-26leader-2.webp
ORGANIZER;CN="Restoration Church":MAILTO:info@restorationchurchcarolinas.com
END:VEVENT
BEGIN:VEVENT
DTSTART;TZID=America/New_York:20271006T190000
DTEND;TZID=America/New_York:20271006T200000
DTSTAMP:20260426T003438
CREATED:20250516T122636Z
LAST-MODIFIED:20251218T151354Z
UID:10000522-1822849200-1822852800@restorationchurchcarolinas.org
SUMMARY:Let's Talk Online Bible Study
DESCRIPTION:Wednesdays @ 7PM on YouTube & Facebook.
URL:https://restorationchurchcarolinas.org/calendar/lets-talk-online-bible-study-2/2027-10-06/
LOCATION:Online
CATEGORIES:Restoration Church
ATTACH;FMTTYPE=image/webp:https://restorationchurchcarolinas.org/wp-content/uploads/2025/12/RC-Weekly-TuneIn-January-2026-5.webp
ORGANIZER;CN="Restoration Church":MAILTO:info@restorationchurchcarolinas.com
END:VEVENT
BEGIN:VEVENT
DTSTART;TZID=America/New_York:20271010T093000
DTEND;TZID=America/New_York:20271010T101500
DTSTAMP:20260426T003438
CREATED:20250516T122019Z
LAST-MODIFIED:20251218T151227Z
UID:10001305-1823160600-1823163300@restorationchurchcarolinas.org
SUMMARY:Sunday School
DESCRIPTION:Join us every Sunday @ 9:30 am. We have Sunday School classes for all ages!
URL:https://restorationchurchcarolinas.org/calendar/sunday-school-2/2027-10-10/
LOCATION:Restoration Church\, 8365 Possum Hollow Rd\, Fort Mill\, South Carolina\, 29707\, United States
CATEGORIES:Restoration Church
ATTACH;FMTTYPE=image/webp:https://restorationchurchcarolinas.org/wp-content/uploads/2025/12/great-bible-study-fort-mill-sc.webp
ORGANIZER;CN="Restoration Church":MAILTO:info@restorationchurchcarolinas.com
END:VEVENT
BEGIN:VEVENT
DTSTART;TZID=America/New_York:20271010T103000
DTEND;TZID=America/New_York:20271010T120000
DTSTAMP:20260426T003438
CREATED:20250407T113507Z
LAST-MODIFIED:20251218T151254Z
UID:10001563-1823164200-1823169600@restorationchurchcarolinas.org
SUMMARY:Sunday Worship
DESCRIPTION:Every Sunday @ 10:30am! Watch Live via Livestream\, YouTube\, or Facebook!
URL:https://restorationchurchcarolinas.org/calendar/sunday-worship-2/2027-10-10/
LOCATION:Restoration Church\, 8365 Possum Hollow Rd\, Fort Mill\, South Carolina\, 29707\, United States
CATEGORIES:Restoration Church
ATTACH;FMTTYPE=image/webp:https://restorationchurchcarolinas.org/wp-content/uploads/2025/12/best-worship-fort-mill-sc-restoration-church.webp
ORGANIZER;CN="Restoration Church":MAILTO:info@restorationchurchcarolinas.com
END:VEVENT
BEGIN:VEVENT
DTSTART;TZID=UTC:20271011T183000
DTEND;TZID=UTC:20271011T200000
DTSTAMP:20260426T003438
CREATED:20260212T221824Z
LAST-MODIFIED:20260224T194103Z
UID:10004958-1823279400-1823284800@restorationchurchcarolinas.org
SUMMARY:Apologetics Book Club
DESCRIPTION:The Monday night book club meets at 6:30 each week at Panera Bread Indian Land\, SC.
URL:https://restorationchurchcarolinas.org/calendar/apologetics-book-club-2-2-2-2-2-2-2-2-2-2-2-2-2-2-2-2-2-2/2027-10-11/
LOCATION:Panera Bread\, 7756 Charlotte Hwy\, Indian Land\, SC\, 29707\, United States
CATEGORIES:Restoration Church
ATTACH;FMTTYPE=image/webp:https://restorationchurchcarolinas.org/wp-content/uploads/2026/02/RC-Apologetics-Book-Club-Leader-Screwtape-Letters-C-S-Lewis-26leader-2.webp
ORGANIZER;CN="Restoration Church":MAILTO:info@restorationchurchcarolinas.com
END:VEVENT
BEGIN:VEVENT
DTSTART;TZID=America/New_York:20271013T190000
DTEND;TZID=America/New_York:20271013T200000
DTSTAMP:20260426T003438
CREATED:20250516T122636Z
LAST-MODIFIED:20251218T151354Z
UID:10000523-1823454000-1823457600@restorationchurchcarolinas.org
SUMMARY:Let's Talk Online Bible Study
DESCRIPTION:Wednesdays @ 7PM on YouTube & Facebook.
URL:https://restorationchurchcarolinas.org/calendar/lets-talk-online-bible-study-2/2027-10-13/
LOCATION:Online
CATEGORIES:Restoration Church
ATTACH;FMTTYPE=image/webp:https://restorationchurchcarolinas.org/wp-content/uploads/2025/12/RC-Weekly-TuneIn-January-2026-5.webp
ORGANIZER;CN="Restoration Church":MAILTO:info@restorationchurchcarolinas.com
END:VEVENT
BEGIN:VEVENT
DTSTART;TZID=America/New_York:20271017T093000
DTEND;TZID=America/New_York:20271017T101500
DTSTAMP:20260426T003438
CREATED:20250516T122019Z
LAST-MODIFIED:20251218T151227Z
UID:10001306-1823765400-1823768100@restorationchurchcarolinas.org
SUMMARY:Sunday School
DESCRIPTION:Join us every Sunday @ 9:30 am. We have Sunday School classes for all ages!
URL:https://restorationchurchcarolinas.org/calendar/sunday-school-2/2027-10-17/
LOCATION:Restoration Church\, 8365 Possum Hollow Rd\, Fort Mill\, South Carolina\, 29707\, United States
CATEGORIES:Restoration Church
ATTACH;FMTTYPE=image/webp:https://restorationchurchcarolinas.org/wp-content/uploads/2025/12/great-bible-study-fort-mill-sc.webp
ORGANIZER;CN="Restoration Church":MAILTO:info@restorationchurchcarolinas.com
END:VEVENT
BEGIN:VEVENT
DTSTART;TZID=America/New_York:20271017T103000
DTEND;TZID=America/New_York:20271017T120000
DTSTAMP:20260426T003438
CREATED:20250407T113507Z
LAST-MODIFIED:20251218T151254Z
UID:10001564-1823769000-1823774400@restorationchurchcarolinas.org
SUMMARY:Sunday Worship
DESCRIPTION:Every Sunday @ 10:30am! Watch Live via Livestream\, YouTube\, or Facebook!
URL:https://restorationchurchcarolinas.org/calendar/sunday-worship-2/2027-10-17/
LOCATION:Restoration Church\, 8365 Possum Hollow Rd\, Fort Mill\, South Carolina\, 29707\, United States
CATEGORIES:Restoration Church
ATTACH;FMTTYPE=image/webp:https://restorationchurchcarolinas.org/wp-content/uploads/2025/12/best-worship-fort-mill-sc-restoration-church.webp
ORGANIZER;CN="Restoration Church":MAILTO:info@restorationchurchcarolinas.com
END:VEVENT
BEGIN:VEVENT
DTSTART;TZID=UTC:20271018T183000
DTEND;TZID=UTC:20271018T200000
DTSTAMP:20260426T003438
CREATED:20260212T221824Z
LAST-MODIFIED:20260224T194103Z
UID:10004959-1823884200-1823889600@restorationchurchcarolinas.org
SUMMARY:Apologetics Book Club
DESCRIPTION:The Monday night book club meets at 6:30 each week at Panera Bread Indian Land\, SC.
URL:https://restorationchurchcarolinas.org/calendar/apologetics-book-club-2-2-2-2-2-2-2-2-2-2-2-2-2-2-2-2-2-2/2027-10-18/
LOCATION:Panera Bread\, 7756 Charlotte Hwy\, Indian Land\, SC\, 29707\, United States
CATEGORIES:Restoration Church
ATTACH;FMTTYPE=image/webp:https://restorationchurchcarolinas.org/wp-content/uploads/2026/02/RC-Apologetics-Book-Club-Leader-Screwtape-Letters-C-S-Lewis-26leader-2.webp
ORGANIZER;CN="Restoration Church":MAILTO:info@restorationchurchcarolinas.com
END:VEVENT
BEGIN:VEVENT
DTSTART;TZID=America/New_York:20271020T190000
DTEND;TZID=America/New_York:20271020T200000
DTSTAMP:20260426T003438
CREATED:20250516T122636Z
LAST-MODIFIED:20251218T151354Z
UID:10000524-1824058800-1824062400@restorationchurchcarolinas.org
SUMMARY:Let's Talk Online Bible Study
DESCRIPTION:Wednesdays @ 7PM on YouTube & Facebook.
URL:https://restorationchurchcarolinas.org/calendar/lets-talk-online-bible-study-2/2027-10-20/
LOCATION:Online
CATEGORIES:Restoration Church
ATTACH;FMTTYPE=image/webp:https://restorationchurchcarolinas.org/wp-content/uploads/2025/12/RC-Weekly-TuneIn-January-2026-5.webp
ORGANIZER;CN="Restoration Church":MAILTO:info@restorationchurchcarolinas.com
END:VEVENT
BEGIN:VEVENT
DTSTART;TZID=America/New_York:20271024T093000
DTEND;TZID=America/New_York:20271024T101500
DTSTAMP:20260426T003438
CREATED:20250516T122019Z
LAST-MODIFIED:20251218T151227Z
UID:10001307-1824370200-1824372900@restorationchurchcarolinas.org
SUMMARY:Sunday School
DESCRIPTION:Join us every Sunday @ 9:30 am. We have Sunday School classes for all ages!
URL:https://restorationchurchcarolinas.org/calendar/sunday-school-2/2027-10-24/
LOCATION:Restoration Church\, 8365 Possum Hollow Rd\, Fort Mill\, South Carolina\, 29707\, United States
CATEGORIES:Restoration Church
ATTACH;FMTTYPE=image/webp:https://restorationchurchcarolinas.org/wp-content/uploads/2025/12/great-bible-study-fort-mill-sc.webp
ORGANIZER;CN="Restoration Church":MAILTO:info@restorationchurchcarolinas.com
END:VEVENT
BEGIN:VEVENT
DTSTART;TZID=America/New_York:20271024T103000
DTEND;TZID=America/New_York:20271024T120000
DTSTAMP:20260426T003438
CREATED:20250407T113507Z
LAST-MODIFIED:20251218T151254Z
UID:10001565-1824373800-1824379200@restorationchurchcarolinas.org
SUMMARY:Sunday Worship
DESCRIPTION:Every Sunday @ 10:30am! Watch Live via Livestream\, YouTube\, or Facebook!
URL:https://restorationchurchcarolinas.org/calendar/sunday-worship-2/2027-10-24/
LOCATION:Restoration Church\, 8365 Possum Hollow Rd\, Fort Mill\, South Carolina\, 29707\, United States
CATEGORIES:Restoration Church
ATTACH;FMTTYPE=image/webp:https://restorationchurchcarolinas.org/wp-content/uploads/2025/12/best-worship-fort-mill-sc-restoration-church.webp
ORGANIZER;CN="Restoration Church":MAILTO:info@restorationchurchcarolinas.com
END:VEVENT
BEGIN:VEVENT
DTSTART;TZID=UTC:20271025T183000
DTEND;TZID=UTC:20271025T200000
DTSTAMP:20260426T003438
CREATED:20260212T221824Z
LAST-MODIFIED:20260224T194103Z
UID:10004960-1824489000-1824494400@restorationchurchcarolinas.org
SUMMARY:Apologetics Book Club
DESCRIPTION:The Monday night book club meets at 6:30 each week at Panera Bread Indian Land\, SC.
URL:https://restorationchurchcarolinas.org/calendar/apologetics-book-club-2-2-2-2-2-2-2-2-2-2-2-2-2-2-2-2-2-2/2027-10-25/
LOCATION:Panera Bread\, 7756 Charlotte Hwy\, Indian Land\, SC\, 29707\, United States
CATEGORIES:Restoration Church
ATTACH;FMTTYPE=image/webp:https://restorationchurchcarolinas.org/wp-content/uploads/2026/02/RC-Apologetics-Book-Club-Leader-Screwtape-Letters-C-S-Lewis-26leader-2.webp
ORGANIZER;CN="Restoration Church":MAILTO:info@restorationchurchcarolinas.com
END:VEVENT
BEGIN:VEVENT
DTSTART;TZID=America/New_York:20271027T190000
DTEND;TZID=America/New_York:20271027T200000
DTSTAMP:20260426T003438
CREATED:20250516T122636Z
LAST-MODIFIED:20251218T151354Z
UID:10000525-1824663600-1824667200@restorationchurchcarolinas.org
SUMMARY:Let's Talk Online Bible Study
DESCRIPTION:Wednesdays @ 7PM on YouTube & Facebook.
URL:https://restorationchurchcarolinas.org/calendar/lets-talk-online-bible-study-2/2027-10-27/
LOCATION:Online
CATEGORIES:Restoration Church
ATTACH;FMTTYPE=image/webp:https://restorationchurchcarolinas.org/wp-content/uploads/2025/12/RC-Weekly-TuneIn-January-2026-5.webp
ORGANIZER;CN="Restoration Church":MAILTO:info@restorationchurchcarolinas.com
END:VEVENT
BEGIN:VEVENT
DTSTART;TZID=America/New_York:20271031T093000
DTEND;TZID=America/New_York:20271031T101500
DTSTAMP:20260426T003438
CREATED:20250516T122019Z
LAST-MODIFIED:20251218T151227Z
UID:10001308-1824975000-1824977700@restorationchurchcarolinas.org
SUMMARY:Sunday School
DESCRIPTION:Join us every Sunday @ 9:30 am. We have Sunday School classes for all ages!
URL:https://restorationchurchcarolinas.org/calendar/sunday-school-2/2027-10-31/
LOCATION:Restoration Church\, 8365 Possum Hollow Rd\, Fort Mill\, South Carolina\, 29707\, United States
CATEGORIES:Restoration Church
ATTACH;FMTTYPE=image/webp:https://restorationchurchcarolinas.org/wp-content/uploads/2025/12/great-bible-study-fort-mill-sc.webp
ORGANIZER;CN="Restoration Church":MAILTO:info@restorationchurchcarolinas.com
END:VEVENT
BEGIN:VEVENT
DTSTART;TZID=America/New_York:20271031T103000
DTEND;TZID=America/New_York:20271031T120000
DTSTAMP:20260426T003438
CREATED:20250407T113507Z
LAST-MODIFIED:20251218T151254Z
UID:10001566-1824978600-1824984000@restorationchurchcarolinas.org
SUMMARY:Sunday Worship
DESCRIPTION:Every Sunday @ 10:30am! Watch Live via Livestream\, YouTube\, or Facebook!
URL:https://restorationchurchcarolinas.org/calendar/sunday-worship-2/2027-10-31/
LOCATION:Restoration Church\, 8365 Possum Hollow Rd\, Fort Mill\, South Carolina\, 29707\, United States
CATEGORIES:Restoration Church
ATTACH;FMTTYPE=image/webp:https://restorationchurchcarolinas.org/wp-content/uploads/2025/12/best-worship-fort-mill-sc-restoration-church.webp
ORGANIZER;CN="Restoration Church":MAILTO:info@restorationchurchcarolinas.com
END:VEVENT
BEGIN:VEVENT
DTSTART;TZID=UTC:20271101T183000
DTEND;TZID=UTC:20271101T200000
DTSTAMP:20260426T003438
CREATED:20260212T221824Z
LAST-MODIFIED:20260224T194103Z
UID:10004961-1825093800-1825099200@restorationchurchcarolinas.org
SUMMARY:Apologetics Book Club
DESCRIPTION:The Monday night book club meets at 6:30 each week at Panera Bread Indian Land\, SC.
URL:https://restorationchurchcarolinas.org/calendar/apologetics-book-club-2-2-2-2-2-2-2-2-2-2-2-2-2-2-2-2-2-2/2027-11-01/
LOCATION:Panera Bread\, 7756 Charlotte Hwy\, Indian Land\, SC\, 29707\, United States
CATEGORIES:Restoration Church
ATTACH;FMTTYPE=image/webp:https://restorationchurchcarolinas.org/wp-content/uploads/2026/02/RC-Apologetics-Book-Club-Leader-Screwtape-Letters-C-S-Lewis-26leader-2.webp
ORGANIZER;CN="Restoration Church":MAILTO:info@restorationchurchcarolinas.com
END:VEVENT
BEGIN:VEVENT
DTSTART;TZID=America/New_York:20271103T190000
DTEND;TZID=America/New_York:20271103T200000
DTSTAMP:20260426T003438
CREATED:20250516T122636Z
LAST-MODIFIED:20251218T151354Z
UID:10000526-1825268400-1825272000@restorationchurchcarolinas.org
SUMMARY:Let's Talk Online Bible Study
DESCRIPTION:Wednesdays @ 7PM on YouTube & Facebook.
URL:https://restorationchurchcarolinas.org/calendar/lets-talk-online-bible-study-2/2027-11-03/
LOCATION:Online
CATEGORIES:Restoration Church
ATTACH;FMTTYPE=image/webp:https://restorationchurchcarolinas.org/wp-content/uploads/2025/12/RC-Weekly-TuneIn-January-2026-5.webp
ORGANIZER;CN="Restoration Church":MAILTO:info@restorationchurchcarolinas.com
END:VEVENT
BEGIN:VEVENT
DTSTART;TZID=America/New_York:20271107T093000
DTEND;TZID=America/New_York:20271107T101500
DTSTAMP:20260426T003438
CREATED:20250516T122019Z
LAST-MODIFIED:20251218T151227Z
UID:10001309-1825579800-1825582500@restorationchurchcarolinas.org
SUMMARY:Sunday School
DESCRIPTION:Join us every Sunday @ 9:30 am. We have Sunday School classes for all ages!
URL:https://restorationchurchcarolinas.org/calendar/sunday-school-2/2027-11-07/
LOCATION:Restoration Church\, 8365 Possum Hollow Rd\, Fort Mill\, South Carolina\, 29707\, United States
CATEGORIES:Restoration Church
ATTACH;FMTTYPE=image/webp:https://restorationchurchcarolinas.org/wp-content/uploads/2025/12/great-bible-study-fort-mill-sc.webp
ORGANIZER;CN="Restoration Church":MAILTO:info@restorationchurchcarolinas.com
END:VEVENT
BEGIN:VEVENT
DTSTART;TZID=America/New_York:20271107T103000
DTEND;TZID=America/New_York:20271107T120000
DTSTAMP:20260426T003438
CREATED:20250407T113507Z
LAST-MODIFIED:20251218T151254Z
UID:10001567-1825583400-1825588800@restorationchurchcarolinas.org
SUMMARY:Sunday Worship
DESCRIPTION:Every Sunday @ 10:30am! Watch Live via Livestream\, YouTube\, or Facebook!
URL:https://restorationchurchcarolinas.org/calendar/sunday-worship-2/2027-11-07/
LOCATION:Restoration Church\, 8365 Possum Hollow Rd\, Fort Mill\, South Carolina\, 29707\, United States
CATEGORIES:Restoration Church
ATTACH;FMTTYPE=image/webp:https://restorationchurchcarolinas.org/wp-content/uploads/2025/12/best-worship-fort-mill-sc-restoration-church.webp
ORGANIZER;CN="Restoration Church":MAILTO:info@restorationchurchcarolinas.com
END:VEVENT
BEGIN:VEVENT
DTSTART;TZID=UTC:20271108T183000
DTEND;TZID=UTC:20271108T200000
DTSTAMP:20260426T003438
CREATED:20260212T221824Z
LAST-MODIFIED:20260224T194103Z
UID:10004962-1825698600-1825704000@restorationchurchcarolinas.org
SUMMARY:Apologetics Book Club
DESCRIPTION:The Monday night book club meets at 6:30 each week at Panera Bread Indian Land\, SC.
URL:https://restorationchurchcarolinas.org/calendar/apologetics-book-club-2-2-2-2-2-2-2-2-2-2-2-2-2-2-2-2-2-2/2027-11-08/
LOCATION:Panera Bread\, 7756 Charlotte Hwy\, Indian Land\, SC\, 29707\, United States
CATEGORIES:Restoration Church
ATTACH;FMTTYPE=image/webp:https://restorationchurchcarolinas.org/wp-content/uploads/2026/02/RC-Apologetics-Book-Club-Leader-Screwtape-Letters-C-S-Lewis-26leader-2.webp
ORGANIZER;CN="Restoration Church":MAILTO:info@restorationchurchcarolinas.com
END:VEVENT
BEGIN:VEVENT
DTSTART;TZID=America/New_York:20271110T190000
DTEND;TZID=America/New_York:20271110T200000
DTSTAMP:20260426T003438
CREATED:20250516T122636Z
LAST-MODIFIED:20251218T151354Z
UID:10000527-1825873200-1825876800@restorationchurchcarolinas.org
SUMMARY:Let's Talk Online Bible Study
DESCRIPTION:Wednesdays @ 7PM on YouTube & Facebook.
URL:https://restorationchurchcarolinas.org/calendar/lets-talk-online-bible-study-2/2027-11-10/
LOCATION:Online
CATEGORIES:Restoration Church
ATTACH;FMTTYPE=image/webp:https://restorationchurchcarolinas.org/wp-content/uploads/2025/12/RC-Weekly-TuneIn-January-2026-5.webp
ORGANIZER;CN="Restoration Church":MAILTO:info@restorationchurchcarolinas.com
END:VEVENT
BEGIN:VEVENT
DTSTART;TZID=America/New_York:20271114T093000
DTEND;TZID=America/New_York:20271114T101500
DTSTAMP:20260426T003438
CREATED:20250516T122019Z
LAST-MODIFIED:20251218T151227Z
UID:10001310-1826184600-1826187300@restorationchurchcarolinas.org
SUMMARY:Sunday School
DESCRIPTION:Join us every Sunday @ 9:30 am. We have Sunday School classes for all ages!
URL:https://restorationchurchcarolinas.org/calendar/sunday-school-2/2027-11-14/
LOCATION:Restoration Church\, 8365 Possum Hollow Rd\, Fort Mill\, South Carolina\, 29707\, United States
CATEGORIES:Restoration Church
ATTACH;FMTTYPE=image/webp:https://restorationchurchcarolinas.org/wp-content/uploads/2025/12/great-bible-study-fort-mill-sc.webp
ORGANIZER;CN="Restoration Church":MAILTO:info@restorationchurchcarolinas.com
END:VEVENT
BEGIN:VEVENT
DTSTART;TZID=America/New_York:20271114T103000
DTEND;TZID=America/New_York:20271114T120000
DTSTAMP:20260426T003438
CREATED:20250407T113507Z
LAST-MODIFIED:20251218T151254Z
UID:10001568-1826188200-1826193600@restorationchurchcarolinas.org
SUMMARY:Sunday Worship
DESCRIPTION:Every Sunday @ 10:30am! Watch Live via Livestream\, YouTube\, or Facebook!
URL:https://restorationchurchcarolinas.org/calendar/sunday-worship-2/2027-11-14/
LOCATION:Restoration Church\, 8365 Possum Hollow Rd\, Fort Mill\, South Carolina\, 29707\, United States
CATEGORIES:Restoration Church
ATTACH;FMTTYPE=image/webp:https://restorationchurchcarolinas.org/wp-content/uploads/2025/12/best-worship-fort-mill-sc-restoration-church.webp
ORGANIZER;CN="Restoration Church":MAILTO:info@restorationchurchcarolinas.com
END:VEVENT
BEGIN:VEVENT
DTSTART;TZID=UTC:20271115T183000
DTEND;TZID=UTC:20271115T200000
DTSTAMP:20260426T003438
CREATED:20260212T221824Z
LAST-MODIFIED:20260224T194103Z
UID:10004963-1826303400-1826308800@restorationchurchcarolinas.org
SUMMARY:Apologetics Book Club
DESCRIPTION:The Monday night book club meets at 6:30 each week at Panera Bread Indian Land\, SC.
URL:https://restorationchurchcarolinas.org/calendar/apologetics-book-club-2-2-2-2-2-2-2-2-2-2-2-2-2-2-2-2-2-2/2027-11-15/
LOCATION:Panera Bread\, 7756 Charlotte Hwy\, Indian Land\, SC\, 29707\, United States
CATEGORIES:Restoration Church
ATTACH;FMTTYPE=image/webp:https://restorationchurchcarolinas.org/wp-content/uploads/2026/02/RC-Apologetics-Book-Club-Leader-Screwtape-Letters-C-S-Lewis-26leader-2.webp
ORGANIZER;CN="Restoration Church":MAILTO:info@restorationchurchcarolinas.com
END:VEVENT
BEGIN:VEVENT
DTSTART;TZID=America/New_York:20271117T190000
DTEND;TZID=America/New_York:20271117T200000
DTSTAMP:20260426T003438
CREATED:20250516T122636Z
LAST-MODIFIED:20251218T151354Z
UID:10000528-1826478000-1826481600@restorationchurchcarolinas.org
SUMMARY:Let's Talk Online Bible Study
DESCRIPTION:Wednesdays @ 7PM on YouTube & Facebook.
URL:https://restorationchurchcarolinas.org/calendar/lets-talk-online-bible-study-2/2027-11-17/
LOCATION:Online
CATEGORIES:Restoration Church
ATTACH;FMTTYPE=image/webp:https://restorationchurchcarolinas.org/wp-content/uploads/2025/12/RC-Weekly-TuneIn-January-2026-5.webp
ORGANIZER;CN="Restoration Church":MAILTO:info@restorationchurchcarolinas.com
END:VEVENT
END:VCALENDAR