BEGIN:VCALENDAR
VERSION:2.0
PRODID:-//Restoration Church l Faith-filled Church in Fort Mill SC - ECPv6.15.18//NONSGML v1.0//EN
CALSCALE:GREGORIAN
METHOD:PUBLISH
X-ORIGINAL-URL:https://restorationchurchcarolinas.org
X-WR-CALDESC:Events for Restoration Church l Faith-filled Church in Fort Mill SC
REFRESH-INTERVAL;VALUE=DURATION:PT1H
X-Robots-Tag:noindex
X-PUBLISHED-TTL:PT1H
BEGIN:VTIMEZONE
TZID:America/New_York
BEGIN:DAYLIGHT
TZOFFSETFROM:-0500
TZOFFSETTO:-0400
TZNAME:EDT
DTSTART:20290311T070000
END:DAYLIGHT
BEGIN:STANDARD
TZOFFSETFROM:-0400
TZOFFSETTO:-0500
TZNAME:EST
DTSTART:20291104T060000
END:STANDARD
BEGIN:DAYLIGHT
TZOFFSETFROM:-0500
TZOFFSETTO:-0400
TZNAME:EDT
DTSTART:20300310T070000
END:DAYLIGHT
BEGIN:STANDARD
TZOFFSETFROM:-0400
TZOFFSETTO:-0500
TZNAME:EST
DTSTART:20301103T060000
END:STANDARD
BEGIN:DAYLIGHT
TZOFFSETFROM:-0500
TZOFFSETTO:-0400
TZNAME:EDT
DTSTART:20310309T070000
END:DAYLIGHT
BEGIN:STANDARD
TZOFFSETFROM:-0400
TZOFFSETTO:-0500
TZNAME:EST
DTSTART:20311102T060000
END:STANDARD
END:VTIMEZONE
BEGIN:VTIMEZONE
TZID:UTC
BEGIN:STANDARD
TZOFFSETFROM:+0000
TZOFFSETTO:+0000
TZNAME:UTC
DTSTART:20290101T000000
END:STANDARD
END:VTIMEZONE
BEGIN:VEVENT
DTSTART;TZID=America/New_York:20301002T190000
DTEND;TZID=America/New_York:20301002T200000
DTSTAMP:20260419T152022
CREATED:20250516T122636Z
LAST-MODIFIED:20251218T151354Z
UID:10004859-1917198000-1917201600@restorationchurchcarolinas.org
SUMMARY:Let's Talk Online Bible Study
DESCRIPTION:Wednesdays @ 7PM on YouTube & Facebook.
URL:https://restorationchurchcarolinas.org/calendar/lets-talk-online-bible-study-2/2030-10-02/
LOCATION:Online
CATEGORIES:Restoration Church
ATTACH;FMTTYPE=image/webp:https://restorationchurchcarolinas.org/wp-content/uploads/2025/12/RC-Weekly-TuneIn-January-2026-5.webp
ORGANIZER;CN="Restoration Church":MAILTO:info@restorationchurchcarolinas.com
END:VEVENT
BEGIN:VEVENT
DTSTART;TZID=America/New_York:20301006T093000
DTEND;TZID=America/New_York:20301006T101500
DTSTAMP:20260419T152022
CREATED:20250516T122019Z
LAST-MODIFIED:20251218T151227Z
UID:10004793-1917509400-1917512100@restorationchurchcarolinas.org
SUMMARY:Sunday School
DESCRIPTION:Join us every Sunday @ 9:30 am. We have Sunday School classes for all ages!
URL:https://restorationchurchcarolinas.org/calendar/sunday-school-2/2030-10-06/
LOCATION:Restoration Church\, 8365 Possum Hollow Rd\, Fort Mill\, South Carolina\, 29707\, United States
CATEGORIES:Restoration Church
ATTACH;FMTTYPE=image/webp:https://restorationchurchcarolinas.org/wp-content/uploads/2025/12/great-bible-study-fort-mill-sc.webp
ORGANIZER;CN="Restoration Church":MAILTO:info@restorationchurchcarolinas.com
END:VEVENT
BEGIN:VEVENT
DTSTART;TZID=America/New_York:20301006T103000
DTEND;TZID=America/New_York:20301006T120000
DTSTAMP:20260419T152022
CREATED:20250407T113507Z
LAST-MODIFIED:20251218T151254Z
UID:10004844-1917513000-1917518400@restorationchurchcarolinas.org
SUMMARY:Sunday Worship
DESCRIPTION:Every Sunday @ 10:30am! Watch Live via Livestream\, YouTube\, or Facebook!
URL:https://restorationchurchcarolinas.org/calendar/sunday-worship-2/2030-10-06/
LOCATION:Restoration Church\, 8365 Possum Hollow Rd\, Fort Mill\, South Carolina\, 29707\, United States
CATEGORIES:Restoration Church
ATTACH;FMTTYPE=image/webp:https://restorationchurchcarolinas.org/wp-content/uploads/2025/12/best-worship-fort-mill-sc-restoration-church.webp
ORGANIZER;CN="Restoration Church":MAILTO:info@restorationchurchcarolinas.com
END:VEVENT
BEGIN:VEVENT
DTSTART;TZID=UTC:20301007T183000
DTEND;TZID=UTC:20301007T200000
DTSTAMP:20260419T152022
CREATED:20260212T221824Z
LAST-MODIFIED:20260224T194103Z
UID:10005114-1917628200-1917633600@restorationchurchcarolinas.org
SUMMARY:Apologetics Book Club
DESCRIPTION:The Monday night book club meets at 6:30 each week at Panera Bread Indian Land\, SC.
URL:https://restorationchurchcarolinas.org/calendar/apologetics-book-club-2-2-2-2-2-2-2-2-2-2-2-2-2-2-2-2-2-2/2030-10-07/
LOCATION:Panera Bread\, 7756 Charlotte Hwy\, Indian Land\, SC\, 29707\, United States
CATEGORIES:Restoration Church
ATTACH;FMTTYPE=image/webp:https://restorationchurchcarolinas.org/wp-content/uploads/2026/02/RC-Apologetics-Book-Club-Leader-Screwtape-Letters-C-S-Lewis-26leader-2.webp
ORGANIZER;CN="Restoration Church":MAILTO:info@restorationchurchcarolinas.com
END:VEVENT
BEGIN:VEVENT
DTSTART;TZID=America/New_York:20301009T190000
DTEND;TZID=America/New_York:20301009T200000
DTSTAMP:20260419T152022
CREATED:20250516T122636Z
LAST-MODIFIED:20251218T151354Z
UID:10004860-1917802800-1917806400@restorationchurchcarolinas.org
SUMMARY:Let's Talk Online Bible Study
DESCRIPTION:Wednesdays @ 7PM on YouTube & Facebook.
URL:https://restorationchurchcarolinas.org/calendar/lets-talk-online-bible-study-2/2030-10-09/
LOCATION:Online
CATEGORIES:Restoration Church
ATTACH;FMTTYPE=image/webp:https://restorationchurchcarolinas.org/wp-content/uploads/2025/12/RC-Weekly-TuneIn-January-2026-5.webp
ORGANIZER;CN="Restoration Church":MAILTO:info@restorationchurchcarolinas.com
END:VEVENT
BEGIN:VEVENT
DTSTART;TZID=America/New_York:20301013T093000
DTEND;TZID=America/New_York:20301013T101500
DTSTAMP:20260419T152022
CREATED:20250516T122019Z
LAST-MODIFIED:20251218T151227Z
UID:10004794-1918114200-1918116900@restorationchurchcarolinas.org
SUMMARY:Sunday School
DESCRIPTION:Join us every Sunday @ 9:30 am. We have Sunday School classes for all ages!
URL:https://restorationchurchcarolinas.org/calendar/sunday-school-2/2030-10-13/
LOCATION:Restoration Church\, 8365 Possum Hollow Rd\, Fort Mill\, South Carolina\, 29707\, United States
CATEGORIES:Restoration Church
ATTACH;FMTTYPE=image/webp:https://restorationchurchcarolinas.org/wp-content/uploads/2025/12/great-bible-study-fort-mill-sc.webp
ORGANIZER;CN="Restoration Church":MAILTO:info@restorationchurchcarolinas.com
END:VEVENT
BEGIN:VEVENT
DTSTART;TZID=America/New_York:20301013T103000
DTEND;TZID=America/New_York:20301013T120000
DTSTAMP:20260419T152022
CREATED:20250407T113507Z
LAST-MODIFIED:20251218T151254Z
UID:10004845-1918117800-1918123200@restorationchurchcarolinas.org
SUMMARY:Sunday Worship
DESCRIPTION:Every Sunday @ 10:30am! Watch Live via Livestream\, YouTube\, or Facebook!
URL:https://restorationchurchcarolinas.org/calendar/sunday-worship-2/2030-10-13/
LOCATION:Restoration Church\, 8365 Possum Hollow Rd\, Fort Mill\, South Carolina\, 29707\, United States
CATEGORIES:Restoration Church
ATTACH;FMTTYPE=image/webp:https://restorationchurchcarolinas.org/wp-content/uploads/2025/12/best-worship-fort-mill-sc-restoration-church.webp
ORGANIZER;CN="Restoration Church":MAILTO:info@restorationchurchcarolinas.com
END:VEVENT
BEGIN:VEVENT
DTSTART;TZID=UTC:20301014T183000
DTEND;TZID=UTC:20301014T200000
DTSTAMP:20260419T152022
CREATED:20260212T221824Z
LAST-MODIFIED:20260224T194103Z
UID:10005115-1918233000-1918238400@restorationchurchcarolinas.org
SUMMARY:Apologetics Book Club
DESCRIPTION:The Monday night book club meets at 6:30 each week at Panera Bread Indian Land\, SC.
URL:https://restorationchurchcarolinas.org/calendar/apologetics-book-club-2-2-2-2-2-2-2-2-2-2-2-2-2-2-2-2-2-2/2030-10-14/
LOCATION:Panera Bread\, 7756 Charlotte Hwy\, Indian Land\, SC\, 29707\, United States
CATEGORIES:Restoration Church
ATTACH;FMTTYPE=image/webp:https://restorationchurchcarolinas.org/wp-content/uploads/2026/02/RC-Apologetics-Book-Club-Leader-Screwtape-Letters-C-S-Lewis-26leader-2.webp
ORGANIZER;CN="Restoration Church":MAILTO:info@restorationchurchcarolinas.com
END:VEVENT
BEGIN:VEVENT
DTSTART;TZID=America/New_York:20301016T190000
DTEND;TZID=America/New_York:20301016T200000
DTSTAMP:20260419T152022
CREATED:20250516T122636Z
LAST-MODIFIED:20251218T151354Z
UID:10004861-1918407600-1918411200@restorationchurchcarolinas.org
SUMMARY:Let's Talk Online Bible Study
DESCRIPTION:Wednesdays @ 7PM on YouTube & Facebook.
URL:https://restorationchurchcarolinas.org/calendar/lets-talk-online-bible-study-2/2030-10-16/
LOCATION:Online
CATEGORIES:Restoration Church
ATTACH;FMTTYPE=image/webp:https://restorationchurchcarolinas.org/wp-content/uploads/2025/12/RC-Weekly-TuneIn-January-2026-5.webp
ORGANIZER;CN="Restoration Church":MAILTO:info@restorationchurchcarolinas.com
END:VEVENT
BEGIN:VEVENT
DTSTART;TZID=America/New_York:20301020T093000
DTEND;TZID=America/New_York:20301020T101500
DTSTAMP:20260419T152022
CREATED:20250516T122019Z
LAST-MODIFIED:20251218T151227Z
UID:10004795-1918719000-1918721700@restorationchurchcarolinas.org
SUMMARY:Sunday School
DESCRIPTION:Join us every Sunday @ 9:30 am. We have Sunday School classes for all ages!
URL:https://restorationchurchcarolinas.org/calendar/sunday-school-2/2030-10-20/
LOCATION:Restoration Church\, 8365 Possum Hollow Rd\, Fort Mill\, South Carolina\, 29707\, United States
CATEGORIES:Restoration Church
ATTACH;FMTTYPE=image/webp:https://restorationchurchcarolinas.org/wp-content/uploads/2025/12/great-bible-study-fort-mill-sc.webp
ORGANIZER;CN="Restoration Church":MAILTO:info@restorationchurchcarolinas.com
END:VEVENT
BEGIN:VEVENT
DTSTART;TZID=America/New_York:20301020T103000
DTEND;TZID=America/New_York:20301020T120000
DTSTAMP:20260419T152022
CREATED:20250407T113507Z
LAST-MODIFIED:20251218T151254Z
UID:10004846-1918722600-1918728000@restorationchurchcarolinas.org
SUMMARY:Sunday Worship
DESCRIPTION:Every Sunday @ 10:30am! Watch Live via Livestream\, YouTube\, or Facebook!
URL:https://restorationchurchcarolinas.org/calendar/sunday-worship-2/2030-10-20/
LOCATION:Restoration Church\, 8365 Possum Hollow Rd\, Fort Mill\, South Carolina\, 29707\, United States
CATEGORIES:Restoration Church
ATTACH;FMTTYPE=image/webp:https://restorationchurchcarolinas.org/wp-content/uploads/2025/12/best-worship-fort-mill-sc-restoration-church.webp
ORGANIZER;CN="Restoration Church":MAILTO:info@restorationchurchcarolinas.com
END:VEVENT
BEGIN:VEVENT
DTSTART;TZID=UTC:20301021T183000
DTEND;TZID=UTC:20301021T200000
DTSTAMP:20260419T152022
CREATED:20260212T221824Z
LAST-MODIFIED:20260224T194103Z
UID:10005116-1918837800-1918843200@restorationchurchcarolinas.org
SUMMARY:Apologetics Book Club
DESCRIPTION:The Monday night book club meets at 6:30 each week at Panera Bread Indian Land\, SC.
URL:https://restorationchurchcarolinas.org/calendar/apologetics-book-club-2-2-2-2-2-2-2-2-2-2-2-2-2-2-2-2-2-2/2030-10-21/
LOCATION:Panera Bread\, 7756 Charlotte Hwy\, Indian Land\, SC\, 29707\, United States
CATEGORIES:Restoration Church
ATTACH;FMTTYPE=image/webp:https://restorationchurchcarolinas.org/wp-content/uploads/2026/02/RC-Apologetics-Book-Club-Leader-Screwtape-Letters-C-S-Lewis-26leader-2.webp
ORGANIZER;CN="Restoration Church":MAILTO:info@restorationchurchcarolinas.com
END:VEVENT
BEGIN:VEVENT
DTSTART;TZID=America/New_York:20301023T190000
DTEND;TZID=America/New_York:20301023T200000
DTSTAMP:20260419T152022
CREATED:20250516T122636Z
LAST-MODIFIED:20251218T151354Z
UID:10004862-1919012400-1919016000@restorationchurchcarolinas.org
SUMMARY:Let's Talk Online Bible Study
DESCRIPTION:Wednesdays @ 7PM on YouTube & Facebook.
URL:https://restorationchurchcarolinas.org/calendar/lets-talk-online-bible-study-2/2030-10-23/
LOCATION:Online
CATEGORIES:Restoration Church
ATTACH;FMTTYPE=image/webp:https://restorationchurchcarolinas.org/wp-content/uploads/2025/12/RC-Weekly-TuneIn-January-2026-5.webp
ORGANIZER;CN="Restoration Church":MAILTO:info@restorationchurchcarolinas.com
END:VEVENT
BEGIN:VEVENT
DTSTART;TZID=America/New_York:20301027T093000
DTEND;TZID=America/New_York:20301027T101500
DTSTAMP:20260419T152022
CREATED:20250516T122019Z
LAST-MODIFIED:20251218T151227Z
UID:10004796-1919323800-1919326500@restorationchurchcarolinas.org
SUMMARY:Sunday School
DESCRIPTION:Join us every Sunday @ 9:30 am. We have Sunday School classes for all ages!
URL:https://restorationchurchcarolinas.org/calendar/sunday-school-2/2030-10-27/
LOCATION:Restoration Church\, 8365 Possum Hollow Rd\, Fort Mill\, South Carolina\, 29707\, United States
CATEGORIES:Restoration Church
ATTACH;FMTTYPE=image/webp:https://restorationchurchcarolinas.org/wp-content/uploads/2025/12/great-bible-study-fort-mill-sc.webp
ORGANIZER;CN="Restoration Church":MAILTO:info@restorationchurchcarolinas.com
END:VEVENT
BEGIN:VEVENT
DTSTART;TZID=America/New_York:20301027T103000
DTEND;TZID=America/New_York:20301027T120000
DTSTAMP:20260419T152022
CREATED:20250407T113507Z
LAST-MODIFIED:20251218T151254Z
UID:10004847-1919327400-1919332800@restorationchurchcarolinas.org
SUMMARY:Sunday Worship
DESCRIPTION:Every Sunday @ 10:30am! Watch Live via Livestream\, YouTube\, or Facebook!
URL:https://restorationchurchcarolinas.org/calendar/sunday-worship-2/2030-10-27/
LOCATION:Restoration Church\, 8365 Possum Hollow Rd\, Fort Mill\, South Carolina\, 29707\, United States
CATEGORIES:Restoration Church
ATTACH;FMTTYPE=image/webp:https://restorationchurchcarolinas.org/wp-content/uploads/2025/12/best-worship-fort-mill-sc-restoration-church.webp
ORGANIZER;CN="Restoration Church":MAILTO:info@restorationchurchcarolinas.com
END:VEVENT
BEGIN:VEVENT
DTSTART;TZID=UTC:20301028T183000
DTEND;TZID=UTC:20301028T200000
DTSTAMP:20260419T152022
CREATED:20260212T221824Z
LAST-MODIFIED:20260224T194103Z
UID:10005117-1919442600-1919448000@restorationchurchcarolinas.org
SUMMARY:Apologetics Book Club
DESCRIPTION:The Monday night book club meets at 6:30 each week at Panera Bread Indian Land\, SC.
URL:https://restorationchurchcarolinas.org/calendar/apologetics-book-club-2-2-2-2-2-2-2-2-2-2-2-2-2-2-2-2-2-2/2030-10-28/
LOCATION:Panera Bread\, 7756 Charlotte Hwy\, Indian Land\, SC\, 29707\, United States
CATEGORIES:Restoration Church
ATTACH;FMTTYPE=image/webp:https://restorationchurchcarolinas.org/wp-content/uploads/2026/02/RC-Apologetics-Book-Club-Leader-Screwtape-Letters-C-S-Lewis-26leader-2.webp
ORGANIZER;CN="Restoration Church":MAILTO:info@restorationchurchcarolinas.com
END:VEVENT
BEGIN:VEVENT
DTSTART;TZID=America/New_York:20301030T190000
DTEND;TZID=America/New_York:20301030T200000
DTSTAMP:20260419T152022
CREATED:20250516T122636Z
LAST-MODIFIED:20251218T151354Z
UID:10004863-1919617200-1919620800@restorationchurchcarolinas.org
SUMMARY:Let's Talk Online Bible Study
DESCRIPTION:Wednesdays @ 7PM on YouTube & Facebook.
URL:https://restorationchurchcarolinas.org/calendar/lets-talk-online-bible-study-2/2030-10-30/
LOCATION:Online
CATEGORIES:Restoration Church
ATTACH;FMTTYPE=image/webp:https://restorationchurchcarolinas.org/wp-content/uploads/2025/12/RC-Weekly-TuneIn-January-2026-5.webp
ORGANIZER;CN="Restoration Church":MAILTO:info@restorationchurchcarolinas.com
END:VEVENT
END:VCALENDAR