BEGIN:VCALENDAR
VERSION:2.0
PRODID:-//Restoration Church l Faith-filled Church in Fort Mill SC - ECPv6.15.18//NONSGML v1.0//EN
CALSCALE:GREGORIAN
METHOD:PUBLISH
X-ORIGINAL-URL:https://restorationchurchcarolinas.org
X-WR-CALDESC:Events for Restoration Church l Faith-filled Church in Fort Mill SC
REFRESH-INTERVAL;VALUE=DURATION:PT1H
X-Robots-Tag:noindex
X-PUBLISHED-TTL:PT1H
BEGIN:VTIMEZONE
TZID:America/New_York
BEGIN:DAYLIGHT
TZOFFSETFROM:-0500
TZOFFSETTO:-0400
TZNAME:EDT
DTSTART:20290311T070000
END:DAYLIGHT
BEGIN:STANDARD
TZOFFSETFROM:-0400
TZOFFSETTO:-0500
TZNAME:EST
DTSTART:20291104T060000
END:STANDARD
BEGIN:DAYLIGHT
TZOFFSETFROM:-0500
TZOFFSETTO:-0400
TZNAME:EDT
DTSTART:20300310T070000
END:DAYLIGHT
BEGIN:STANDARD
TZOFFSETFROM:-0400
TZOFFSETTO:-0500
TZNAME:EST
DTSTART:20301103T060000
END:STANDARD
BEGIN:DAYLIGHT
TZOFFSETFROM:-0500
TZOFFSETTO:-0400
TZNAME:EDT
DTSTART:20310309T070000
END:DAYLIGHT
BEGIN:STANDARD
TZOFFSETFROM:-0400
TZOFFSETTO:-0500
TZNAME:EST
DTSTART:20311102T060000
END:STANDARD
END:VTIMEZONE
BEGIN:VTIMEZONE
TZID:UTC
BEGIN:STANDARD
TZOFFSETFROM:+0000
TZOFFSETTO:+0000
TZNAME:UTC
DTSTART:20290101T000000
END:STANDARD
END:VTIMEZONE
BEGIN:VEVENT
DTSTART;VALUE=DATE:20300101
DTEND;VALUE=DATE:20300102
DTSTAMP:20260420T061119
CREATED:20251203T170827Z
LAST-MODIFIED:20251203T170827Z
UID:10004816-1893456000-1893542399@restorationchurchcarolinas.org
SUMMARY:New Year's Day
DESCRIPTION:Happy New Year from Restoration Church!
URL:https://restorationchurchcarolinas.org/calendar/new-years-day/2030-01-01/
CATEGORIES:Holidays,Restoration Church
ATTACH;FMTTYPE=image/webp:https://restorationchurchcarolinas.org/wp-content/uploads/2025/12/happy-new-year-rc-carolinas-fort-mill-sc.webp
END:VEVENT
BEGIN:VEVENT
DTSTART;TZID=America/New_York:20300102T190000
DTEND;TZID=America/New_York:20300102T200000
DTSTAMP:20260420T061119
CREATED:20250516T122636Z
LAST-MODIFIED:20251218T151354Z
UID:10000639-1893610800-1893614400@restorationchurchcarolinas.org
SUMMARY:Let's Talk Online Bible Study
DESCRIPTION:Wednesdays @ 7PM on YouTube & Facebook.
URL:https://restorationchurchcarolinas.org/calendar/lets-talk-online-bible-study-2/2030-01-02/
LOCATION:Online
CATEGORIES:Restoration Church
ATTACH;FMTTYPE=image/webp:https://restorationchurchcarolinas.org/wp-content/uploads/2025/12/RC-Weekly-TuneIn-January-2026-5.webp
ORGANIZER;CN="Restoration Church":MAILTO:info@restorationchurchcarolinas.com
END:VEVENT
BEGIN:VEVENT
DTSTART;TZID=America/New_York:20300106T093000
DTEND;TZID=America/New_York:20300106T101500
DTSTAMP:20260420T061119
CREATED:20250516T122019Z
LAST-MODIFIED:20251218T151227Z
UID:10001422-1893922200-1893924900@restorationchurchcarolinas.org
SUMMARY:Sunday School
DESCRIPTION:Join us every Sunday @ 9:30 am. We have Sunday School classes for all ages!
URL:https://restorationchurchcarolinas.org/calendar/sunday-school-2/2030-01-06/
LOCATION:Restoration Church\, 8365 Possum Hollow Rd\, Fort Mill\, South Carolina\, 29707\, United States
CATEGORIES:Restoration Church
ATTACH;FMTTYPE=image/webp:https://restorationchurchcarolinas.org/wp-content/uploads/2025/12/great-bible-study-fort-mill-sc.webp
ORGANIZER;CN="Restoration Church":MAILTO:info@restorationchurchcarolinas.com
END:VEVENT
BEGIN:VEVENT
DTSTART;TZID=America/New_York:20300106T103000
DTEND;TZID=America/New_York:20300106T120000
DTSTAMP:20260420T061119
CREATED:20250407T113507Z
LAST-MODIFIED:20251218T151254Z
UID:10001680-1893925800-1893931200@restorationchurchcarolinas.org
SUMMARY:Sunday Worship
DESCRIPTION:Every Sunday @ 10:30am! Watch Live via Livestream\, YouTube\, or Facebook!
URL:https://restorationchurchcarolinas.org/calendar/sunday-worship-2/2030-01-06/
LOCATION:Restoration Church\, 8365 Possum Hollow Rd\, Fort Mill\, South Carolina\, 29707\, United States
CATEGORIES:Restoration Church
ATTACH;FMTTYPE=image/webp:https://restorationchurchcarolinas.org/wp-content/uploads/2025/12/best-worship-fort-mill-sc-restoration-church.webp
ORGANIZER;CN="Restoration Church":MAILTO:info@restorationchurchcarolinas.com
END:VEVENT
BEGIN:VEVENT
DTSTART;TZID=UTC:20300107T183000
DTEND;TZID=UTC:20300107T200000
DTSTAMP:20260420T061119
CREATED:20260212T221824Z
LAST-MODIFIED:20260224T194103Z
UID:10005075-1894041000-1894046400@restorationchurchcarolinas.org
SUMMARY:Apologetics Book Club
DESCRIPTION:The Monday night book club meets at 6:30 each week at Panera Bread Indian Land\, SC.
URL:https://restorationchurchcarolinas.org/calendar/apologetics-book-club-2-2-2-2-2-2-2-2-2-2-2-2-2-2-2-2-2-2/2030-01-07/
LOCATION:Panera Bread\, 7756 Charlotte Hwy\, Indian Land\, SC\, 29707\, United States
CATEGORIES:Restoration Church
ATTACH;FMTTYPE=image/webp:https://restorationchurchcarolinas.org/wp-content/uploads/2026/02/RC-Apologetics-Book-Club-Leader-Screwtape-Letters-C-S-Lewis-26leader-2.webp
ORGANIZER;CN="Restoration Church":MAILTO:info@restorationchurchcarolinas.com
END:VEVENT
BEGIN:VEVENT
DTSTART;TZID=America/New_York:20300109T190000
DTEND;TZID=America/New_York:20300109T200000
DTSTAMP:20260420T061119
CREATED:20250516T122636Z
LAST-MODIFIED:20251218T151354Z
UID:10000640-1894215600-1894219200@restorationchurchcarolinas.org
SUMMARY:Let's Talk Online Bible Study
DESCRIPTION:Wednesdays @ 7PM on YouTube & Facebook.
URL:https://restorationchurchcarolinas.org/calendar/lets-talk-online-bible-study-2/2030-01-09/
LOCATION:Online
CATEGORIES:Restoration Church
ATTACH;FMTTYPE=image/webp:https://restorationchurchcarolinas.org/wp-content/uploads/2025/12/RC-Weekly-TuneIn-January-2026-5.webp
ORGANIZER;CN="Restoration Church":MAILTO:info@restorationchurchcarolinas.com
END:VEVENT
BEGIN:VEVENT
DTSTART;TZID=America/New_York:20300113T093000
DTEND;TZID=America/New_York:20300113T101500
DTSTAMP:20260420T061119
CREATED:20250516T122019Z
LAST-MODIFIED:20251218T151227Z
UID:10001423-1894527000-1894529700@restorationchurchcarolinas.org
SUMMARY:Sunday School
DESCRIPTION:Join us every Sunday @ 9:30 am. We have Sunday School classes for all ages!
URL:https://restorationchurchcarolinas.org/calendar/sunday-school-2/2030-01-13/
LOCATION:Restoration Church\, 8365 Possum Hollow Rd\, Fort Mill\, South Carolina\, 29707\, United States
CATEGORIES:Restoration Church
ATTACH;FMTTYPE=image/webp:https://restorationchurchcarolinas.org/wp-content/uploads/2025/12/great-bible-study-fort-mill-sc.webp
ORGANIZER;CN="Restoration Church":MAILTO:info@restorationchurchcarolinas.com
END:VEVENT
BEGIN:VEVENT
DTSTART;TZID=America/New_York:20300113T103000
DTEND;TZID=America/New_York:20300113T120000
DTSTAMP:20260420T061119
CREATED:20250407T113507Z
LAST-MODIFIED:20251218T151254Z
UID:10001681-1894530600-1894536000@restorationchurchcarolinas.org
SUMMARY:Sunday Worship
DESCRIPTION:Every Sunday @ 10:30am! Watch Live via Livestream\, YouTube\, or Facebook!
URL:https://restorationchurchcarolinas.org/calendar/sunday-worship-2/2030-01-13/
LOCATION:Restoration Church\, 8365 Possum Hollow Rd\, Fort Mill\, South Carolina\, 29707\, United States
CATEGORIES:Restoration Church
ATTACH;FMTTYPE=image/webp:https://restorationchurchcarolinas.org/wp-content/uploads/2025/12/best-worship-fort-mill-sc-restoration-church.webp
ORGANIZER;CN="Restoration Church":MAILTO:info@restorationchurchcarolinas.com
END:VEVENT
BEGIN:VEVENT
DTSTART;TZID=UTC:20300114T183000
DTEND;TZID=UTC:20300114T200000
DTSTAMP:20260420T061119
CREATED:20260212T221824Z
LAST-MODIFIED:20260224T194103Z
UID:10005076-1894645800-1894651200@restorationchurchcarolinas.org
SUMMARY:Apologetics Book Club
DESCRIPTION:The Monday night book club meets at 6:30 each week at Panera Bread Indian Land\, SC.
URL:https://restorationchurchcarolinas.org/calendar/apologetics-book-club-2-2-2-2-2-2-2-2-2-2-2-2-2-2-2-2-2-2/2030-01-14/
LOCATION:Panera Bread\, 7756 Charlotte Hwy\, Indian Land\, SC\, 29707\, United States
CATEGORIES:Restoration Church
ATTACH;FMTTYPE=image/webp:https://restorationchurchcarolinas.org/wp-content/uploads/2026/02/RC-Apologetics-Book-Club-Leader-Screwtape-Letters-C-S-Lewis-26leader-2.webp
ORGANIZER;CN="Restoration Church":MAILTO:info@restorationchurchcarolinas.com
END:VEVENT
BEGIN:VEVENT
DTSTART;TZID=America/New_York:20300116T190000
DTEND;TZID=America/New_York:20300116T200000
DTSTAMP:20260420T061119
CREATED:20250516T122636Z
LAST-MODIFIED:20251218T151354Z
UID:10001975-1894820400-1894824000@restorationchurchcarolinas.org
SUMMARY:Let's Talk Online Bible Study
DESCRIPTION:Wednesdays @ 7PM on YouTube & Facebook.
URL:https://restorationchurchcarolinas.org/calendar/lets-talk-online-bible-study-2/2030-01-16/
LOCATION:Online
CATEGORIES:Restoration Church
ATTACH;FMTTYPE=image/webp:https://restorationchurchcarolinas.org/wp-content/uploads/2025/12/RC-Weekly-TuneIn-January-2026-5.webp
ORGANIZER;CN="Restoration Church":MAILTO:info@restorationchurchcarolinas.com
END:VEVENT
BEGIN:VEVENT
DTSTART;TZID=America/New_York:20300120T093000
DTEND;TZID=America/New_York:20300120T101500
DTSTAMP:20260420T061119
CREATED:20250516T122019Z
LAST-MODIFIED:20251218T151227Z
UID:10001697-1895131800-1895134500@restorationchurchcarolinas.org
SUMMARY:Sunday School
DESCRIPTION:Join us every Sunday @ 9:30 am. We have Sunday School classes for all ages!
URL:https://restorationchurchcarolinas.org/calendar/sunday-school-2/2030-01-20/
LOCATION:Restoration Church\, 8365 Possum Hollow Rd\, Fort Mill\, South Carolina\, 29707\, United States
CATEGORIES:Restoration Church
ATTACH;FMTTYPE=image/webp:https://restorationchurchcarolinas.org/wp-content/uploads/2025/12/great-bible-study-fort-mill-sc.webp
ORGANIZER;CN="Restoration Church":MAILTO:info@restorationchurchcarolinas.com
END:VEVENT
BEGIN:VEVENT
DTSTART;TZID=America/New_York:20300120T103000
DTEND;TZID=America/New_York:20300120T120000
DTSTAMP:20260420T061119
CREATED:20250407T113507Z
LAST-MODIFIED:20251218T151254Z
UID:10001682-1895135400-1895140800@restorationchurchcarolinas.org
SUMMARY:Sunday Worship
DESCRIPTION:Every Sunday @ 10:30am! Watch Live via Livestream\, YouTube\, or Facebook!
URL:https://restorationchurchcarolinas.org/calendar/sunday-worship-2/2030-01-20/
LOCATION:Restoration Church\, 8365 Possum Hollow Rd\, Fort Mill\, South Carolina\, 29707\, United States
CATEGORIES:Restoration Church
ATTACH;FMTTYPE=image/webp:https://restorationchurchcarolinas.org/wp-content/uploads/2025/12/best-worship-fort-mill-sc-restoration-church.webp
ORGANIZER;CN="Restoration Church":MAILTO:info@restorationchurchcarolinas.com
END:VEVENT
BEGIN:VEVENT
DTSTART;TZID=UTC:20300121T183000
DTEND;TZID=UTC:20300121T200000
DTSTAMP:20260420T061119
CREATED:20260212T221824Z
LAST-MODIFIED:20260224T194103Z
UID:10005077-1895250600-1895256000@restorationchurchcarolinas.org
SUMMARY:Apologetics Book Club
DESCRIPTION:The Monday night book club meets at 6:30 each week at Panera Bread Indian Land\, SC.
URL:https://restorationchurchcarolinas.org/calendar/apologetics-book-club-2-2-2-2-2-2-2-2-2-2-2-2-2-2-2-2-2-2/2030-01-21/
LOCATION:Panera Bread\, 7756 Charlotte Hwy\, Indian Land\, SC\, 29707\, United States
CATEGORIES:Restoration Church
ATTACH;FMTTYPE=image/webp:https://restorationchurchcarolinas.org/wp-content/uploads/2026/02/RC-Apologetics-Book-Club-Leader-Screwtape-Letters-C-S-Lewis-26leader-2.webp
ORGANIZER;CN="Restoration Church":MAILTO:info@restorationchurchcarolinas.com
END:VEVENT
BEGIN:VEVENT
DTSTART;TZID=America/New_York:20300123T190000
DTEND;TZID=America/New_York:20300123T200000
DTSTAMP:20260420T061119
CREATED:20250516T122636Z
LAST-MODIFIED:20251218T151354Z
UID:10001976-1895425200-1895428800@restorationchurchcarolinas.org
SUMMARY:Let's Talk Online Bible Study
DESCRIPTION:Wednesdays @ 7PM on YouTube & Facebook.
URL:https://restorationchurchcarolinas.org/calendar/lets-talk-online-bible-study-2/2030-01-23/
LOCATION:Online
CATEGORIES:Restoration Church
ATTACH;FMTTYPE=image/webp:https://restorationchurchcarolinas.org/wp-content/uploads/2025/12/RC-Weekly-TuneIn-January-2026-5.webp
ORGANIZER;CN="Restoration Church":MAILTO:info@restorationchurchcarolinas.com
END:VEVENT
BEGIN:VEVENT
DTSTART;TZID=America/New_York:20300127T093000
DTEND;TZID=America/New_York:20300127T101500
DTSTAMP:20260420T061119
CREATED:20250516T122019Z
LAST-MODIFIED:20251218T151227Z
UID:10001698-1895736600-1895739300@restorationchurchcarolinas.org
SUMMARY:Sunday School
DESCRIPTION:Join us every Sunday @ 9:30 am. We have Sunday School classes for all ages!
URL:https://restorationchurchcarolinas.org/calendar/sunday-school-2/2030-01-27/
LOCATION:Restoration Church\, 8365 Possum Hollow Rd\, Fort Mill\, South Carolina\, 29707\, United States
CATEGORIES:Restoration Church
ATTACH;FMTTYPE=image/webp:https://restorationchurchcarolinas.org/wp-content/uploads/2025/12/great-bible-study-fort-mill-sc.webp
ORGANIZER;CN="Restoration Church":MAILTO:info@restorationchurchcarolinas.com
END:VEVENT
BEGIN:VEVENT
DTSTART;TZID=America/New_York:20300127T103000
DTEND;TZID=America/New_York:20300127T120000
DTSTAMP:20260420T061119
CREATED:20250407T113507Z
LAST-MODIFIED:20251218T151254Z
UID:10001683-1895740200-1895745600@restorationchurchcarolinas.org
SUMMARY:Sunday Worship
DESCRIPTION:Every Sunday @ 10:30am! Watch Live via Livestream\, YouTube\, or Facebook!
URL:https://restorationchurchcarolinas.org/calendar/sunday-worship-2/2030-01-27/
LOCATION:Restoration Church\, 8365 Possum Hollow Rd\, Fort Mill\, South Carolina\, 29707\, United States
CATEGORIES:Restoration Church
ATTACH;FMTTYPE=image/webp:https://restorationchurchcarolinas.org/wp-content/uploads/2025/12/best-worship-fort-mill-sc-restoration-church.webp
ORGANIZER;CN="Restoration Church":MAILTO:info@restorationchurchcarolinas.com
END:VEVENT
BEGIN:VEVENT
DTSTART;TZID=UTC:20300128T183000
DTEND;TZID=UTC:20300128T200000
DTSTAMP:20260420T061119
CREATED:20260212T221824Z
LAST-MODIFIED:20260224T194103Z
UID:10005078-1895855400-1895860800@restorationchurchcarolinas.org
SUMMARY:Apologetics Book Club
DESCRIPTION:The Monday night book club meets at 6:30 each week at Panera Bread Indian Land\, SC.
URL:https://restorationchurchcarolinas.org/calendar/apologetics-book-club-2-2-2-2-2-2-2-2-2-2-2-2-2-2-2-2-2-2/2030-01-28/
LOCATION:Panera Bread\, 7756 Charlotte Hwy\, Indian Land\, SC\, 29707\, United States
CATEGORIES:Restoration Church
ATTACH;FMTTYPE=image/webp:https://restorationchurchcarolinas.org/wp-content/uploads/2026/02/RC-Apologetics-Book-Club-Leader-Screwtape-Letters-C-S-Lewis-26leader-2.webp
ORGANIZER;CN="Restoration Church":MAILTO:info@restorationchurchcarolinas.com
END:VEVENT
BEGIN:VEVENT
DTSTART;TZID=America/New_York:20300130T190000
DTEND;TZID=America/New_York:20300130T200000
DTSTAMP:20260420T061119
CREATED:20250516T122636Z
LAST-MODIFIED:20251218T151354Z
UID:10001977-1896030000-1896033600@restorationchurchcarolinas.org
SUMMARY:Let's Talk Online Bible Study
DESCRIPTION:Wednesdays @ 7PM on YouTube & Facebook.
URL:https://restorationchurchcarolinas.org/calendar/lets-talk-online-bible-study-2/2030-01-30/
LOCATION:Online
CATEGORIES:Restoration Church
ATTACH;FMTTYPE=image/webp:https://restorationchurchcarolinas.org/wp-content/uploads/2025/12/RC-Weekly-TuneIn-January-2026-5.webp
ORGANIZER;CN="Restoration Church":MAILTO:info@restorationchurchcarolinas.com
END:VEVENT
END:VCALENDAR