BEGIN:VCALENDAR
VERSION:2.0
PRODID:-//Restoration Church l Faith-filled Church in Fort Mill SC - ECPv6.15.18//NONSGML v1.0//EN
CALSCALE:GREGORIAN
METHOD:PUBLISH
X-ORIGINAL-URL:https://restorationchurchcarolinas.org
X-WR-CALDESC:Events for Restoration Church l Faith-filled Church in Fort Mill SC
REFRESH-INTERVAL;VALUE=DURATION:PT1H
X-Robots-Tag:noindex
X-PUBLISHED-TTL:PT1H
BEGIN:VTIMEZONE
TZID:America/New_York
BEGIN:DAYLIGHT
TZOFFSETFROM:-0500
TZOFFSETTO:-0400
TZNAME:EDT
DTSTART:20250309T070000
END:DAYLIGHT
BEGIN:STANDARD
TZOFFSETFROM:-0400
TZOFFSETTO:-0500
TZNAME:EST
DTSTART:20251102T060000
END:STANDARD
BEGIN:DAYLIGHT
TZOFFSETFROM:-0500
TZOFFSETTO:-0400
TZNAME:EDT
DTSTART:20260308T070000
END:DAYLIGHT
BEGIN:STANDARD
TZOFFSETFROM:-0400
TZOFFSETTO:-0500
TZNAME:EST
DTSTART:20261101T060000
END:STANDARD
BEGIN:DAYLIGHT
TZOFFSETFROM:-0500
TZOFFSETTO:-0400
TZNAME:EDT
DTSTART:20270314T070000
END:DAYLIGHT
BEGIN:STANDARD
TZOFFSETFROM:-0400
TZOFFSETTO:-0500
TZNAME:EST
DTSTART:20271107T060000
END:STANDARD
END:VTIMEZONE
BEGIN:VEVENT
DTSTART;TZID=America/New_York:20260701T190000
DTEND;TZID=America/New_York:20260701T210000
DTSTAMP:20260423T010536
CREATED:20250830T202521Z
LAST-MODIFIED:20250830T202521Z
UID:10004002-1782932400-1782939600@restorationchurchcarolinas.org
SUMMARY:Praise Team/Choir Rehearsal
DESCRIPTION:Praise Team Rehearsal / Choir Rehearsal 7:00 – 9:00 pm in the Sanctuary
URL:https://restorationchurchcarolinas.org/calendar/praise-team-choir-rehearsal-2-2-2-2-2-2-2-2/2026-07-01/
LOCATION:Sanctuary\, 8365 Possum Hollow Rd\, Fort Mill\, SC\, 29707\, United States
CATEGORIES:Music Ministry
ATTACH;FMTTYPE=image/webp:https://restorationchurchcarolinas.org/wp-content/uploads/2025/08/praise-team-rc-scaled.webp
END:VEVENT
BEGIN:VEVENT
DTSTART;TZID=America/New_York:20260708T190000
DTEND;TZID=America/New_York:20260708T210000
DTSTAMP:20260423T010536
CREATED:20250830T202521Z
LAST-MODIFIED:20250830T202521Z
UID:10004003-1783537200-1783544400@restorationchurchcarolinas.org
SUMMARY:Praise Team/Choir Rehearsal
DESCRIPTION:Praise Team Rehearsal / Choir Rehearsal 7:00 – 9:00 pm in the Sanctuary
URL:https://restorationchurchcarolinas.org/calendar/praise-team-choir-rehearsal-2-2-2-2-2-2-2-2/2026-07-08/
LOCATION:Sanctuary\, 8365 Possum Hollow Rd\, Fort Mill\, SC\, 29707\, United States
CATEGORIES:Music Ministry
ATTACH;FMTTYPE=image/webp:https://restorationchurchcarolinas.org/wp-content/uploads/2025/08/praise-team-rc-scaled.webp
END:VEVENT
BEGIN:VEVENT
DTSTART;TZID=America/New_York:20260715T190000
DTEND;TZID=America/New_York:20260715T210000
DTSTAMP:20260423T010536
CREATED:20250830T202521Z
LAST-MODIFIED:20250830T202521Z
UID:10004004-1784142000-1784149200@restorationchurchcarolinas.org
SUMMARY:Praise Team/Choir Rehearsal
DESCRIPTION:Praise Team Rehearsal / Choir Rehearsal 7:00 – 9:00 pm in the Sanctuary
URL:https://restorationchurchcarolinas.org/calendar/praise-team-choir-rehearsal-2-2-2-2-2-2-2-2/2026-07-15/
LOCATION:Sanctuary\, 8365 Possum Hollow Rd\, Fort Mill\, SC\, 29707\, United States
CATEGORIES:Music Ministry
ATTACH;FMTTYPE=image/webp:https://restorationchurchcarolinas.org/wp-content/uploads/2025/08/praise-team-rc-scaled.webp
END:VEVENT
BEGIN:VEVENT
DTSTART;TZID=America/New_York:20260722T190000
DTEND;TZID=America/New_York:20260722T210000
DTSTAMP:20260423T010536
CREATED:20250830T202521Z
LAST-MODIFIED:20250830T202521Z
UID:10004005-1784746800-1784754000@restorationchurchcarolinas.org
SUMMARY:Praise Team/Choir Rehearsal
DESCRIPTION:Praise Team Rehearsal / Choir Rehearsal 7:00 – 9:00 pm in the Sanctuary
URL:https://restorationchurchcarolinas.org/calendar/praise-team-choir-rehearsal-2-2-2-2-2-2-2-2/2026-07-22/
LOCATION:Sanctuary\, 8365 Possum Hollow Rd\, Fort Mill\, SC\, 29707\, United States
CATEGORIES:Music Ministry
ATTACH;FMTTYPE=image/webp:https://restorationchurchcarolinas.org/wp-content/uploads/2025/08/praise-team-rc-scaled.webp
END:VEVENT
BEGIN:VEVENT
DTSTART;TZID=America/New_York:20260729T190000
DTEND;TZID=America/New_York:20260729T210000
DTSTAMP:20260423T010536
CREATED:20250830T202521Z
LAST-MODIFIED:20250830T202521Z
UID:10004006-1785351600-1785358800@restorationchurchcarolinas.org
SUMMARY:Praise Team/Choir Rehearsal
DESCRIPTION:Praise Team Rehearsal / Choir Rehearsal 7:00 – 9:00 pm in the Sanctuary
URL:https://restorationchurchcarolinas.org/calendar/praise-team-choir-rehearsal-2-2-2-2-2-2-2-2/2026-07-29/
LOCATION:Sanctuary\, 8365 Possum Hollow Rd\, Fort Mill\, SC\, 29707\, United States
CATEGORIES:Music Ministry
ATTACH;FMTTYPE=image/webp:https://restorationchurchcarolinas.org/wp-content/uploads/2025/08/praise-team-rc-scaled.webp
END:VEVENT
END:VCALENDAR