BEGIN:VCALENDAR
VERSION:2.0
PRODID:-//Restoration Church l Faith-filled Church in Fort Mill SC - ECPv6.15.18//NONSGML v1.0//EN
CALSCALE:GREGORIAN
METHOD:PUBLISH
X-WR-CALNAME:Restoration Church l Faith-filled Church in Fort Mill SC
X-ORIGINAL-URL:https://restorationchurchcarolinas.org
X-WR-CALDESC:Events for Restoration Church l Faith-filled Church in Fort Mill SC
REFRESH-INTERVAL;VALUE=DURATION:PT1H
X-Robots-Tag:noindex
X-PUBLISHED-TTL:PT1H
BEGIN:VTIMEZONE
TZID:America/New_York
BEGIN:DAYLIGHT
TZOFFSETFROM:-0500
TZOFFSETTO:-0400
TZNAME:EDT
DTSTART:20240310T070000
END:DAYLIGHT
BEGIN:STANDARD
TZOFFSETFROM:-0400
TZOFFSETTO:-0500
TZNAME:EST
DTSTART:20241103T060000
END:STANDARD
BEGIN:DAYLIGHT
TZOFFSETFROM:-0500
TZOFFSETTO:-0400
TZNAME:EDT
DTSTART:20250309T070000
END:DAYLIGHT
BEGIN:STANDARD
TZOFFSETFROM:-0400
TZOFFSETTO:-0500
TZNAME:EST
DTSTART:20251102T060000
END:STANDARD
BEGIN:DAYLIGHT
TZOFFSETFROM:-0500
TZOFFSETTO:-0400
TZNAME:EDT
DTSTART:20260308T070000
END:DAYLIGHT
BEGIN:STANDARD
TZOFFSETFROM:-0400
TZOFFSETTO:-0500
TZNAME:EST
DTSTART:20261101T060000
END:STANDARD
END:VTIMEZONE
BEGIN:VEVENT
DTSTART;TZID=America/New_York:20250203T110000
DTEND;TZID=America/New_York:20250203T130000
DTSTAMP:20260419T154302
CREATED:20241219T143923Z
LAST-MODIFIED:20241219T144258Z
UID:10000343-1738580400-1738587600@restorationchurchcarolinas.org
SUMMARY:GriefShare led by Patti Stanford
DESCRIPTION:You don’t have to go through the grieving process alone. Find help at GriefShare.
URL:https://restorationchurchcarolinas.org/calendar/griefshare-2/2025-02-03/
LOCATION:Restoration Church\, 8365 Possum Hollow Rd\, Fort Mill\, South Carolina\, 29707\, United States
CATEGORIES:GriefShare
ATTACH;FMTTYPE=image/jpeg:https://restorationchurchcarolinas.org/wp-content/uploads/2024/10/grief-share-church-counseling-fort-mill-scaled.jpg
ORGANIZER;CN="GriefShare":MAILTO:info@restorationchurchcarolinas.com
END:VEVENT
BEGIN:VEVENT
DTSTART;TZID=America/New_York:20250205T183000
DTEND;TZID=America/New_York:20250205T203000
DTSTAMP:20260419T154302
CREATED:20241219T144225Z
LAST-MODIFIED:20241219T144225Z
UID:10000369-1738780200-1738787400@restorationchurchcarolinas.org
SUMMARY:GriefShare led by Susan Furr
DESCRIPTION:You don’t have to go through the grieving process alone. Find help at GriefShare.
URL:https://restorationchurchcarolinas.org/calendar/griefshare-led-by-susan-furr/2025-02-05/
LOCATION:Restoration Church\, 8365 Possum Hollow Rd\, Fort Mill\, South Carolina\, 29707\, United States
CATEGORIES:GriefShare
ATTACH;FMTTYPE=image/jpeg:https://restorationchurchcarolinas.org/wp-content/uploads/2024/09/griefshare-churches-fort-mill-sc.jpg
ORGANIZER;CN="GriefShare":MAILTO:info@restorationchurchcarolinas.com
END:VEVENT
BEGIN:VEVENT
DTSTART;TZID=America/New_York:20250210T110000
DTEND;TZID=America/New_York:20250210T130000
DTSTAMP:20260419T154302
CREATED:20241219T143923Z
LAST-MODIFIED:20241219T144258Z
UID:10000344-1739185200-1739192400@restorationchurchcarolinas.org
SUMMARY:GriefShare led by Patti Stanford
DESCRIPTION:You don’t have to go through the grieving process alone. Find help at GriefShare.
URL:https://restorationchurchcarolinas.org/calendar/griefshare-2/2025-02-10/
LOCATION:Restoration Church\, 8365 Possum Hollow Rd\, Fort Mill\, South Carolina\, 29707\, United States
CATEGORIES:GriefShare
ATTACH;FMTTYPE=image/jpeg:https://restorationchurchcarolinas.org/wp-content/uploads/2024/10/grief-share-church-counseling-fort-mill-scaled.jpg
ORGANIZER;CN="GriefShare":MAILTO:info@restorationchurchcarolinas.com
END:VEVENT
BEGIN:VEVENT
DTSTART;TZID=America/New_York:20250212T183000
DTEND;TZID=America/New_York:20250212T203000
DTSTAMP:20260419T154302
CREATED:20241219T144225Z
LAST-MODIFIED:20241219T144225Z
UID:10000370-1739385000-1739392200@restorationchurchcarolinas.org
SUMMARY:GriefShare led by Susan Furr
DESCRIPTION:You don’t have to go through the grieving process alone. Find help at GriefShare.
URL:https://restorationchurchcarolinas.org/calendar/griefshare-led-by-susan-furr/2025-02-12/
LOCATION:Restoration Church\, 8365 Possum Hollow Rd\, Fort Mill\, South Carolina\, 29707\, United States
CATEGORIES:GriefShare
ATTACH;FMTTYPE=image/jpeg:https://restorationchurchcarolinas.org/wp-content/uploads/2024/09/griefshare-churches-fort-mill-sc.jpg
ORGANIZER;CN="GriefShare":MAILTO:info@restorationchurchcarolinas.com
END:VEVENT
BEGIN:VEVENT
DTSTART;TZID=America/New_York:20250217T110000
DTEND;TZID=America/New_York:20250217T130000
DTSTAMP:20260419T154302
CREATED:20241219T143923Z
LAST-MODIFIED:20241219T144258Z
UID:10000345-1739790000-1739797200@restorationchurchcarolinas.org
SUMMARY:GriefShare led by Patti Stanford
DESCRIPTION:You don’t have to go through the grieving process alone. Find help at GriefShare.
URL:https://restorationchurchcarolinas.org/calendar/griefshare-2/2025-02-17/
LOCATION:Restoration Church\, 8365 Possum Hollow Rd\, Fort Mill\, South Carolina\, 29707\, United States
CATEGORIES:GriefShare
ATTACH;FMTTYPE=image/jpeg:https://restorationchurchcarolinas.org/wp-content/uploads/2024/10/grief-share-church-counseling-fort-mill-scaled.jpg
ORGANIZER;CN="GriefShare":MAILTO:info@restorationchurchcarolinas.com
END:VEVENT
BEGIN:VEVENT
DTSTART;TZID=America/New_York:20250219T183000
DTEND;TZID=America/New_York:20250219T203000
DTSTAMP:20260419T154302
CREATED:20241219T144225Z
LAST-MODIFIED:20241219T144225Z
UID:10000371-1739989800-1739997000@restorationchurchcarolinas.org
SUMMARY:GriefShare led by Susan Furr
DESCRIPTION:You don’t have to go through the grieving process alone. Find help at GriefShare.
URL:https://restorationchurchcarolinas.org/calendar/griefshare-led-by-susan-furr/2025-02-19/
LOCATION:Restoration Church\, 8365 Possum Hollow Rd\, Fort Mill\, South Carolina\, 29707\, United States
CATEGORIES:GriefShare
ATTACH;FMTTYPE=image/jpeg:https://restorationchurchcarolinas.org/wp-content/uploads/2024/09/griefshare-churches-fort-mill-sc.jpg
ORGANIZER;CN="GriefShare":MAILTO:info@restorationchurchcarolinas.com
END:VEVENT
BEGIN:VEVENT
DTSTART;TZID=America/New_York:20250224T110000
DTEND;TZID=America/New_York:20250224T130000
DTSTAMP:20260419T154302
CREATED:20241219T143923Z
LAST-MODIFIED:20241219T144258Z
UID:10000346-1740394800-1740402000@restorationchurchcarolinas.org
SUMMARY:GriefShare led by Patti Stanford
DESCRIPTION:You don’t have to go through the grieving process alone. Find help at GriefShare.
URL:https://restorationchurchcarolinas.org/calendar/griefshare-2/2025-02-24/
LOCATION:Restoration Church\, 8365 Possum Hollow Rd\, Fort Mill\, South Carolina\, 29707\, United States
CATEGORIES:GriefShare
ATTACH;FMTTYPE=image/jpeg:https://restorationchurchcarolinas.org/wp-content/uploads/2024/10/grief-share-church-counseling-fort-mill-scaled.jpg
ORGANIZER;CN="GriefShare":MAILTO:info@restorationchurchcarolinas.com
END:VEVENT
BEGIN:VEVENT
DTSTART;TZID=America/New_York:20250226T183000
DTEND;TZID=America/New_York:20250226T203000
DTSTAMP:20260419T154302
CREATED:20241219T144225Z
LAST-MODIFIED:20241219T144225Z
UID:10000372-1740594600-1740601800@restorationchurchcarolinas.org
SUMMARY:GriefShare led by Susan Furr
DESCRIPTION:You don’t have to go through the grieving process alone. Find help at GriefShare.
URL:https://restorationchurchcarolinas.org/calendar/griefshare-led-by-susan-furr/2025-02-26/
LOCATION:Restoration Church\, 8365 Possum Hollow Rd\, Fort Mill\, South Carolina\, 29707\, United States
CATEGORIES:GriefShare
ATTACH;FMTTYPE=image/jpeg:https://restorationchurchcarolinas.org/wp-content/uploads/2024/09/griefshare-churches-fort-mill-sc.jpg
ORGANIZER;CN="GriefShare":MAILTO:info@restorationchurchcarolinas.com
END:VEVENT
END:VCALENDAR