BEGIN:VCALENDAR
VERSION:2.0
PRODID:-//Restoration Church l Faith-filled Church in Fort Mill SC - ECPv6.15.18//NONSGML v1.0//EN
CALSCALE:GREGORIAN
METHOD:PUBLISH
X-ORIGINAL-URL:https://restorationchurchcarolinas.org
X-WR-CALDESC:Events for Restoration Church l Faith-filled Church in Fort Mill SC
REFRESH-INTERVAL;VALUE=DURATION:PT1H
X-Robots-Tag:noindex
X-PUBLISHED-TTL:PT1H
BEGIN:VTIMEZONE
TZID:America/New_York
BEGIN:DAYLIGHT
TZOFFSETFROM:-0500
TZOFFSETTO:-0400
TZNAME:EDT
DTSTART:20240310T070000
END:DAYLIGHT
BEGIN:STANDARD
TZOFFSETFROM:-0400
TZOFFSETTO:-0500
TZNAME:EST
DTSTART:20241103T060000
END:STANDARD
BEGIN:DAYLIGHT
TZOFFSETFROM:-0500
TZOFFSETTO:-0400
TZNAME:EDT
DTSTART:20250309T070000
END:DAYLIGHT
BEGIN:STANDARD
TZOFFSETFROM:-0400
TZOFFSETTO:-0500
TZNAME:EST
DTSTART:20251102T060000
END:STANDARD
BEGIN:DAYLIGHT
TZOFFSETFROM:-0500
TZOFFSETTO:-0400
TZNAME:EDT
DTSTART:20260308T070000
END:DAYLIGHT
BEGIN:STANDARD
TZOFFSETFROM:-0400
TZOFFSETTO:-0500
TZNAME:EST
DTSTART:20261101T060000
END:STANDARD
END:VTIMEZONE
BEGIN:VEVENT
DTSTART;TZID=America/New_York:20250106T110000
DTEND;TZID=America/New_York:20250106T130000
DTSTAMP:20260419T223120
CREATED:20241219T143923Z
LAST-MODIFIED:20241219T144258Z
UID:10000104-1736161200-1736168400@restorationchurchcarolinas.org
SUMMARY:GriefShare led by Patti Stanford
DESCRIPTION:You don’t have to go through the grieving process alone. Find help at GriefShare.
URL:https://restorationchurchcarolinas.org/calendar/griefshare-2/2025-01-06/
LOCATION:Restoration Church\, 8365 Possum Hollow Rd\, Fort Mill\, South Carolina\, 29707\, United States
CATEGORIES:GriefShare
ATTACH;FMTTYPE=image/jpeg:https://restorationchurchcarolinas.org/wp-content/uploads/2024/10/grief-share-church-counseling-fort-mill-scaled.jpg
ORGANIZER;CN="GriefShare":MAILTO:info@restorationchurchcarolinas.com
END:VEVENT
BEGIN:VEVENT
DTSTART;TZID=America/New_York:20250108T183000
DTEND;TZID=America/New_York:20250108T203000
DTSTAMP:20260419T223120
CREATED:20241219T144225Z
LAST-MODIFIED:20241219T144225Z
UID:10000365-1736361000-1736368200@restorationchurchcarolinas.org
SUMMARY:GriefShare led by Susan Furr
DESCRIPTION:You don’t have to go through the grieving process alone. Find help at GriefShare.
URL:https://restorationchurchcarolinas.org/calendar/griefshare-led-by-susan-furr/2025-01-08/
LOCATION:Restoration Church\, 8365 Possum Hollow Rd\, Fort Mill\, South Carolina\, 29707\, United States
CATEGORIES:GriefShare
ATTACH;FMTTYPE=image/jpeg:https://restorationchurchcarolinas.org/wp-content/uploads/2024/09/griefshare-churches-fort-mill-sc.jpg
ORGANIZER;CN="GriefShare":MAILTO:info@restorationchurchcarolinas.com
END:VEVENT
BEGIN:VEVENT
DTSTART;TZID=America/New_York:20250113T110000
DTEND;TZID=America/New_York:20250113T130000
DTSTAMP:20260419T223120
CREATED:20241219T143923Z
LAST-MODIFIED:20241219T144258Z
UID:10000340-1736766000-1736773200@restorationchurchcarolinas.org
SUMMARY:GriefShare led by Patti Stanford
DESCRIPTION:You don’t have to go through the grieving process alone. Find help at GriefShare.
URL:https://restorationchurchcarolinas.org/calendar/griefshare-2/2025-01-13/
LOCATION:Restoration Church\, 8365 Possum Hollow Rd\, Fort Mill\, South Carolina\, 29707\, United States
CATEGORIES:GriefShare
ATTACH;FMTTYPE=image/jpeg:https://restorationchurchcarolinas.org/wp-content/uploads/2024/10/grief-share-church-counseling-fort-mill-scaled.jpg
ORGANIZER;CN="GriefShare":MAILTO:info@restorationchurchcarolinas.com
END:VEVENT
BEGIN:VEVENT
DTSTART;TZID=America/New_York:20250115T183000
DTEND;TZID=America/New_York:20250115T203000
DTSTAMP:20260419T223120
CREATED:20241219T144225Z
LAST-MODIFIED:20241219T144225Z
UID:10000366-1736965800-1736973000@restorationchurchcarolinas.org
SUMMARY:GriefShare led by Susan Furr
DESCRIPTION:You don’t have to go through the grieving process alone. Find help at GriefShare.
URL:https://restorationchurchcarolinas.org/calendar/griefshare-led-by-susan-furr/2025-01-15/
LOCATION:Restoration Church\, 8365 Possum Hollow Rd\, Fort Mill\, South Carolina\, 29707\, United States
CATEGORIES:GriefShare
ATTACH;FMTTYPE=image/jpeg:https://restorationchurchcarolinas.org/wp-content/uploads/2024/09/griefshare-churches-fort-mill-sc.jpg
ORGANIZER;CN="GriefShare":MAILTO:info@restorationchurchcarolinas.com
END:VEVENT
BEGIN:VEVENT
DTSTART;TZID=America/New_York:20250120T110000
DTEND;TZID=America/New_York:20250120T130000
DTSTAMP:20260419T223120
CREATED:20241219T143923Z
LAST-MODIFIED:20241219T144258Z
UID:10000341-1737370800-1737378000@restorationchurchcarolinas.org
SUMMARY:GriefShare led by Patti Stanford
DESCRIPTION:You don’t have to go through the grieving process alone. Find help at GriefShare.
URL:https://restorationchurchcarolinas.org/calendar/griefshare-2/2025-01-20/
LOCATION:Restoration Church\, 8365 Possum Hollow Rd\, Fort Mill\, South Carolina\, 29707\, United States
CATEGORIES:GriefShare
ATTACH;FMTTYPE=image/jpeg:https://restorationchurchcarolinas.org/wp-content/uploads/2024/10/grief-share-church-counseling-fort-mill-scaled.jpg
ORGANIZER;CN="GriefShare":MAILTO:info@restorationchurchcarolinas.com
END:VEVENT
BEGIN:VEVENT
DTSTART;TZID=America/New_York:20250122T183000
DTEND;TZID=America/New_York:20250122T203000
DTSTAMP:20260419T223120
CREATED:20241219T144225Z
LAST-MODIFIED:20241219T144225Z
UID:10000367-1737570600-1737577800@restorationchurchcarolinas.org
SUMMARY:GriefShare led by Susan Furr
DESCRIPTION:You don’t have to go through the grieving process alone. Find help at GriefShare.
URL:https://restorationchurchcarolinas.org/calendar/griefshare-led-by-susan-furr/2025-01-22/
LOCATION:Restoration Church\, 8365 Possum Hollow Rd\, Fort Mill\, South Carolina\, 29707\, United States
CATEGORIES:GriefShare
ATTACH;FMTTYPE=image/jpeg:https://restorationchurchcarolinas.org/wp-content/uploads/2024/09/griefshare-churches-fort-mill-sc.jpg
ORGANIZER;CN="GriefShare":MAILTO:info@restorationchurchcarolinas.com
END:VEVENT
BEGIN:VEVENT
DTSTART;TZID=America/New_York:20250127T110000
DTEND;TZID=America/New_York:20250127T130000
DTSTAMP:20260419T223120
CREATED:20241219T143923Z
LAST-MODIFIED:20241219T144258Z
UID:10000342-1737975600-1737982800@restorationchurchcarolinas.org
SUMMARY:GriefShare led by Patti Stanford
DESCRIPTION:You don’t have to go through the grieving process alone. Find help at GriefShare.
URL:https://restorationchurchcarolinas.org/calendar/griefshare-2/2025-01-27/
LOCATION:Restoration Church\, 8365 Possum Hollow Rd\, Fort Mill\, South Carolina\, 29707\, United States
CATEGORIES:GriefShare
ATTACH;FMTTYPE=image/jpeg:https://restorationchurchcarolinas.org/wp-content/uploads/2024/10/grief-share-church-counseling-fort-mill-scaled.jpg
ORGANIZER;CN="GriefShare":MAILTO:info@restorationchurchcarolinas.com
END:VEVENT
BEGIN:VEVENT
DTSTART;TZID=America/New_York:20250129T183000
DTEND;TZID=America/New_York:20250129T203000
DTSTAMP:20260419T223120
CREATED:20241219T144225Z
LAST-MODIFIED:20241219T144225Z
UID:10000368-1738175400-1738182600@restorationchurchcarolinas.org
SUMMARY:GriefShare led by Susan Furr
DESCRIPTION:You don’t have to go through the grieving process alone. Find help at GriefShare.
URL:https://restorationchurchcarolinas.org/calendar/griefshare-led-by-susan-furr/2025-01-29/
LOCATION:Restoration Church\, 8365 Possum Hollow Rd\, Fort Mill\, South Carolina\, 29707\, United States
CATEGORIES:GriefShare
ATTACH;FMTTYPE=image/jpeg:https://restorationchurchcarolinas.org/wp-content/uploads/2024/09/griefshare-churches-fort-mill-sc.jpg
ORGANIZER;CN="GriefShare":MAILTO:info@restorationchurchcarolinas.com
END:VEVENT
END:VCALENDAR