BEGIN:VCALENDAR
VERSION:2.0
PRODID:-//Restoration Church l Faith-filled Church in Fort Mill SC - ECPv6.15.18//NONSGML v1.0//EN
CALSCALE:GREGORIAN
METHOD:PUBLISH
X-WR-CALNAME:Restoration Church l Faith-filled Church in Fort Mill SC
X-ORIGINAL-URL:https://restorationchurchcarolinas.org
X-WR-CALDESC:Events for Restoration Church l Faith-filled Church in Fort Mill SC
REFRESH-INTERVAL;VALUE=DURATION:PT1H
X-Robots-Tag:noindex
X-PUBLISHED-TTL:PT1H
BEGIN:VTIMEZONE
TZID:America/New_York
BEGIN:DAYLIGHT
TZOFFSETFROM:-0500
TZOFFSETTO:-0400
TZNAME:EDT
DTSTART:20230312T070000
END:DAYLIGHT
BEGIN:STANDARD
TZOFFSETFROM:-0400
TZOFFSETTO:-0500
TZNAME:EST
DTSTART:20231105T060000
END:STANDARD
BEGIN:DAYLIGHT
TZOFFSETFROM:-0500
TZOFFSETTO:-0400
TZNAME:EDT
DTSTART:20240310T070000
END:DAYLIGHT
BEGIN:STANDARD
TZOFFSETFROM:-0400
TZOFFSETTO:-0500
TZNAME:EST
DTSTART:20241103T060000
END:STANDARD
BEGIN:DAYLIGHT
TZOFFSETFROM:-0500
TZOFFSETTO:-0400
TZNAME:EDT
DTSTART:20250309T070000
END:DAYLIGHT
BEGIN:STANDARD
TZOFFSETFROM:-0400
TZOFFSETTO:-0500
TZNAME:EST
DTSTART:20251102T060000
END:STANDARD
END:VTIMEZONE
BEGIN:VTIMEZONE
TZID:UTC
BEGIN:STANDARD
TZOFFSETFROM:+0000
TZOFFSETTO:+0000
TZNAME:UTC
DTSTART:20230101T000000
END:STANDARD
END:VTIMEZONE
BEGIN:VEVENT
DTSTART;TZID=America/New_York:20241008T180000
DTEND;TZID=America/New_York:20241008T190000
DTSTAMP:20260422T115820
CREATED:20241001T200049Z
LAST-MODIFIED:20241002T063841Z
UID:10000191-1728410400-1728414000@restorationchurchcarolinas.org
SUMMARY:God's Weigh Exercise Class for Women
DESCRIPTION:Hey RCC Ladies! Would you like to look and feel great in your clothes and in your own skin? Join fitness coach Marsha Garvin every Tuesday and Thursday from 6PM – 7PM for light aerobics\, stretching\, light weights\, and strength training. Don’t just feed your spirit. Strengthen your body too. Sign up online today at info@restorationchurchcarolinas.com or at the Welcome Desk.
URL:https://restorationchurchcarolinas.org/calendar/gods-weigh-exercise-class-for-women/2024-10-08/
LOCATION:Restoration Church\, 8365 Possum Hollow Rd\, Fort Mill\, South Carolina\, 29707\, United States
CATEGORIES:Fitness,Women's Ministry
ATTACH;FMTTYPE=image/avif:https://restorationchurchcarolinas.org/wp-content/uploads/2021/01/gods-weigh-fort-mill-sc.avif
ORGANIZER;CN="Women's Ministry":MAILTO:info@restorationchurchcarolinas.com
END:VEVENT
BEGIN:VEVENT
DTSTART;TZID=America/New_York:20241003T180000
DTEND;TZID=America/New_York:20241003T190000
DTSTAMP:20260422T115820
CREATED:20241001T202548Z
LAST-MODIFIED:20241002T063929Z
UID:10000016-1727978400-1727982000@restorationchurchcarolinas.org
SUMMARY:God's Weigh Exercise Class for Women
DESCRIPTION:Hey RCC Ladies! Would you like to look and feel great in your clothes and in your own skin? Join fitness coach Marsha Garvin every Tuesday and Thursday from 6PM – 7PM for light aerobics\, stretching\, light weights\, and strength training. Don’t just feed your spirit. Strengthen your body too. Sign up online today at info@restorationchurchcarolinas.com or at the Welcome Desk.
URL:https://restorationchurchcarolinas.org/calendar/gods-weigh-exercise-class-for-women-2/2024-10-03/
LOCATION:Restoration Church\, 8365 Possum Hollow Rd\, Fort Mill\, South Carolina\, 29707\, United States
CATEGORIES:Fitness,Women's Ministry
ATTACH;FMTTYPE=image/avif:https://restorationchurchcarolinas.org/wp-content/uploads/2021/01/gods-weigh-fort-mill-sc.avif
ORGANIZER;CN="Women's Ministry":MAILTO:info@restorationchurchcarolinas.com
END:VEVENT
BEGIN:VEVENT
DTSTART;TZID=America/New_York:20241001T180000
DTEND;TZID=America/New_York:20241001T190000
DTSTAMP:20260422T115820
CREATED:20241001T200049Z
LAST-MODIFIED:20241002T063841Z
UID:10000012-1727805600-1727809200@restorationchurchcarolinas.org
SUMMARY:God's Weigh Exercise Class for Women
DESCRIPTION:Hey RCC Ladies! Would you like to look and feel great in your clothes and in your own skin? Join fitness coach Marsha Garvin every Tuesday and Thursday from 6PM – 7PM for light aerobics\, stretching\, light weights\, and strength training. Don’t just feed your spirit. Strengthen your body too. Sign up online today at info@restorationchurchcarolinas.com or at the Welcome Desk.
URL:https://restorationchurchcarolinas.org/calendar/gods-weigh-exercise-class-for-women/2024-10-01/
LOCATION:Restoration Church\, 8365 Possum Hollow Rd\, Fort Mill\, South Carolina\, 29707\, United States
CATEGORIES:Fitness,Women's Ministry
ATTACH;FMTTYPE=image/avif:https://restorationchurchcarolinas.org/wp-content/uploads/2021/01/gods-weigh-fort-mill-sc.avif
ORGANIZER;CN="Women's Ministry":MAILTO:info@restorationchurchcarolinas.com
END:VEVENT
BEGIN:VEVENT
DTSTART;TZID=UTC:20240926T180000
DTEND;TZID=UTC:20240926T190000
DTSTAMP:20260422T115820
CREATED:20240925T222437Z
LAST-MODIFIED:20240925T222437Z
UID:10000004-1727373600-1727377200@restorationchurchcarolinas.org
SUMMARY:God's Weigh - Sept 26th
DESCRIPTION:Hey RCC Ladies! Winter is just around the corner. Would you like to look and feel great in your clothes and in your own skin? Join fitness coach Marsha Garvin every Tuesday and Thursday from 6PM – 7PM for light aerobics\, stretching\, light weights\, and strength training. Don’t just feed your spirit. Strengthen your body too. Sign up online today at info@restorationchurchcarolinas.com or at the Welcome Desk.
URL:https://restorationchurchcarolinas.org/calendar/gods-weigh-sept-26th/
CATEGORIES:Fitness
ATTACH;FMTTYPE=image/avif:https://restorationchurchcarolinas.org/wp-content/uploads/2021/01/gods-weigh-fort-mill-sc.avif
ORGANIZER;CN="Restoration Church":MAILTO:info@restorationchurchcarolinas.com
END:VEVENT
END:VCALENDAR